BEGIN:VCALENDAR
VERSION:2.0
PRODID:-//The Way of the Heart - ECPv6.15.20//NONSGML v1.0//EN
CALSCALE:GREGORIAN
METHOD:PUBLISH
X-ORIGINAL-URL:https://thewayoftheheart.com
X-WR-CALDESC:Events for The Way of the Heart
REFRESH-INTERVAL;VALUE=DURATION:PT1H
X-Robots-Tag:noindex
X-PUBLISHED-TTL:PT1H
BEGIN:VTIMEZONE
TZID:America/Los_Angeles
BEGIN:DAYLIGHT
TZOFFSETFROM:-0800
TZOFFSETTO:-0700
TZNAME:PDT
DTSTART:20220313T100000
END:DAYLIGHT
BEGIN:STANDARD
TZOFFSETFROM:-0700
TZOFFSETTO:-0800
TZNAME:PST
DTSTART:20221106T090000
END:STANDARD
BEGIN:DAYLIGHT
TZOFFSETFROM:-0800
TZOFFSETTO:-0700
TZNAME:PDT
DTSTART:20230312T100000
END:DAYLIGHT
BEGIN:STANDARD
TZOFFSETFROM:-0700
TZOFFSETTO:-0800
TZNAME:PST
DTSTART:20231105T090000
END:STANDARD
BEGIN:DAYLIGHT
TZOFFSETFROM:-0800
TZOFFSETTO:-0700
TZNAME:PDT
DTSTART:20240310T100000
END:DAYLIGHT
BEGIN:STANDARD
TZOFFSETFROM:-0700
TZOFFSETTO:-0800
TZNAME:PST
DTSTART:20241103T090000
END:STANDARD
END:VTIMEZONE
BEGIN:VEVENT
DTSTART;VALUE=DATE:20231118
DTEND;VALUE=DATE:20231120
DTSTAMP:20260424T141622
CREATED:20230114T211156Z
LAST-MODIFIED:20230114T211156Z
UID:1544-1700265600-1700438399@thewayoftheheart.com
SUMMARY:Question of the Global Heart
DESCRIPTION:
URL:https://thewayoftheheart.com/event/question-of-the-global-heart/
LOCATION:Online training via Zoom
CATEGORIES:Advanced class
END:VEVENT
BEGIN:VEVENT
DTSTART;TZID=America/Los_Angeles:20231119T170000
DTEND;TZID=America/Los_Angeles:20231119T181500
DTSTAMP:20260424T141622
CREATED:20230114T211708Z
LAST-MODIFIED:20230114T211708Z
UID:1602-1700413200-1700417700@thewayoftheheart.com
SUMMARY:Inner Life Mission Immersion (Call #39)
DESCRIPTION:5:00 PM to 6:15 PM Pacific Time(6:00 PM – 7:15 PM Mountain; 7:00 PM – 8:15 PM Central; 8:00 PM – 9:15 PM pm Eastern; 9:00 PM – 10:15 PM Atlantic.)
URL:https://thewayoftheheart.com/event/inner-life-mission-immersion-call-39-3/
LOCATION:Telebridge
CATEGORIES:Telebridge
END:VEVENT
END:VCALENDAR