BEGIN:VCALENDAR
VERSION:2.0
PRODID:-//The Way of the Heart - ECPv6.15.20//NONSGML v1.0//EN
CALSCALE:GREGORIAN
METHOD:PUBLISH
X-WR-CALNAME:The Way of the Heart
X-ORIGINAL-URL:https://thewayoftheheart.com
X-WR-CALDESC:Events for The Way of the Heart
REFRESH-INTERVAL;VALUE=DURATION:PT1H
X-Robots-Tag:noindex
X-PUBLISHED-TTL:PT1H
BEGIN:VTIMEZONE
TZID:America/Denver
BEGIN:DAYLIGHT
TZOFFSETFROM:-0700
TZOFFSETTO:-0600
TZNAME:MDT
DTSTART:20230312T090000
END:DAYLIGHT
BEGIN:STANDARD
TZOFFSETFROM:-0600
TZOFFSETTO:-0700
TZNAME:MST
DTSTART:20231105T080000
END:STANDARD
BEGIN:DAYLIGHT
TZOFFSETFROM:-0700
TZOFFSETTO:-0600
TZNAME:MDT
DTSTART:20240310T090000
END:DAYLIGHT
BEGIN:STANDARD
TZOFFSETFROM:-0600
TZOFFSETTO:-0700
TZNAME:MST
DTSTART:20241103T080000
END:STANDARD
BEGIN:DAYLIGHT
TZOFFSETFROM:-0700
TZOFFSETTO:-0600
TZNAME:MDT
DTSTART:20250309T090000
END:DAYLIGHT
BEGIN:STANDARD
TZOFFSETFROM:-0600
TZOFFSETTO:-0700
TZNAME:MST
DTSTART:20251102T080000
END:STANDARD
END:VTIMEZONE
BEGIN:VTIMEZONE
TZID:America/Los_Angeles
BEGIN:DAYLIGHT
TZOFFSETFROM:-0800
TZOFFSETTO:-0700
TZNAME:PDT
DTSTART:20230312T100000
END:DAYLIGHT
BEGIN:STANDARD
TZOFFSETFROM:-0700
TZOFFSETTO:-0800
TZNAME:PST
DTSTART:20231105T090000
END:STANDARD
BEGIN:DAYLIGHT
TZOFFSETFROM:-0800
TZOFFSETTO:-0700
TZNAME:PDT
DTSTART:20240310T100000
END:DAYLIGHT
BEGIN:STANDARD
TZOFFSETFROM:-0700
TZOFFSETTO:-0800
TZNAME:PST
DTSTART:20241103T090000
END:STANDARD
BEGIN:DAYLIGHT
TZOFFSETFROM:-0800
TZOFFSETTO:-0700
TZNAME:PDT
DTSTART:20250309T100000
END:DAYLIGHT
BEGIN:STANDARD
TZOFFSETFROM:-0700
TZOFFSETTO:-0800
TZNAME:PST
DTSTART:20251102T090000
END:STANDARD
END:VTIMEZONE
BEGIN:VEVENT
DTSTART;TZID=America/Denver:20240121T120000
DTEND;TZID=America/Denver:20240121T153000
DTSTAMP:20260424T114815
CREATED:20240202T221323Z
LAST-MODIFIED:20240202T221349Z
UID:1704-1705838400-1705851000@thewayoftheheart.com
SUMMARY:Field Gateway
DESCRIPTION:(1 – 4:30pm Mountain /2 – 5:30pm Central /3 – 6:30pm Eastern /4 – 7:30pm Atlantic)
URL:https://thewayoftheheart.com/event/gateway-2024-01-21/
LOCATION:Zoom
END:VEVENT
BEGIN:VEVENT
DTSTART;TZID=America/Los_Angeles:20240121T170000
DTEND;TZID=America/Los_Angeles:20240121T181500
DTSTAMP:20260424T114815
CREATED:20230114T211738Z
LAST-MODIFIED:20230114T211738Z
UID:1611-1705856400-1705860900@thewayoftheheart.com
SUMMARY:Inner Life Mission Immersion (Call #48)
DESCRIPTION:5:00 PM to 6:15 PM Pacific Time(6:00 PM – 7:15 PM Mountain; 7:00 PM – 8:15 PM Central; 8:00 PM – 9:15 PM pm Eastern; 9:00 PM – 10:15 PM Atlantic.)
URL:https://thewayoftheheart.com/event/inner-life-mission-immersion-call-48-2/
LOCATION:Telebridge
CATEGORIES:Telebridge
END:VEVENT
END:VCALENDAR