BEGIN:VCALENDAR
VERSION:2.0
PRODID:-//The Way of the Heart - ECPv6.15.20//NONSGML v1.0//EN
CALSCALE:GREGORIAN
METHOD:PUBLISH
X-WR-CALNAME:The Way of the Heart
X-ORIGINAL-URL:https://thewayoftheheart.com
X-WR-CALDESC:Events for The Way of the Heart
REFRESH-INTERVAL;VALUE=DURATION:PT1H
X-Robots-Tag:noindex
X-PUBLISHED-TTL:PT1H
BEGIN:VTIMEZONE
TZID:America/Los_Angeles
BEGIN:DAYLIGHT
TZOFFSETFROM:-0800
TZOFFSETTO:-0700
TZNAME:PDT
DTSTART:20250309T100000
END:DAYLIGHT
BEGIN:STANDARD
TZOFFSETFROM:-0700
TZOFFSETTO:-0800
TZNAME:PST
DTSTART:20251102T090000
END:STANDARD
BEGIN:DAYLIGHT
TZOFFSETFROM:-0800
TZOFFSETTO:-0700
TZNAME:PDT
DTSTART:20260308T100000
END:DAYLIGHT
BEGIN:STANDARD
TZOFFSETFROM:-0700
TZOFFSETTO:-0800
TZNAME:PST
DTSTART:20261101T090000
END:STANDARD
BEGIN:DAYLIGHT
TZOFFSETFROM:-0800
TZOFFSETTO:-0700
TZNAME:PDT
DTSTART:20270314T100000
END:DAYLIGHT
BEGIN:STANDARD
TZOFFSETFROM:-0700
TZOFFSETTO:-0800
TZNAME:PST
DTSTART:20271107T090000
END:STANDARD
END:VTIMEZONE
BEGIN:VEVENT
DTSTART;TZID=America/Los_Angeles:20260115T180000
DTEND;TZID=America/Los_Angeles:20260115T193000
DTSTAMP:20260419T174928
CREATED:20251125T190907Z
LAST-MODIFIED:20251125T190907Z
UID:2127-1768500000-1768505400@thewayoftheheart.com
SUMMARY:Life Mission: Masterclass to Mastermind (Call #1)
DESCRIPTION:6:00 PM to 7:30 PM Pacific Time(7:00 PM – 8:30 PM Mountain; 8:00 PM – 9:30 PM Central; 9:00 PM – 10:30 PM pm Eastern; 10:00 PM – 11:30 PM Atlantic.)
URL:https://thewayoftheheart.com/event/life-mission-masterclass-to-mastermind-call-1-4/
LOCATION:Zoom
CATEGORIES:Telebridge
END:VEVENT
END:VCALENDAR