BEGIN:VCALENDAR
VERSION:2.0
PRODID:-//The Way of the Heart - ECPv6.15.20//NONSGML v1.0//EN
CALSCALE:GREGORIAN
METHOD:PUBLISH
X-ORIGINAL-URL:https://thewayoftheheart.com
X-WR-CALDESC:Events for The Way of the Heart
REFRESH-INTERVAL;VALUE=DURATION:PT1H
X-Robots-Tag:noindex
X-PUBLISHED-TTL:PT1H
BEGIN:VTIMEZONE
TZID:America/Los_Angeles
BEGIN:DAYLIGHT
TZOFFSETFROM:-0800
TZOFFSETTO:-0700
TZNAME:PDT
DTSTART:20250309T100000
END:DAYLIGHT
BEGIN:STANDARD
TZOFFSETFROM:-0700
TZOFFSETTO:-0800
TZNAME:PST
DTSTART:20251102T090000
END:STANDARD
BEGIN:DAYLIGHT
TZOFFSETFROM:-0800
TZOFFSETTO:-0700
TZNAME:PDT
DTSTART:20260308T100000
END:DAYLIGHT
BEGIN:STANDARD
TZOFFSETFROM:-0700
TZOFFSETTO:-0800
TZNAME:PST
DTSTART:20261101T090000
END:STANDARD
BEGIN:DAYLIGHT
TZOFFSETFROM:-0800
TZOFFSETTO:-0700
TZNAME:PDT
DTSTART:20270314T100000
END:DAYLIGHT
BEGIN:STANDARD
TZOFFSETFROM:-0700
TZOFFSETTO:-0800
TZNAME:PST
DTSTART:20271107T090000
END:STANDARD
END:VTIMEZONE
BEGIN:VEVENT
DTSTART;VALUE=DATE:20260824
DTEND;VALUE=DATE:20260828
DTSTAMP:20260419T185144
CREATED:20251125T154930Z
LAST-MODIFIED:20251125T155735Z
UID:1987-1787529600-1787875199@thewayoftheheart.com
SUMMARY:Women's Alchemical Healing Retreat
DESCRIPTION:
URL:https://thewayoftheheart.com/event/womens-alchemical-healing-retreat-4/
LOCATION:Prescott\, AZ
CATEGORIES:Advanced class
END:VEVENT
BEGIN:VEVENT
DTSTART;TZID=America/Los_Angeles:20260826T090000
DTEND;TZID=America/Los_Angeles:20260826T094000
DTSTAMP:20260419T185144
CREATED:20251125T191403Z
LAST-MODIFIED:20251125T191403Z
UID:2184-1787734800-1787737200@thewayoftheheart.com
SUMMARY:The Art of Being and Becoming 2026 (Call #27)
DESCRIPTION:9:00 AM to 9:40 AM Pacific Time(10:00 AM – 10:40 AM Mountain; 11:00 AM – 11:40 AM Central; 12:00 PM – 12:40 PM pm Eastern; 1:00 PM – 1:40 PM Atlantic.)
URL:https://thewayoftheheart.com/event/the-art-of-being-and-becoming-2026-call-27/
LOCATION:Telebridge
CATEGORIES:Telebridge
END:VEVENT
END:VCALENDAR