BEGIN:VCALENDAR
VERSION:2.0
PRODID:-//The Way of the Heart - ECPv6.15.20//NONSGML v1.0//EN
CALSCALE:GREGORIAN
METHOD:PUBLISH
X-ORIGINAL-URL:https://thewayoftheheart.com
X-WR-CALDESC:Events for The Way of the Heart
REFRESH-INTERVAL;VALUE=DURATION:PT1H
X-Robots-Tag:noindex
X-PUBLISHED-TTL:PT1H
BEGIN:VTIMEZONE
TZID:America/Los_Angeles
BEGIN:DAYLIGHT
TZOFFSETFROM:-0800
TZOFFSETTO:-0700
TZNAME:PDT
DTSTART:20160313T100000
END:DAYLIGHT
BEGIN:STANDARD
TZOFFSETFROM:-0700
TZOFFSETTO:-0800
TZNAME:PST
DTSTART:20161106T090000
END:STANDARD
BEGIN:DAYLIGHT
TZOFFSETFROM:-0800
TZOFFSETTO:-0700
TZNAME:PDT
DTSTART:20170312T100000
END:DAYLIGHT
BEGIN:STANDARD
TZOFFSETFROM:-0700
TZOFFSETTO:-0800
TZNAME:PST
DTSTART:20171105T090000
END:STANDARD
BEGIN:DAYLIGHT
TZOFFSETFROM:-0800
TZOFFSETTO:-0700
TZNAME:PDT
DTSTART:20180311T100000
END:DAYLIGHT
BEGIN:STANDARD
TZOFFSETFROM:-0700
TZOFFSETTO:-0800
TZNAME:PST
DTSTART:20181104T090000
END:STANDARD
BEGIN:DAYLIGHT
TZOFFSETFROM:-0800
TZOFFSETTO:-0700
TZNAME:PDT
DTSTART:20190310T100000
END:DAYLIGHT
BEGIN:STANDARD
TZOFFSETFROM:-0700
TZOFFSETTO:-0800
TZNAME:PST
DTSTART:20191103T090000
END:STANDARD
END:VTIMEZONE
BEGIN:VTIMEZONE
TZID:UTC
BEGIN:STANDARD
TZOFFSETFROM:+0000
TZOFFSETTO:+0000
TZNAME:UTC
DTSTART:20170101T000000
END:STANDARD
END:VTIMEZONE
BEGIN:VTIMEZONE
TZID:America/Chicago
BEGIN:DAYLIGHT
TZOFFSETFROM:-0600
TZOFFSETTO:-0500
TZNAME:CDT
DTSTART:20160313T080000
END:DAYLIGHT
BEGIN:STANDARD
TZOFFSETFROM:-0500
TZOFFSETTO:-0600
TZNAME:CST
DTSTART:20161106T070000
END:STANDARD
BEGIN:DAYLIGHT
TZOFFSETFROM:-0600
TZOFFSETTO:-0500
TZNAME:CDT
DTSTART:20170312T080000
END:DAYLIGHT
BEGIN:STANDARD
TZOFFSETFROM:-0500
TZOFFSETTO:-0600
TZNAME:CST
DTSTART:20171105T070000
END:STANDARD
BEGIN:DAYLIGHT
TZOFFSETFROM:-0600
TZOFFSETTO:-0500
TZNAME:CDT
DTSTART:20180311T080000
END:DAYLIGHT
BEGIN:STANDARD
TZOFFSETFROM:-0500
TZOFFSETTO:-0600
TZNAME:CST
DTSTART:20181104T070000
END:STANDARD
END:VTIMEZONE
BEGIN:VEVENT
DTSTART;VALUE=DATE:20180921
DTEND;VALUE=DATE:20180924
DTSTAMP:20260423T223846
CREATED:20180128T042105Z
LAST-MODIFIED:20180128T042105Z
UID:505-1537488000-1537747199@thewayoftheheart.com
SUMMARY:Level II - Vancouver\, BC
DESCRIPTION:
URL:https://thewayoftheheart.com/event/level-ii-vancouver-bc-2018/
CATEGORIES:In Person class
END:VEVENT
BEGIN:VEVENT
DTSTART;VALUE=DATE:20180914
DTEND;VALUE=DATE:20180917
DTSTAMP:20260423T223846
CREATED:20180128T042022Z
LAST-MODIFIED:20180128T042022Z
UID:504-1536883200-1537142399@thewayoftheheart.com
SUMMARY:Level I - Vancouver\, BC
DESCRIPTION:
URL:https://thewayoftheheart.com/event/level-i-vancouver-bc-2018/
CATEGORIES:In Person class
END:VEVENT
BEGIN:VEVENT
DTSTART;VALUE=DATE:20180720
DTEND;VALUE=DATE:20180723
DTSTAMP:20260423T223846
CREATED:20180128T041915Z
LAST-MODIFIED:20180128T041915Z
UID:502-1532044800-1532303999@thewayoftheheart.com
SUMMARY:Level II - Winnipeg\, MB
DESCRIPTION:
URL:https://thewayoftheheart.com/event/level-ii-winnipeg-mb-2018/
CATEGORIES:In Person class
END:VEVENT
BEGIN:VEVENT
DTSTART;VALUE=DATE:20180713
DTEND;VALUE=DATE:20180716
DTSTAMP:20260423T223846
CREATED:20180128T041837Z
LAST-MODIFIED:20180128T041837Z
UID:500-1531440000-1531699199@thewayoftheheart.com
SUMMARY:Level I - Winnipeg\, MB
DESCRIPTION:
URL:https://thewayoftheheart.com/event/level-i-winnipeg-mb-2018/
CATEGORIES:In Person class
END:VEVENT
BEGIN:VEVENT
DTSTART;VALUE=DATE:20180615
DTEND;VALUE=DATE:20180618
DTSTAMP:20260423T223846
CREATED:20180128T041631Z
LAST-MODIFIED:20180128T043527Z
UID:498-1529020800-1529279999@thewayoftheheart.com
SUMMARY:Level II - Truro\, NS
DESCRIPTION:
URL:https://thewayoftheheart.com/event/level-ii-truro-ns-2018/
CATEGORIES:In Person class
END:VEVENT
BEGIN:VEVENT
DTSTART;VALUE=DATE:20180608
DTEND;VALUE=DATE:20180611
DTSTAMP:20260423T223846
CREATED:20180128T041550Z
LAST-MODIFIED:20180128T041550Z
UID:496-1528416000-1528675199@thewayoftheheart.com
SUMMARY:Level I - Truro\, NS
DESCRIPTION:
URL:https://thewayoftheheart.com/event/level-i-truro-2018/
CATEGORIES:In Person class
END:VEVENT
BEGIN:VEVENT
DTSTART;VALUE=DATE:20180608
DTEND;VALUE=DATE:20180611
DTSTAMP:20260423T223846
CREATED:20180128T040822Z
LAST-MODIFIED:20180128T050739Z
UID:492-1528416000-1528675199@thewayoftheheart.com
SUMMARY:Level II - New Orleans\, LA
DESCRIPTION:
URL:https://thewayoftheheart.com/event/level-ii-new-orleans-la-2018/
CATEGORIES:In Person class
END:VEVENT
BEGIN:VEVENT
DTSTART;VALUE=DATE:20180601
DTEND;VALUE=DATE:20180604
DTSTAMP:20260423T223846
CREATED:20180128T040616Z
LAST-MODIFIED:20180128T050748Z
UID:489-1527811200-1528070399@thewayoftheheart.com
SUMMARY:Level I - New Orleans\, LA
DESCRIPTION:
URL:https://thewayoftheheart.com/event/level-i-new-orleans-la-2018/
CATEGORIES:In Person class
END:VEVENT
BEGIN:VEVENT
DTSTART;VALUE=DATE:20180316
DTEND;VALUE=DATE:20180319
DTSTAMP:20260423T223846
CREATED:20180128T034511Z
LAST-MODIFIED:20180128T050924Z
UID:487-1521158400-1521417599@thewayoftheheart.com
SUMMARY:Level II - Portland\, OR
DESCRIPTION:
URL:https://thewayoftheheart.com/event/level-ii-portland-or-2018/
LOCATION:Marylhurst University\, Oregon\, 17600 Pacific Highway\, Marylhurst\, OR\, 97036\, United States
CATEGORIES:In Person class
END:VEVENT
BEGIN:VEVENT
DTSTART;VALUE=DATE:20180309
DTEND;VALUE=DATE:20180312
DTSTAMP:20260423T223846
CREATED:20180128T034334Z
LAST-MODIFIED:20180128T050931Z
UID:485-1520553600-1520812799@thewayoftheheart.com
SUMMARY:Level I - Portland\, OR
DESCRIPTION:
URL:https://thewayoftheheart.com/event/level-i-portland-or-2018/
LOCATION:Marylhurst University\, Oregon\, 17600 Pacific Highway\, Marylhurst\, OR\, 97036\, United States
CATEGORIES:In Person class
END:VEVENT
BEGIN:VEVENT
DTSTART;VALUE=DATE:20180223
DTEND;VALUE=DATE:20180226
DTSTAMP:20260423T223846
CREATED:20171027T235320Z
LAST-MODIFIED:20180128T050940Z
UID:454-1519344000-1519603199@thewayoftheheart.com
SUMMARY:Level II - Chicago\, IL
DESCRIPTION:
URL:https://thewayoftheheart.com/event/level-i-chicago-il-2018/
LOCATION:The Crowne Plaza\, Northbrook\, 2875 N Milwaukee\, Northbrook\, IL\, 60062\, United States
CATEGORIES:In Person class
END:VEVENT
BEGIN:VEVENT
DTSTART;VALUE=DATE:20180216
DTEND;VALUE=DATE:20180219
DTSTAMP:20260423T223846
CREATED:20171027T235201Z
LAST-MODIFIED:20180128T051055Z
UID:451-1518739200-1518998399@thewayoftheheart.com
SUMMARY:Level I - Chicago\, IL
DESCRIPTION:
URL:https://thewayoftheheart.com/event/level-i-chicago-il-2018-2/
LOCATION:The Crowne Plaza\, Northbrook\, 2875 N Milwaukee\, Northbrook\, IL\, 60062\, United States
CATEGORIES:In Person class
END:VEVENT
BEGIN:VEVENT
DTSTART;VALUE=DATE:20180124
DTEND;VALUE=DATE:20180126
DTSTAMP:20260423T223846
CREATED:20171027T234835Z
LAST-MODIFIED:20171027T234835Z
UID:449-1516752000-1516924799@thewayoftheheart.com
SUMMARY:Leaders Training
DESCRIPTION:
URL:https://thewayoftheheart.com/event/leaders-training/
LOCATION:Prescott\, Arizona\, US
CATEGORIES:Advanced class,In Person class
END:VEVENT
BEGIN:VEVENT
DTSTART;VALUE=DATE:20180120
DTEND;VALUE=DATE:20180124
DTSTAMP:20260423T223846
CREATED:20171027T234637Z
LAST-MODIFIED:20171027T234637Z
UID:446-1516406400-1516751999@thewayoftheheart.com
SUMMARY:Team Training
DESCRIPTION:
URL:https://thewayoftheheart.com/event/team-training/
LOCATION:Prescott\, Arizona\, US
CATEGORIES:Advanced class,In Person class
END:VEVENT
BEGIN:VEVENT
DTSTART;VALUE=DATE:20171212
DTEND;VALUE=DATE:20171217
DTSTAMP:20260423T223846
CREATED:20170922T221012Z
LAST-MODIFIED:20170922T221012Z
UID:418-1513036800-1513468799@thewayoftheheart.com
SUMMARY:Pilgrimage to Virgin of Guadalupe
DESCRIPTION:There is a deep and lasting benefit to immersing ourselves in the actual site and atmosphere of this Divine love and power – and to fill from this eternal well and re-orient our beings toward deeper fulfillment in our life. This journey we will share is way beyond religion and form\, entering deeply into new alchemical / spiritual practices of peace\, purification and real joy. We enjoy a candlelit hot springs cave to purify and rejuvenate before our journey to Tepeyac (Mexico City) to the site of the Black Madonna’s visitation and image. We will partake in a 500 year old sacred ritual to the Great Mother. \n\n\n\n\n\n\n\n\n\n\n\n\nStaying in one of the safest and beautiful villages on earth\, San Miguel de Allende\, at a magical retreat – Mansion del Bosque (mansion of the trees) will be our home away from home. We will enjoy\, great food (cooked by Sophia!) and lovely authentic rooms. San Miguel is a world renowned artist colony and UNESCO World Heritage Site\, full of music and arts / crafts\, great bazaar and plenty of time to explore\, with much celebration\, processions\, piñatas and fireworks. It is also a very important spiritual center on earth. \nPre-requisite: Level II and Shadow course\, or communication with Kimberly.\nWHEN: December 12 to 16\nLOCATION: Mansion del Bosque\, San Miguel\, Mexico\nREGISTRATION: Sarah Karnes
URL:https://thewayoftheheart.com/event/pilgrimage-virgin-guadalupe/
LOCATION:San Miguel de Allende\, Mexico
CATEGORIES:Advanced class,In Person class
END:VEVENT
BEGIN:VEVENT
DTSTART;VALUE=DATE:20171117
DTEND;VALUE=DATE:20171120
DTSTAMP:20260423T223846
CREATED:20170922T220536Z
LAST-MODIFIED:20170922T220652Z
UID:414-1510876800-1511135999@thewayoftheheart.com
SUMMARY:Guidance\, Manifestation & Abundance retreat
DESCRIPTION:PRE-requisite: Level II\nDate & Time: November 17-19\, 2017\nLocation: Camp Assiniboia\, 2220 Lido Plage Road\, Cartier\, Manitoba\nFor further information: contact Dorothy Becker
URL:https://thewayoftheheart.com/event/guidance-manifestation-abundance-retreat/
LOCATION:Camp Assinaboia\, 2220 Lido Plage Road\, Cartier\, Manitoba\, Canada
CATEGORIES:Advanced class,In Person class
END:VEVENT
BEGIN:VEVENT
DTSTART;VALUE=DATE:20171013
DTEND;VALUE=DATE:20171016
DTSTAMP:20260423T223846
CREATED:20170922T220128Z
LAST-MODIFIED:20170922T220128Z
UID:410-1507852800-1508111999@thewayoftheheart.com
SUMMARY:Myth & Archetype of Self
DESCRIPTION:New retreat course coming to Portland in autumn 2017. \nNext Myth & Archetype of Self event: autumn 2017\nPre-requisite: Level I & II Foundation\nWhen: October 13 to 15\, 2017\nLocation: Portland\, OR\nContact: Mary McGill
URL:https://thewayoftheheart.com/event/myth-archetype-self/
LOCATION:Marylhurst University\, Oregon\, 17600 Pacific Highway\, Marylhurst\, OR\, 97036\, United States
CATEGORIES:Advanced class,In Person class
END:VEVENT
END:VCALENDAR