BEGIN:VCALENDAR
VERSION:2.0
PRODID:-//The Way of the Heart - ECPv6.15.20//NONSGML v1.0//EN
CALSCALE:GREGORIAN
METHOD:PUBLISH
X-WR-CALNAME:The Way of the Heart
X-ORIGINAL-URL:https://thewayoftheheart.com
X-WR-CALDESC:Events for The Way of the Heart
REFRESH-INTERVAL;VALUE=DURATION:PT1H
X-Robots-Tag:noindex
X-PUBLISHED-TTL:PT1H
BEGIN:VTIMEZONE
TZID:UTC
BEGIN:STANDARD
TZOFFSETFROM:+0000
TZOFFSETTO:+0000
TZNAME:UTC
DTSTART:20200101T000000
END:STANDARD
END:VTIMEZONE
BEGIN:VTIMEZONE
TZID:America/Los_Angeles
BEGIN:DAYLIGHT
TZOFFSETFROM:-0800
TZOFFSETTO:-0700
TZNAME:PDT
DTSTART:20210314T100000
END:DAYLIGHT
BEGIN:STANDARD
TZOFFSETFROM:-0700
TZOFFSETTO:-0800
TZNAME:PST
DTSTART:20211107T090000
END:STANDARD
BEGIN:DAYLIGHT
TZOFFSETFROM:-0800
TZOFFSETTO:-0700
TZNAME:PDT
DTSTART:20220313T100000
END:DAYLIGHT
BEGIN:STANDARD
TZOFFSETFROM:-0700
TZOFFSETTO:-0800
TZNAME:PST
DTSTART:20221106T090000
END:STANDARD
BEGIN:DAYLIGHT
TZOFFSETFROM:-0800
TZOFFSETTO:-0700
TZNAME:PDT
DTSTART:20230312T100000
END:DAYLIGHT
BEGIN:STANDARD
TZOFFSETFROM:-0700
TZOFFSETTO:-0800
TZNAME:PST
DTSTART:20231105T090000
END:STANDARD
END:VTIMEZONE
BEGIN:VTIMEZONE
TZID:America/Denver
BEGIN:DAYLIGHT
TZOFFSETFROM:-0700
TZOFFSETTO:-0600
TZNAME:MDT
DTSTART:20210314T090000
END:DAYLIGHT
BEGIN:STANDARD
TZOFFSETFROM:-0600
TZOFFSETTO:-0700
TZNAME:MST
DTSTART:20211107T080000
END:STANDARD
BEGIN:DAYLIGHT
TZOFFSETFROM:-0700
TZOFFSETTO:-0600
TZNAME:MDT
DTSTART:20220313T090000
END:DAYLIGHT
BEGIN:STANDARD
TZOFFSETFROM:-0600
TZOFFSETTO:-0700
TZNAME:MST
DTSTART:20221106T080000
END:STANDARD
BEGIN:DAYLIGHT
TZOFFSETFROM:-0700
TZOFFSETTO:-0600
TZNAME:MDT
DTSTART:20230312T090000
END:DAYLIGHT
BEGIN:STANDARD
TZOFFSETFROM:-0600
TZOFFSETTO:-0700
TZNAME:MST
DTSTART:20231105T080000
END:STANDARD
END:VTIMEZONE
BEGIN:VEVENT
DTSTART;TZID=UTC:20220508T170000
DTEND;TZID=UTC:20220508T181500
DTSTAMP:20260422T011900
CREATED:20211207T091538Z
LAST-MODIFIED:20211207T091538Z
UID:1305-1652029200-1652033700@thewayoftheheart.com
SUMMARY:Inner Life Mission Immersion (Call #11)
DESCRIPTION:5:00 PM to 6:15 PM Pacific Time(6:00 PM – 7:15 PM Mountain; 7:00 PM – 8:15 PM Central; 8:00 PM – 9:15 PM pm Eastern; 9:00 PM – 10:15 PM Atlantic.)
URL:https://thewayoftheheart.com/event/inner-life-mission-immersion-call-11-2/
CATEGORIES:Telebridge
END:VEVENT
BEGIN:VEVENT
DTSTART;TZID=UTC:20220503T170000
DTEND;TZID=UTC:20220503T181500
DTSTAMP:20260422T011900
CREATED:20211207T093026Z
LAST-MODIFIED:20211207T093026Z
UID:1371-1651597200-1651601700@thewayoftheheart.com
SUMMARY:Making God a Reality (Call #1)
DESCRIPTION:5:00 PM to 6:15 PM Pacific Time(6:00 PM – 7:15 PM Mountain; 7:00 PM – 8:15 PM Central; 8:00 PM – 9:15 PM pm Eastern; 9:00 PM – 10:15 PM Atlantic.)
URL:https://thewayoftheheart.com/event/making-god-a-reality-call-1-2/
CATEGORIES:Telebridge
END:VEVENT
BEGIN:VEVENT
DTSTART;TZID=UTC:20220501T170000
DTEND;TZID=UTC:20220501T181500
DTSTAMP:20260422T011900
CREATED:20211207T091538Z
LAST-MODIFIED:20211207T091538Z
UID:1304-1651424400-1651428900@thewayoftheheart.com
SUMMARY:Inner Life Mission Immersion (Call #10)
DESCRIPTION:5:00 PM to 6:15 PM Pacific Time(6:00 PM – 7:15 PM Mountain; 7:00 PM – 8:15 PM Central; 8:00 PM – 9:15 PM pm Eastern; 9:00 PM – 10:15 PM Atlantic.)
URL:https://thewayoftheheart.com/event/inner-life-mission-immersion-call-10-2/
CATEGORIES:Telebridge
END:VEVENT
BEGIN:VEVENT
DTSTART;TZID=America/Los_Angeles:20220427T180000
DTEND;TZID=America/Los_Angeles:20220427T191500
DTSTAMP:20260422T011900
CREATED:20211207T092227Z
LAST-MODIFIED:20211207T092753Z
UID:1350-1651082400-1651086900@thewayoftheheart.com
SUMMARY:Alchemical Healing (Call #6)
DESCRIPTION:6:00 PM to 7:15 PM Pacific Time\n(7:00 PM – 8:15 PM Mountain; 8:00 PM – 9:15 PM Central; 9:00 PM – 10:15 PM pm Eastern; 10:00 PM – 11:15 PM Atlantic.)
URL:https://thewayoftheheart.com/event/alchemical-healing-call-6-2/
CATEGORIES:Telebridge
END:VEVENT
BEGIN:VEVENT
DTSTART;TZID=UTC:20220424T170000
DTEND;TZID=UTC:20220424T181500
DTSTAMP:20260422T011900
CREATED:20211207T091537Z
LAST-MODIFIED:20211207T091537Z
UID:1303-1650819600-1650824100@thewayoftheheart.com
SUMMARY:Inner Life Mission Immersion (Call #9)
DESCRIPTION:5:00 PM to 6:15 PM Pacific Time(6:00 PM – 7:15 PM Mountain; 7:00 PM – 8:15 PM Central; 8:00 PM – 9:15 PM pm Eastern; 9:00 PM – 10:15 PM Atlantic.)
URL:https://thewayoftheheart.com/event/inner-life-mission-immersion-call-9-2/
CATEGORIES:Telebridge
END:VEVENT
BEGIN:VEVENT
DTSTART;TZID=America/Los_Angeles:20220420T180000
DTEND;TZID=America/Los_Angeles:20220420T191500
DTSTAMP:20260422T011900
CREATED:20211207T092224Z
LAST-MODIFIED:20211207T092727Z
UID:1349-1650477600-1650482100@thewayoftheheart.com
SUMMARY:Alchemical Healing (Call #5)
DESCRIPTION:6:00 PM to 7:15 PM Pacific Time\n(7:00 PM – 8:15 PM Mountain; 8:00 PM – 9:15 PM Central; 9:00 PM – 10:15 PM pm Eastern; 10:00 PM – 11:15 PM Atlantic.)
URL:https://thewayoftheheart.com/event/alchemical-healing-call-5-2/
CATEGORIES:Telebridge
END:VEVENT
BEGIN:VEVENT
DTSTART;TZID=UTC:20220417T170000
DTEND;TZID=UTC:20220417T181500
DTSTAMP:20260422T011900
CREATED:20211207T091537Z
LAST-MODIFIED:20211207T091537Z
UID:1302-1650214800-1650219300@thewayoftheheart.com
SUMMARY:Inner Life Mission Immersion (Call #8)
DESCRIPTION:5:00 PM to 6:15 PM Pacific Time(6:00 PM – 7:15 PM Mountain; 7:00 PM – 8:15 PM Central; 8:00 PM – 9:15 PM pm Eastern; 9:00 PM – 10:15 PM Atlantic.)
URL:https://thewayoftheheart.com/event/inner-life-mission-immersion-call-8-2/
CATEGORIES:Telebridge
END:VEVENT
BEGIN:VEVENT
DTSTART;TZID=America/Los_Angeles:20220413T180000
DTEND;TZID=America/Los_Angeles:20220413T191500
DTSTAMP:20260422T011900
CREATED:20211207T092224Z
LAST-MODIFIED:20211207T092701Z
UID:1348-1649872800-1649877300@thewayoftheheart.com
SUMMARY:Alchemical Healing (Call #4)
DESCRIPTION:6:00 PM to 7:15 PM Pacific Time\n(7:00 PM – 8:15 PM Mountain; 8:00 PM – 9:15 PM Central; 9:00 PM – 10:15 PM pm Eastern; 10:00 PM – 11:15 PM Atlantic.)
URL:https://thewayoftheheart.com/event/alchemical-healing-call-4-2/
CATEGORIES:Telebridge
END:VEVENT
BEGIN:VEVENT
DTSTART;TZID=UTC:20220410T170000
DTEND;TZID=UTC:20220410T181500
DTSTAMP:20260422T011900
CREATED:20211207T091537Z
LAST-MODIFIED:20211207T091537Z
UID:1301-1649610000-1649614500@thewayoftheheart.com
SUMMARY:Inner Life Mission Immersion (Call #7)
DESCRIPTION:5:00 PM to 6:15 PM Pacific Time(6:00 PM – 7:15 PM Mountain; 7:00 PM – 8:15 PM Central; 8:00 PM – 9:15 PM pm Eastern; 9:00 PM – 10:15 PM Atlantic.)
URL:https://thewayoftheheart.com/event/inner-life-mission-immersion-call-7-2/
CATEGORIES:Telebridge
END:VEVENT
BEGIN:VEVENT
DTSTART;TZID=America/Denver:20220410T120000
DTEND;TZID=America/Denver:20220410T153000
DTSTAMP:20260422T011900
CREATED:20220321T060231Z
LAST-MODIFIED:20220321T060231Z
UID:1403-1649592000-1649604600@thewayoftheheart.com
SUMMARY:Gateway on Zoom
DESCRIPTION:(12-3:30pm Pacific / 1-4:30pm Mountain / 2-5:30pm Central / 3-6:30pm Eastern / 4-7:30pm Atlantic)
URL:https://thewayoftheheart.com/event/gateway-04-10-22/
LOCATION:Zoom
END:VEVENT
BEGIN:VEVENT
DTSTART;TZID=America/Los_Angeles:20220406T180000
DTEND;TZID=America/Los_Angeles:20220406T191500
DTSTAMP:20260422T011900
CREATED:20211207T092224Z
LAST-MODIFIED:20211207T092632Z
UID:1347-1649268000-1649272500@thewayoftheheart.com
SUMMARY:Alchemical Healing (Call #3)
DESCRIPTION:6:00 PM to 7:15 PM Pacific Time\n(7:00 PM – 8:15 PM Mountain; 8:00 PM – 9:15 PM Central; 9:00 PM – 10:15 PM pm Eastern; 10:00 PM – 11:15 PM Atlantic.)
URL:https://thewayoftheheart.com/event/alchemical-healing-call-3-2/
CATEGORIES:Telebridge
END:VEVENT
BEGIN:VEVENT
DTSTART;TZID=UTC:20220403T170000
DTEND;TZID=UTC:20220403T181500
DTSTAMP:20260422T011900
CREATED:20211207T091537Z
LAST-MODIFIED:20211207T091537Z
UID:1300-1649005200-1649009700@thewayoftheheart.com
SUMMARY:Inner Life Mission Immersion (Call #6)
DESCRIPTION:5:00 PM to 6:15 PM Pacific Time(6:00 PM – 7:15 PM Mountain; 7:00 PM – 8:15 PM Central; 8:00 PM – 9:15 PM pm Eastern; 9:00 PM – 10:15 PM Atlantic.)
URL:https://thewayoftheheart.com/event/inner-life-mission-immersion-call-6-2/
CATEGORIES:Telebridge
END:VEVENT
BEGIN:VEVENT
DTSTART;VALUE=DATE:20220401
DTEND;VALUE=DATE:20220404
DTSTAMP:20260422T011900
CREATED:20211207T074913Z
LAST-MODIFIED:20211207T074913Z
UID:1277-1648771200-1649030399@thewayoftheheart.com
SUMMARY:Cultivating Resilience & Peace
DESCRIPTION:
URL:https://thewayoftheheart.com/event/cultivating-resilience-peace/
LOCATION:Online training via Zoom
CATEGORIES:Advanced class
END:VEVENT
BEGIN:VEVENT
DTSTART;TZID=America/Los_Angeles:20220330T180000
DTEND;TZID=America/Los_Angeles:20220330T191500
DTSTAMP:20260422T011900
CREATED:20211207T092224Z
LAST-MODIFIED:20211207T092605Z
UID:1346-1648663200-1648667700@thewayoftheheart.com
SUMMARY:Alchemical Healing (Call #2)
DESCRIPTION:6:00 PM to 7:15 PM Pacific Time\n(7:00 PM – 8:15 PM Mountain; 8:00 PM – 9:15 PM Central; 9:00 PM – 10:15 PM pm Eastern; 10:00 PM – 11:15 PM Atlantic.)
URL:https://thewayoftheheart.com/event/alchemical-healing-call-2-2/
CATEGORIES:Telebridge
END:VEVENT
BEGIN:VEVENT
DTSTART;TZID=UTC:20220327T170000
DTEND;TZID=UTC:20220327T181500
DTSTAMP:20260422T011900
CREATED:20211207T091535Z
LAST-MODIFIED:20211207T091535Z
UID:1299-1648400400-1648404900@thewayoftheheart.com
SUMMARY:Inner Life Mission Immersion (Call #5)
DESCRIPTION:5:00 PM to 6:15 PM Pacific Time(6:00 PM – 7:15 PM Mountain; 7:00 PM – 8:15 PM Central; 8:00 PM – 9:15 PM pm Eastern; 9:00 PM – 10:15 PM Atlantic.)
URL:https://thewayoftheheart.com/event/inner-life-mission-immersion-call-5-2/
CATEGORIES:Telebridge
END:VEVENT
BEGIN:VEVENT
DTSTART;TZID=America/Los_Angeles:20220323T180000
DTEND;TZID=America/Los_Angeles:20220323T191500
DTSTAMP:20260422T011900
CREATED:20211207T092223Z
LAST-MODIFIED:20211207T092541Z
UID:1345-1648058400-1648062900@thewayoftheheart.com
SUMMARY:Alchemical Healing (Call #1)
DESCRIPTION:6:00 PM to 7:15 PM Pacific Time\n(7:00 PM – 8:15 PM Mountain; 8:00 PM – 9:15 PM Central; 9:00 PM – 10:15 PM pm Eastern; 10:00 PM – 11:15 PM Atlantic.)
URL:https://thewayoftheheart.com/event/alchemical-healing-call-1-2/
CATEGORIES:Telebridge
END:VEVENT
BEGIN:VEVENT
DTSTART;TZID=UTC:20220320T170000
DTEND;TZID=UTC:20220320T181500
DTSTAMP:20260422T011900
CREATED:20211207T091535Z
LAST-MODIFIED:20211207T091535Z
UID:1298-1647795600-1647800100@thewayoftheheart.com
SUMMARY:Inner Life Mission Immersion (Call #4)
DESCRIPTION:5:00 PM to 6:15 PM Pacific Time(6:00 PM – 7:15 PM Mountain; 7:00 PM – 8:15 PM Central; 8:00 PM – 9:15 PM pm Eastern; 9:00 PM – 10:15 PM Atlantic.)
URL:https://thewayoftheheart.com/event/inner-life-mission-immersion-call-4-2/
CATEGORIES:Telebridge
END:VEVENT
BEGIN:VEVENT
DTSTART;TZID=UTC:20220313T170000
DTEND;TZID=UTC:20220313T181500
DTSTAMP:20260422T011900
CREATED:20211207T091535Z
LAST-MODIFIED:20211207T091535Z
UID:1297-1647190800-1647195300@thewayoftheheart.com
SUMMARY:Inner Life Mission Immersion (Call #3)
DESCRIPTION:5:00 PM to 6:15 PM Pacific Time(6:00 PM – 7:15 PM Mountain; 7:00 PM – 8:15 PM Central; 8:00 PM – 9:15 PM pm Eastern; 9:00 PM – 10:15 PM Atlantic.)
URL:https://thewayoftheheart.com/event/inner-life-mission-immersion-call-3-2/
CATEGORIES:Telebridge
END:VEVENT
BEGIN:VEVENT
DTSTART;VALUE=DATE:20220311
DTEND;VALUE=DATE:20220314
DTSTAMP:20260422T011900
CREATED:20211207T074913Z
LAST-MODIFIED:20211207T084202Z
UID:1276-1646956800-1647215999@thewayoftheheart.com
SUMMARY:Level II Field Training
DESCRIPTION:
URL:https://thewayoftheheart.com/event/level-ii-field-training/
LOCATION:Vancouver\, British Columbia & via Zoom\, Canada
CATEGORIES:Foundation class
END:VEVENT
BEGIN:VEVENT
DTSTART;TZID=UTC:20220306T170000
DTEND;TZID=UTC:20220306T181500
DTSTAMP:20260422T011900
CREATED:20211207T091534Z
LAST-MODIFIED:20211207T091534Z
UID:1296-1646586000-1646590500@thewayoftheheart.com
SUMMARY:Inner Life Mission Immersion (Call #2)
DESCRIPTION:5:00 PM to 6:15 PM Pacific Time(6:00 PM – 7:15 PM Mountain; 7:00 PM – 8:15 PM Central; 8:00 PM – 9:15 PM pm Eastern; 9:00 PM – 10:15 PM Atlantic.)
URL:https://thewayoftheheart.com/event/inner-life-mission-immersion-call-2-2/
CATEGORIES:Telebridge
END:VEVENT
BEGIN:VEVENT
DTSTART;VALUE=DATE:20220304
DTEND;VALUE=DATE:20220307
DTSTAMP:20260422T011900
CREATED:20211207T074913Z
LAST-MODIFIED:20211207T084311Z
UID:1275-1646352000-1646611199@thewayoftheheart.com
SUMMARY:Level I Field Training
DESCRIPTION:
URL:https://thewayoftheheart.com/event/level-i-field-training/
LOCATION:Vancouver\, British Columbia & via Zoom\, Canada
CATEGORIES:Foundation class
END:VEVENT
BEGIN:VEVENT
DTSTART;TZID=UTC:20220227T170000
DTEND;TZID=UTC:20220227T181500
DTSTAMP:20260422T011900
CREATED:20211207T091534Z
LAST-MODIFIED:20211207T091534Z
UID:1295-1645981200-1645985700@thewayoftheheart.com
SUMMARY:Inner Life Mission Immersion (Call #1)
DESCRIPTION:5:00 PM to 6:15 PM Pacific Time(6:00 PM – 7:15 PM Mountain; 7:00 PM – 8:15 PM Central; 8:00 PM – 9:15 PM pm Eastern; 9:00 PM – 10:15 PM Atlantic.)
URL:https://thewayoftheheart.com/event/inner-life-mission-immersion-call-1-2/
CATEGORIES:Telebridge
END:VEVENT
BEGIN:VEVENT
DTSTART;TZID=America/Denver:20220220T120000
DTEND;TZID=America/Denver:20220220T153000
DTSTAMP:20260422T011900
CREATED:20220130T213130Z
LAST-MODIFIED:20220130T213130Z
UID:1400-1645358400-1645371000@thewayoftheheart.com
SUMMARY:Gateway on Zoom
DESCRIPTION:(12-3:30pm Pacific / 1-4:30pm Mountain / 2-5:30pm Central / 3-6:30pm Eastern / 4-7:30pm Atlantic)
URL:https://thewayoftheheart.com/event/zoom-gateway-02-20-22/
LOCATION:Zoom
END:VEVENT
BEGIN:VEVENT
DTSTART;TZID=America/Denver:20220206T120000
DTEND;TZID=America/Denver:20220206T153000
DTSTAMP:20260422T011900
CREATED:20220130T212720Z
LAST-MODIFIED:20220130T212720Z
UID:1398-1644148800-1644161400@thewayoftheheart.com
SUMMARY:Gateway on Zoom
DESCRIPTION:(12-3:30pm Pacific / 1-4:30pm Mountain / 2-5:30pm Central / 3-6:30pm Eastern / 4-7:30pm Atlantic)
URL:https://thewayoftheheart.com/event/zoom-gateway-02-06-22/
LOCATION:Zoom
END:VEVENT
BEGIN:VEVENT
DTSTART;TZID=America/Denver:20220116T120000
DTEND;TZID=America/Denver:20220116T153000
DTSTAMP:20260422T011900
CREATED:20211220T163118Z
LAST-MODIFIED:20211220T163118Z
UID:1395-1642334400-1642347000@thewayoftheheart.com
SUMMARY:Gateway on Zoom
DESCRIPTION:(12-3:30pm Pacific / 1-4:30pm Mountain / 2-5:30pm Central / 3-6:30pm Eastern / 4-7:30pm Atlantic)
URL:https://thewayoftheheart.com/event/zoom-gateway-01-16-22/
LOCATION:Zoom
END:VEVENT
BEGIN:VEVENT
DTSTART;VALUE=DATE:20220110
DTEND;VALUE=DATE:20220112
DTSTAMP:20260422T011900
CREATED:20211207T074913Z
LAST-MODIFIED:20211207T074913Z
UID:1274-1641772800-1641945599@thewayoftheheart.com
SUMMARY:TWOTH Instructor Training
DESCRIPTION:
URL:https://thewayoftheheart.com/event/twoth-instructor-training/
LOCATION:Online Retreat via Zoom
CATEGORIES:Advanced class
END:VEVENT
BEGIN:VEVENT
DTSTART;VALUE=DATE:20220107
DTEND;VALUE=DATE:20220111
DTSTAMP:20260422T011900
CREATED:20211207T074913Z
LAST-MODIFIED:20211207T074913Z
UID:1273-1641513600-1641859199@thewayoftheheart.com
SUMMARY:TWOTH Leader Training
DESCRIPTION:
URL:https://thewayoftheheart.com/event/twoth-leader-training/
LOCATION:Online Retreat via Zoom
CATEGORIES:Advanced class
END:VEVENT
BEGIN:VEVENT
DTSTART;TZID=UTC:20211230T180000
DTEND;TZID=UTC:20211230T191500
DTSTAMP:20260422T011900
CREATED:20201126T223627Z
LAST-MODIFIED:20201126T223627Z
UID:1169-1640887200-1640891700@thewayoftheheart.com
SUMMARY:Life Mission 2021 Year Round Up
DESCRIPTION:6:00 PM to 7:15 PM Pacific Time(7:00 PM – 8:15 PM Mountain; 8:00 PM – 9:15 PM Central; 9:00 PM – 10:15 PM pm Eastern; 10:00 PM – 11:15 PM Atlantic.)
URL:https://thewayoftheheart.com/event/life-mission-2021-year-round-up/
CATEGORIES:Telebridge
END:VEVENT
BEGIN:VEVENT
DTSTART;TZID=UTC:20211226T170000
DTEND;TZID=UTC:20211226T181500
DTSTAMP:20260422T011900
CREATED:20201126T223526Z
LAST-MODIFIED:20201126T223526Z
UID:1114-1640538000-1640542500@thewayoftheheart.com
SUMMARY:Inner Life Mission Immersion (Call #41)
DESCRIPTION:5:00 PM to 6:15 PM Pacific Time(6:00 PM – 7:15 PM Mountain; 7:00 PM – 8:15 PM Central; 8:00 PM – 9:15 PM pm Eastern; 9:00 PM – 10:15 PM Atlantic.)
URL:https://thewayoftheheart.com/event/inner-life-mission-immersion-call-41/
CATEGORIES:Telebridge
END:VEVENT
BEGIN:VEVENT
DTSTART;TZID=UTC:20211223T180000
DTEND;TZID=UTC:20211223T191500
DTSTAMP:20260422T011900
CREATED:20201126T223627Z
LAST-MODIFIED:20201126T223627Z
UID:1168-1640282400-1640286900@thewayoftheheart.com
SUMMARY:Life Mission IV (Call #6)
DESCRIPTION:6:00 PM to 7:15 PM Pacific Time(7:00 PM – 8:15 PM Mountain; 8:00 PM – 9:15 PM Central; 9:00 PM – 10:15 PM pm Eastern; 10:00 PM – 11:15 PM Atlantic.)
URL:https://thewayoftheheart.com/event/life-mission-iv-call-6/
CATEGORIES:Telebridge
END:VEVENT
END:VCALENDAR