BEGIN:VCALENDAR
VERSION:2.0
PRODID:-//The Way of the Heart - ECPv6.15.20//NONSGML v1.0//EN
CALSCALE:GREGORIAN
METHOD:PUBLISH
X-WR-CALNAME:The Way of the Heart
X-ORIGINAL-URL:https://thewayoftheheart.com
X-WR-CALDESC:Events for The Way of the Heart
REFRESH-INTERVAL;VALUE=DURATION:PT1H
X-Robots-Tag:noindex
X-PUBLISHED-TTL:PT1H
BEGIN:VTIMEZONE
TZID:UTC
BEGIN:STANDARD
TZOFFSETFROM:+0000
TZOFFSETTO:+0000
TZNAME:UTC
DTSTART:20240101T000000
END:STANDARD
END:VTIMEZONE
BEGIN:VTIMEZONE
TZID:America/Los_Angeles
BEGIN:DAYLIGHT
TZOFFSETFROM:-0800
TZOFFSETTO:-0700
TZNAME:PDT
DTSTART:20240310T100000
END:DAYLIGHT
BEGIN:STANDARD
TZOFFSETFROM:-0700
TZOFFSETTO:-0800
TZNAME:PST
DTSTART:20241103T090000
END:STANDARD
BEGIN:DAYLIGHT
TZOFFSETFROM:-0800
TZOFFSETTO:-0700
TZNAME:PDT
DTSTART:20250309T100000
END:DAYLIGHT
BEGIN:STANDARD
TZOFFSETFROM:-0700
TZOFFSETTO:-0800
TZNAME:PST
DTSTART:20251102T090000
END:STANDARD
BEGIN:DAYLIGHT
TZOFFSETFROM:-0800
TZOFFSETTO:-0700
TZNAME:PDT
DTSTART:20260308T100000
END:DAYLIGHT
BEGIN:STANDARD
TZOFFSETFROM:-0700
TZOFFSETTO:-0800
TZNAME:PST
DTSTART:20261101T090000
END:STANDARD
END:VTIMEZONE
BEGIN:VEVENT
DTSTART;TZID=UTC:20250330T170000
DTEND;TZID=UTC:20250330T181500
DTSTAMP:20260420T003111
CREATED:20250213T191030Z
LAST-MODIFIED:20250213T191030Z
UID:1854-1743354000-1743358500@thewayoftheheart.com
SUMMARY:Call to Love - Inner Life Mission Immersion (Call #6)
DESCRIPTION:5:00 PM to 6:15 PM Pacific Time(6:00 PM – 7:15 PM Mountain; 7:00 PM – 8:15 PM Central; 8:00 PM – 9:15 PM pm Eastern; 9:00 PM – 10:15 PM Atlantic.)
URL:https://thewayoftheheart.com/event/call-to-love-inner-life-mission-immersion-call-6-2/
CATEGORIES:Telebridge
END:VEVENT
BEGIN:VEVENT
DTSTART;VALUE=DATE:20250404
DTEND;VALUE=DATE:20250407
DTSTAMP:20260420T003111
CREATED:20250213T190654Z
LAST-MODIFIED:20250213T190654Z
UID:1831-1743724800-1743983999@thewayoftheheart.com
SUMMARY:Level II Field Training
DESCRIPTION:
URL:https://thewayoftheheart.com/event/level-ii-field-training-9/
CATEGORIES:Foundation class
END:VEVENT
BEGIN:VEVENT
DTSTART;TZID=UTC:20250406T170000
DTEND;TZID=UTC:20250406T181500
DTSTAMP:20260420T003111
CREATED:20250213T191030Z
LAST-MODIFIED:20250213T191030Z
UID:1855-1743958800-1743963300@thewayoftheheart.com
SUMMARY:Call to Love - Inner Life Mission Immersion (Call #7)
DESCRIPTION:5:00 PM to 6:15 PM Pacific Time(6:00 PM – 7:15 PM Mountain; 7:00 PM – 8:15 PM Central; 8:00 PM – 9:15 PM pm Eastern; 9:00 PM – 10:15 PM Atlantic.)
URL:https://thewayoftheheart.com/event/call-to-love-inner-life-mission-immersion-call-7-2/
CATEGORIES:Telebridge
END:VEVENT
BEGIN:VEVENT
DTSTART;TZID=UTC:20250410T180000
DTEND;TZID=UTC:20250410T193000
DTSTAMP:20260420T003111
CREATED:20250213T192316Z
LAST-MODIFIED:20250213T192317Z
UID:1906-1744308000-1744313400@thewayoftheheart.com
SUMMARY:Life Mission: Masterclass to Mastermind (Call #7)
DESCRIPTION:6:00 PM to 7:30 PM Pacific Time(7:00 PM – 8:30 PM Mountain; 8:00 PM – 9:30 PM Central; 9:00 PM – 10:30 PM pm Eastern; 10:00 PM – 11:30 PM Atlantic.)
URL:https://thewayoftheheart.com/event/life-mission-masterclass-to-mastermind-call-7-3/
CATEGORIES:Telebridge
END:VEVENT
BEGIN:VEVENT
DTSTART;TZID=UTC:20250413T170000
DTEND;TZID=UTC:20250413T181500
DTSTAMP:20260420T003111
CREATED:20250213T191030Z
LAST-MODIFIED:20250213T191030Z
UID:1856-1744563600-1744568100@thewayoftheheart.com
SUMMARY:Call to Love - Inner Life Mission Immersion (Call #8)
DESCRIPTION:5:00 PM to 6:15 PM Pacific Time(6:00 PM – 7:15 PM Mountain; 7:00 PM – 8:15 PM Central; 8:00 PM – 9:15 PM pm Eastern; 9:00 PM – 10:15 PM Atlantic.)
URL:https://thewayoftheheart.com/event/call-to-love-inner-life-mission-immersion-call-8-2/
CATEGORIES:Telebridge
END:VEVENT
BEGIN:VEVENT
DTSTART;TZID=UTC:20250420T170000
DTEND;TZID=UTC:20250420T181500
DTSTAMP:20260420T003111
CREATED:20250213T191030Z
LAST-MODIFIED:20250213T191030Z
UID:1857-1745168400-1745172900@thewayoftheheart.com
SUMMARY:Call to Love - Inner Life Mission Immersion (Call #9)
DESCRIPTION:5:00 PM to 6:15 PM Pacific Time(6:00 PM – 7:15 PM Mountain; 7:00 PM – 8:15 PM Central; 8:00 PM – 9:15 PM pm Eastern; 9:00 PM – 10:15 PM Atlantic.)
URL:https://thewayoftheheart.com/event/call-to-love-inner-life-mission-immersion-call-9-2/
CATEGORIES:Telebridge
END:VEVENT
BEGIN:VEVENT
DTSTART;TZID=UTC:20250423T180000
DTEND;TZID=UTC:20250423T190000
DTSTAMP:20260420T003111
CREATED:20250213T192520Z
LAST-MODIFIED:20250213T192520Z
UID:1932-1745431200-1745434800@thewayoftheheart.com
SUMMARY:Deepening Inner Listening (Call #1)
DESCRIPTION:6:00 PM to 7:00 PM Pacific Time(7:00 PM – 8:00 PM Mountain; 8:00 PM – 9:00 PM Central; 9:00 PM – 10:00 PM Eastern; 10:00 PM – 11:00 PM Atlantic.)
URL:https://thewayoftheheart.com/event/deepening-inner-listening-call-1-4/
CATEGORIES:Telebridge
END:VEVENT
BEGIN:VEVENT
DTSTART;TZID=UTC:20250424T180000
DTEND;TZID=UTC:20250424T193000
DTSTAMP:20260420T003111
CREATED:20250213T192316Z
LAST-MODIFIED:20250213T192317Z
UID:1907-1745517600-1745523000@thewayoftheheart.com
SUMMARY:Life Mission: Masterclass to Mastermind (Call #8)
DESCRIPTION:6:00 PM to 7:30 PM Pacific Time(7:00 PM – 8:30 PM Mountain; 8:00 PM – 9:30 PM Central; 9:00 PM – 10:30 PM pm Eastern; 10:00 PM – 11:30 PM Atlantic.)
URL:https://thewayoftheheart.com/event/life-mission-masterclass-to-mastermind-call-8-3/
CATEGORIES:Telebridge
END:VEVENT
BEGIN:VEVENT
DTSTART;VALUE=DATE:20250427
DTEND;VALUE=DATE:20250428
DTSTAMP:20260420T003111
CREATED:20250213T190756Z
LAST-MODIFIED:20250213T190756Z
UID:1838-1745712000-1745798399@thewayoftheheart.com
SUMMARY:Exploring the Inner Life Alchemical Retreat Gateway
DESCRIPTION:
URL:https://thewayoftheheart.com/event/exploring-the-inner-life-alchemical-retreat-gateway-5/
LOCATION:Zoom Retreat w/ Kimberly
CATEGORIES:Advanced class
END:VEVENT
BEGIN:VEVENT
DTSTART;TZID=UTC:20250427T170000
DTEND;TZID=UTC:20250427T181500
DTSTAMP:20260420T003111
CREATED:20250213T191031Z
LAST-MODIFIED:20250213T191031Z
UID:1858-1745773200-1745777700@thewayoftheheart.com
SUMMARY:Call to Love - Inner Life Mission Immersion (Call #10)
DESCRIPTION:5:00 PM to 6:15 PM Pacific Time(6:00 PM – 7:15 PM Mountain; 7:00 PM – 8:15 PM Central; 8:00 PM – 9:15 PM pm Eastern; 9:00 PM – 10:15 PM Atlantic.)
URL:https://thewayoftheheart.com/event/call-to-love-inner-life-mission-immersion-call-10-2/
CATEGORIES:Telebridge
END:VEVENT
BEGIN:VEVENT
DTSTART;TZID=UTC:20250430T180000
DTEND;TZID=UTC:20250430T190000
DTSTAMP:20260420T003111
CREATED:20250213T192520Z
LAST-MODIFIED:20250213T192520Z
UID:1933-1746036000-1746039600@thewayoftheheart.com
SUMMARY:Deepening Inner Listening (Call #2)
DESCRIPTION:6:00 PM to 7:00 PM Pacific Time(7:00 PM – 8:00 PM Mountain; 8:00 PM – 9:00 PM Central; 9:00 PM – 10:00 PM Eastern; 10:00 PM – 11:00 PM Atlantic.)
URL:https://thewayoftheheart.com/event/deepening-inner-listening-call-2-4/
CATEGORIES:Telebridge
END:VEVENT
BEGIN:VEVENT
DTSTART;TZID=UTC:20250504T170000
DTEND;TZID=UTC:20250504T181500
DTSTAMP:20260420T003111
CREATED:20250213T191045Z
LAST-MODIFIED:20250213T191045Z
UID:1859-1746378000-1746382500@thewayoftheheart.com
SUMMARY:Call to Love - Inner Life Mission Immersion (Call #11)
DESCRIPTION:5:00 PM to 6:15 PM Pacific Time(6:00 PM – 7:15 PM Mountain; 7:00 PM – 8:15 PM Central; 8:00 PM – 9:15 PM pm Eastern; 9:00 PM – 10:15 PM Atlantic.)
URL:https://thewayoftheheart.com/event/call-to-love-inner-life-mission-immersion-call-11-2/
CATEGORIES:Telebridge
END:VEVENT
BEGIN:VEVENT
DTSTART;TZID=UTC:20250507T180000
DTEND;TZID=UTC:20250507T190000
DTSTAMP:20260420T003111
CREATED:20250213T192520Z
LAST-MODIFIED:20250213T192520Z
UID:1934-1746640800-1746644400@thewayoftheheart.com
SUMMARY:Deepening Inner Listening (Call #3)
DESCRIPTION:6:00 PM to 7:00 PM Pacific Time(7:00 PM – 8:00 PM Mountain; 8:00 PM – 9:00 PM Central; 9:00 PM – 10:00 PM Eastern; 10:00 PM – 11:00 PM Atlantic.)
URL:https://thewayoftheheart.com/event/deepening-inner-listening-call-3-4/
CATEGORIES:Telebridge
END:VEVENT
BEGIN:VEVENT
DTSTART;TZID=UTC:20250508T180000
DTEND;TZID=UTC:20250508T193000
DTSTAMP:20260420T003111
CREATED:20250213T192317Z
LAST-MODIFIED:20250213T192317Z
UID:1908-1746727200-1746732600@thewayoftheheart.com
SUMMARY:Life Mission: Masterclass to Mastermind (Call #9)
DESCRIPTION:6:00 PM to 7:30 PM Pacific Time(7:00 PM – 8:30 PM Mountain; 8:00 PM – 9:30 PM Central; 9:00 PM – 10:30 PM pm Eastern; 10:00 PM – 11:30 PM Atlantic.)
URL:https://thewayoftheheart.com/event/life-mission-masterclass-to-mastermind-call-9-3/
CATEGORIES:Telebridge
END:VEVENT
BEGIN:VEVENT
DTSTART;TZID=UTC:20250511T170000
DTEND;TZID=UTC:20250511T181500
DTSTAMP:20260420T003111
CREATED:20250213T191045Z
LAST-MODIFIED:20250213T191045Z
UID:1860-1746982800-1746987300@thewayoftheheart.com
SUMMARY:Call to Love - Inner Life Mission Immersion (Call #12)
DESCRIPTION:5:00 PM to 6:15 PM Pacific Time(6:00 PM – 7:15 PM Mountain; 7:00 PM – 8:15 PM Central; 8:00 PM – 9:15 PM pm Eastern; 9:00 PM – 10:15 PM Atlantic.)
URL:https://thewayoftheheart.com/event/call-to-love-inner-life-mission-immersion-call-12-2/
CATEGORIES:Telebridge
END:VEVENT
BEGIN:VEVENT
DTSTART;TZID=UTC:20250513T170000
DTEND;TZID=UTC:20250513T181500
DTSTAMP:20260420T003111
CREATED:20250213T192706Z
LAST-MODIFIED:20250213T192706Z
UID:1949-1747155600-1747160100@thewayoftheheart.com
SUMMARY:Making God a Reality (Call #1)
DESCRIPTION:5:00 PM to 6:15 PM Pacific Time(6:00 PM – 7:15 PM Mountain; 7:00 PM – 8:15 PM Central; 8:00 PM – 9:15 PM Eastern; 9:00 PM – 10:15 PM Atlantic.)
URL:https://thewayoftheheart.com/event/making-god-a-reality-call-1-3/
CATEGORIES:Telebridge
END:VEVENT
BEGIN:VEVENT
DTSTART;TZID=UTC:20250514T180000
DTEND;TZID=UTC:20250514T190000
DTSTAMP:20260420T003111
CREATED:20250213T192520Z
LAST-MODIFIED:20250213T192520Z
UID:1935-1747245600-1747249200@thewayoftheheart.com
SUMMARY:Deepening Inner Listening (Call #4)
DESCRIPTION:6:00 PM to 7:00 PM Pacific Time(7:00 PM – 8:00 PM Mountain; 8:00 PM – 9:00 PM Central; 9:00 PM – 10:00 PM Eastern; 10:00 PM – 11:00 PM Atlantic.)
URL:https://thewayoftheheart.com/event/deepening-inner-listening-call-4-4/
CATEGORIES:Telebridge
END:VEVENT
BEGIN:VEVENT
DTSTART;TZID=UTC:20250518T170000
DTEND;TZID=UTC:20250518T181500
DTSTAMP:20260420T003111
CREATED:20250213T191046Z
LAST-MODIFIED:20250213T191046Z
UID:1861-1747587600-1747592100@thewayoftheheart.com
SUMMARY:Call to Love - Inner Life Mission Immersion (Call #13)
DESCRIPTION:5:00 PM to 6:15 PM Pacific Time(6:00 PM – 7:15 PM Mountain; 7:00 PM – 8:15 PM Central; 8:00 PM – 9:15 PM pm Eastern; 9:00 PM – 10:15 PM Atlantic.)
URL:https://thewayoftheheart.com/event/call-to-love-inner-life-mission-immersion-call-13-2/
CATEGORIES:Telebridge
END:VEVENT
BEGIN:VEVENT
DTSTART;TZID=UTC:20250520T170000
DTEND;TZID=UTC:20250520T181500
DTSTAMP:20260420T003111
CREATED:20250213T192706Z
LAST-MODIFIED:20250213T192706Z
UID:1950-1747760400-1747764900@thewayoftheheart.com
SUMMARY:Making God a Reality (Call #2)
DESCRIPTION:5:00 PM to 6:15 PM Pacific Time(6:00 PM – 7:15 PM Mountain; 7:00 PM – 8:15 PM Central; 8:00 PM – 9:15 PM Eastern; 9:00 PM – 10:15 PM Atlantic.)
URL:https://thewayoftheheart.com/event/making-god-a-reality-call-2-3/
CATEGORIES:Telebridge
END:VEVENT
BEGIN:VEVENT
DTSTART;TZID=UTC:20250521T180000
DTEND;TZID=UTC:20250521T190000
DTSTAMP:20260420T003111
CREATED:20250213T192521Z
LAST-MODIFIED:20250213T192521Z
UID:1936-1747850400-1747854000@thewayoftheheart.com
SUMMARY:Deepening Inner Listening (Call #5)
DESCRIPTION:6:00 PM to 7:00 PM Pacific Time(7:00 PM – 8:00 PM Mountain; 8:00 PM – 9:00 PM Central; 9:00 PM – 10:00 PM Eastern; 10:00 PM – 11:00 PM Atlantic.)
URL:https://thewayoftheheart.com/event/deepening-inner-listening-call-5-4/
CATEGORIES:Telebridge
END:VEVENT
BEGIN:VEVENT
DTSTART;TZID=UTC:20250522T180000
DTEND;TZID=UTC:20250522T193000
DTSTAMP:20260420T003111
CREATED:20250213T192317Z
LAST-MODIFIED:20250213T192317Z
UID:1909-1747936800-1747942200@thewayoftheheart.com
SUMMARY:Life Mission: Masterclass to Mastermind (Call #10)
DESCRIPTION:6:00 PM to 7:30 PM Pacific Time(7:00 PM – 8:30 PM Mountain; 8:00 PM – 9:30 PM Central; 9:00 PM – 10:30 PM pm Eastern; 10:00 PM – 11:30 PM Atlantic.)
URL:https://thewayoftheheart.com/event/life-mission-masterclass-to-mastermind-call-10-3/
CATEGORIES:Telebridge
END:VEVENT
BEGIN:VEVENT
DTSTART;TZID=UTC:20250525T170000
DTEND;TZID=UTC:20250525T181500
DTSTAMP:20260420T003111
CREATED:20250213T191046Z
LAST-MODIFIED:20250213T191046Z
UID:1862-1748192400-1748196900@thewayoftheheart.com
SUMMARY:Call to Love - Inner Life Mission Immersion (Call #14)
DESCRIPTION:5:00 PM to 6:15 PM Pacific Time(6:00 PM – 7:15 PM Mountain; 7:00 PM – 8:15 PM Central; 8:00 PM – 9:15 PM pm Eastern; 9:00 PM – 10:15 PM Atlantic.)
URL:https://thewayoftheheart.com/event/call-to-love-inner-life-mission-immersion-call-14-2/
CATEGORIES:Telebridge
END:VEVENT
BEGIN:VEVENT
DTSTART;TZID=UTC:20250527T170000
DTEND;TZID=UTC:20250527T181500
DTSTAMP:20260420T003111
CREATED:20250213T192706Z
LAST-MODIFIED:20250213T192706Z
UID:1951-1748365200-1748369700@thewayoftheheart.com
SUMMARY:Making God a Reality (Call #3)
DESCRIPTION:5:00 PM to 6:15 PM Pacific Time(6:00 PM – 7:15 PM Mountain; 7:00 PM – 8:15 PM Central; 8:00 PM – 9:15 PM Eastern; 9:00 PM – 10:15 PM Atlantic.)
URL:https://thewayoftheheart.com/event/making-god-a-reality-call-3-3/
CATEGORIES:Telebridge
END:VEVENT
BEGIN:VEVENT
DTSTART;TZID=UTC:20250528T180000
DTEND;TZID=UTC:20250528T190000
DTSTAMP:20260420T003111
CREATED:20250213T192521Z
LAST-MODIFIED:20250213T192521Z
UID:1937-1748455200-1748458800@thewayoftheheart.com
SUMMARY:Deepening Inner Listening (Call #6)
DESCRIPTION:6:00 PM to 7:00 PM Pacific Time(7:00 PM – 8:00 PM Mountain; 8:00 PM – 9:00 PM Central; 9:00 PM – 10:00 PM Eastern; 10:00 PM – 11:00 PM Atlantic.)
URL:https://thewayoftheheart.com/event/deepening-inner-listening-call-6-4/
CATEGORIES:Telebridge
END:VEVENT
BEGIN:VEVENT
DTSTART;TZID=UTC:20250601T170000
DTEND;TZID=UTC:20250601T181500
DTSTAMP:20260420T003111
CREATED:20250213T191046Z
LAST-MODIFIED:20250213T191046Z
UID:1863-1748797200-1748801700@thewayoftheheart.com
SUMMARY:Call to Love - Inner Life Mission Immersion (Call #15)
DESCRIPTION:5:00 PM to 6:15 PM Pacific Time(6:00 PM – 7:15 PM Mountain; 7:00 PM – 8:15 PM Central; 8:00 PM – 9:15 PM pm Eastern; 9:00 PM – 10:15 PM Atlantic.)
URL:https://thewayoftheheart.com/event/call-to-love-inner-life-mission-immersion-call-15-2/
CATEGORIES:Telebridge
END:VEVENT
BEGIN:VEVENT
DTSTART;TZID=UTC:20250603T170000
DTEND;TZID=UTC:20250603T181500
DTSTAMP:20260420T003111
CREATED:20250213T192707Z
LAST-MODIFIED:20250213T192707Z
UID:1952-1748970000-1748974500@thewayoftheheart.com
SUMMARY:Making God a Reality (Call #4)
DESCRIPTION:5:00 PM to 6:15 PM Pacific Time(6:00 PM – 7:15 PM Mountain; 7:00 PM – 8:15 PM Central; 8:00 PM – 9:15 PM Eastern; 9:00 PM – 10:15 PM Atlantic.)
URL:https://thewayoftheheart.com/event/making-god-a-reality-call-4-3/
CATEGORIES:Telebridge
END:VEVENT
BEGIN:VEVENT
DTSTART;TZID=UTC:20250605T180000
DTEND;TZID=UTC:20250605T193000
DTSTAMP:20260420T003111
CREATED:20250213T192332Z
LAST-MODIFIED:20250213T192332Z
UID:1915-1749146400-1749151800@thewayoftheheart.com
SUMMARY:Life Mission: Masterclass to Mastermind (Call #11)
DESCRIPTION:6:00 PM to 7:30 PM Pacific Time(7:00 PM – 8:30 PM Mountain; 8:00 PM – 9:30 PM Central; 9:00 PM – 10:30 PM pm Eastern; 10:00 PM – 11:30 PM Atlantic.)
URL:https://thewayoftheheart.com/event/life-mission-masterclass-to-mastermind-call-11-3/
CATEGORIES:Telebridge
END:VEVENT
BEGIN:VEVENT
DTSTART;TZID=UTC:20250608T170000
DTEND;TZID=UTC:20250608T181500
DTSTAMP:20260420T003111
CREATED:20250213T191100Z
LAST-MODIFIED:20250213T191100Z
UID:1864-1749402000-1749406500@thewayoftheheart.com
SUMMARY:Call to Love - Inner Life Mission Immersion (Call #16)
DESCRIPTION:5:00 PM to 6:15 PM Pacific Time(6:00 PM – 7:15 PM Mountain; 7:00 PM – 8:15 PM Central; 8:00 PM – 9:15 PM pm Eastern; 9:00 PM – 10:15 PM Atlantic.)
URL:https://thewayoftheheart.com/event/call-to-love-inner-life-mission-immersion-call-16-2/
CATEGORIES:Telebridge
END:VEVENT
BEGIN:VEVENT
DTSTART;TZID=UTC:20250610T170000
DTEND;TZID=UTC:20250610T181500
DTSTAMP:20260420T003111
CREATED:20250213T192707Z
LAST-MODIFIED:20250213T192707Z
UID:1953-1749574800-1749579300@thewayoftheheart.com
SUMMARY:Making God a Reality (Call #5)
DESCRIPTION:5:00 PM to 6:15 PM Pacific Time(6:00 PM – 7:15 PM Mountain; 7:00 PM – 8:15 PM Central; 8:00 PM – 9:15 PM Eastern; 9:00 PM – 10:15 PM Atlantic.)
URL:https://thewayoftheheart.com/event/making-god-a-reality-call-5-3/
CATEGORIES:Telebridge
END:VEVENT
BEGIN:VEVENT
DTSTART;TZID=UTC:20250615T170000
DTEND;TZID=UTC:20250615T181500
DTSTAMP:20260420T003111
CREATED:20250213T191100Z
LAST-MODIFIED:20250213T191100Z
UID:1865-1750006800-1750011300@thewayoftheheart.com
SUMMARY:Call to Love - Inner Life Mission Immersion (Call #17)
DESCRIPTION:5:00 PM to 6:15 PM Pacific Time(6:00 PM – 7:15 PM Mountain; 7:00 PM – 8:15 PM Central; 8:00 PM – 9:15 PM pm Eastern; 9:00 PM – 10:15 PM Atlantic.)
URL:https://thewayoftheheart.com/event/call-to-love-inner-life-mission-immersion-call-17-2/
CATEGORIES:Telebridge
END:VEVENT
END:VCALENDAR