BEGIN:VCALENDAR
VERSION:2.0
PRODID:-//The Way of the Heart - ECPv6.15.20//NONSGML v1.0//EN
CALSCALE:GREGORIAN
METHOD:PUBLISH
X-WR-CALNAME:The Way of the Heart
X-ORIGINAL-URL:https://thewayoftheheart.com
X-WR-CALDESC:Events for The Way of the Heart
REFRESH-INTERVAL;VALUE=DURATION:PT1H
X-Robots-Tag:noindex
X-PUBLISHED-TTL:PT1H
BEGIN:VTIMEZONE
TZID:America/Los_Angeles
BEGIN:DAYLIGHT
TZOFFSETFROM:-0800
TZOFFSETTO:-0700
TZNAME:PDT
DTSTART:20220313T100000
END:DAYLIGHT
BEGIN:STANDARD
TZOFFSETFROM:-0700
TZOFFSETTO:-0800
TZNAME:PST
DTSTART:20221106T090000
END:STANDARD
BEGIN:DAYLIGHT
TZOFFSETFROM:-0800
TZOFFSETTO:-0700
TZNAME:PDT
DTSTART:20230312T100000
END:DAYLIGHT
BEGIN:STANDARD
TZOFFSETFROM:-0700
TZOFFSETTO:-0800
TZNAME:PST
DTSTART:20231105T090000
END:STANDARD
BEGIN:DAYLIGHT
TZOFFSETFROM:-0800
TZOFFSETTO:-0700
TZNAME:PDT
DTSTART:20240310T100000
END:DAYLIGHT
BEGIN:STANDARD
TZOFFSETFROM:-0700
TZOFFSETTO:-0800
TZNAME:PST
DTSTART:20241103T090000
END:STANDARD
END:VTIMEZONE
BEGIN:VTIMEZONE
TZID:UTC
BEGIN:STANDARD
TZOFFSETFROM:+0000
TZOFFSETTO:+0000
TZNAME:UTC
DTSTART:20210101T000000
END:STANDARD
END:VTIMEZONE
BEGIN:VTIMEZONE
TZID:America/Los_Angeles
BEGIN:DAYLIGHT
TZOFFSETFROM:-0800
TZOFFSETTO:-0700
TZNAME:PDT
DTSTART:20210314T100000
END:DAYLIGHT
BEGIN:STANDARD
TZOFFSETFROM:-0700
TZOFFSETTO:-0800
TZNAME:PST
DTSTART:20211107T090000
END:STANDARD
BEGIN:DAYLIGHT
TZOFFSETFROM:-0800
TZOFFSETTO:-0700
TZNAME:PDT
DTSTART:20220313T100000
END:DAYLIGHT
BEGIN:STANDARD
TZOFFSETFROM:-0700
TZOFFSETTO:-0800
TZNAME:PST
DTSTART:20221106T090000
END:STANDARD
BEGIN:DAYLIGHT
TZOFFSETFROM:-0800
TZOFFSETTO:-0700
TZNAME:PDT
DTSTART:20230312T100000
END:DAYLIGHT
BEGIN:STANDARD
TZOFFSETFROM:-0700
TZOFFSETTO:-0800
TZNAME:PST
DTSTART:20231105T090000
END:STANDARD
END:VTIMEZONE
BEGIN:VEVENT
DTSTART;TZID=America/Los_Angeles:20230316T180000
DTEND;TZID=America/Los_Angeles:20230316T193000
DTSTAMP:20260420T032507
CREATED:20230114T211824Z
LAST-MODIFIED:20230114T211824Z
UID:1618-1678989600-1678995000@thewayoftheheart.com
SUMMARY:Life Mission: Masterclass to Mastermind (Call #5)
DESCRIPTION:6:00 PM to 7:30 PM Pacific Time(7:00 PM – 8:30 PM Mountain; 8:00 PM – 9:30 PM Central; 9:00 PM – 10:30 PM pm Eastern; 10:00 PM – 11:30 PM Atlantic.)
URL:https://thewayoftheheart.com/event/life-mission-masterclass-to-mastermind-call-5/
LOCATION:Zoom
CATEGORIES:Telebridge
END:VEVENT
BEGIN:VEVENT
DTSTART;TZID=America/Los_Angeles:20230312T170000
DTEND;TZID=America/Los_Angeles:20230312T181500
DTSTAMP:20260420T032507
CREATED:20230114T211550Z
LAST-MODIFIED:20230114T211550Z
UID:1566-1678640400-1678644900@thewayoftheheart.com
SUMMARY:Inner Life Mission Immersion (Call #3)
DESCRIPTION:5:00 PM to 6:15 PM Pacific Time(6:00 PM – 7:15 PM Mountain; 7:00 PM – 8:15 PM Central; 8:00 PM – 9:15 PM pm Eastern; 9:00 PM – 10:15 PM Atlantic.)
URL:https://thewayoftheheart.com/event/inner-life-mission-immersion-call-3-3/
LOCATION:Telebridge
CATEGORIES:Telebridge
END:VEVENT
BEGIN:VEVENT
DTSTART;TZID=America/Los_Angeles:20230305T170000
DTEND;TZID=America/Los_Angeles:20230305T181500
DTSTAMP:20260420T032507
CREATED:20230114T211550Z
LAST-MODIFIED:20230114T211550Z
UID:1565-1678035600-1678040100@thewayoftheheart.com
SUMMARY:Inner Life Mission Immersion (Call #2)
DESCRIPTION:5:00 PM to 6:15 PM Pacific Time(6:00 PM – 7:15 PM Mountain; 7:00 PM – 8:15 PM Central; 8:00 PM – 9:15 PM pm Eastern; 9:00 PM – 10:15 PM Atlantic.)
URL:https://thewayoftheheart.com/event/inner-life-mission-immersion-call-2-3/
LOCATION:Telebridge
CATEGORIES:Telebridge
END:VEVENT
BEGIN:VEVENT
DTSTART;TZID=America/Los_Angeles:20230302T180000
DTEND;TZID=America/Los_Angeles:20230302T193000
DTSTAMP:20260420T032507
CREATED:20230114T211824Z
LAST-MODIFIED:20230114T211824Z
UID:1617-1677780000-1677785400@thewayoftheheart.com
SUMMARY:Life Mission: Masterclass to Mastermind (Call #4)
DESCRIPTION:6:00 PM to 7:30 PM Pacific Time(7:00 PM – 8:30 PM Mountain; 8:00 PM – 9:30 PM Central; 9:00 PM – 10:30 PM pm Eastern; 10:00 PM – 11:30 PM Atlantic.)
URL:https://thewayoftheheart.com/event/life-mission-masterclass-to-mastermind-call-4/
LOCATION:Zoom
CATEGORIES:Telebridge
END:VEVENT
BEGIN:VEVENT
DTSTART;TZID=America/Los_Angeles:20230226T170000
DTEND;TZID=America/Los_Angeles:20230226T181500
DTSTAMP:20260420T032507
CREATED:20230114T211550Z
LAST-MODIFIED:20230114T211550Z
UID:1564-1677430800-1677435300@thewayoftheheart.com
SUMMARY:Inner Life Mission Immersion (Call #1)
DESCRIPTION:5:00 PM to 6:15 PM Pacific Time(6:00 PM – 7:15 PM Mountain; 7:00 PM – 8:15 PM Central; 8:00 PM – 9:15 PM pm Eastern; 9:00 PM – 10:15 PM Atlantic.)
URL:https://thewayoftheheart.com/event/inner-life-mission-immersion-call-1-3/
LOCATION:Telebridge
CATEGORIES:Telebridge
END:VEVENT
BEGIN:VEVENT
DTSTART;TZID=America/Los_Angeles:20230216T180000
DTEND;TZID=America/Los_Angeles:20230216T193000
DTSTAMP:20260420T032507
CREATED:20230114T211824Z
LAST-MODIFIED:20230114T211824Z
UID:1616-1676570400-1676575800@thewayoftheheart.com
SUMMARY:Life Mission: Masterclass to Mastermind (Call #3)
DESCRIPTION:6:00 PM to 7:30 PM Pacific Time(7:00 PM – 8:30 PM Mountain; 8:00 PM – 9:30 PM Central; 9:00 PM – 10:30 PM pm Eastern; 10:00 PM – 11:30 PM Atlantic.)
URL:https://thewayoftheheart.com/event/life-mission-masterclass-to-mastermind-call-3/
LOCATION:Zoom
CATEGORIES:Telebridge
END:VEVENT
BEGIN:VEVENT
DTSTART;TZID=America/Los_Angeles:20230202T180000
DTEND;TZID=America/Los_Angeles:20230202T193000
DTSTAMP:20260420T032507
CREATED:20230114T211824Z
LAST-MODIFIED:20230114T211824Z
UID:1615-1675360800-1675366200@thewayoftheheart.com
SUMMARY:Life Mission: Masterclass to Mastermind (Call #2)
DESCRIPTION:6:00 PM to 7:30 PM Pacific Time(7:00 PM – 8:30 PM Mountain; 8:00 PM – 9:30 PM Central; 9:00 PM – 10:30 PM pm Eastern; 10:00 PM – 11:30 PM Atlantic.)
URL:https://thewayoftheheart.com/event/life-mission-masterclass-to-mastermind-call-2/
LOCATION:Zoom
CATEGORIES:Telebridge
END:VEVENT
BEGIN:VEVENT
DTSTART;TZID=UTC:20230122T170000
DTEND;TZID=UTC:20230122T181500
DTSTAMP:20260420T032507
CREATED:20211207T091551Z
LAST-MODIFIED:20211207T091551Z
UID:1342-1674406800-1674411300@thewayoftheheart.com
SUMMARY:Inner Life Mission Immersion (Call #48)
DESCRIPTION:5:00 PM to 6:15 PM Pacific Time(6:00 PM – 7:15 PM Mountain; 7:00 PM – 8:15 PM Central; 8:00 PM – 9:15 PM pm Eastern; 9:00 PM – 10:15 PM Atlantic.)
URL:https://thewayoftheheart.com/event/inner-life-mission-immersion-call-48/
CATEGORIES:Telebridge
END:VEVENT
BEGIN:VEVENT
DTSTART;TZID=UTC:20230115T170000
DTEND;TZID=UTC:20230115T181500
DTSTAMP:20260420T032507
CREATED:20211207T091551Z
LAST-MODIFIED:20211207T091551Z
UID:1341-1673802000-1673806500@thewayoftheheart.com
SUMMARY:Inner Life Mission Immersion (Call #47)
DESCRIPTION:5:00 PM to 6:15 PM Pacific Time(6:00 PM – 7:15 PM Mountain; 7:00 PM – 8:15 PM Central; 8:00 PM – 9:15 PM pm Eastern; 9:00 PM – 10:15 PM Atlantic.)
URL:https://thewayoftheheart.com/event/inner-life-mission-immersion-call-47/
CATEGORIES:Telebridge
END:VEVENT
BEGIN:VEVENT
DTSTART;TZID=UTC:20230108T170000
DTEND;TZID=UTC:20230108T181500
DTSTAMP:20260420T032507
CREATED:20211207T091551Z
LAST-MODIFIED:20211207T091551Z
UID:1340-1673197200-1673201700@thewayoftheheart.com
SUMMARY:Inner Life Mission Immersion (Call #46)
DESCRIPTION:5:00 PM to 6:15 PM Pacific Time(6:00 PM – 7:15 PM Mountain; 7:00 PM – 8:15 PM Central; 8:00 PM – 9:15 PM pm Eastern; 9:00 PM – 10:15 PM Atlantic.)
URL:https://thewayoftheheart.com/event/inner-life-mission-immersion-call-46/
CATEGORIES:Telebridge
END:VEVENT
BEGIN:VEVENT
DTSTART;VALUE=DATE:20230106
DTEND;VALUE=DATE:20230110
DTSTAMP:20260420T032507
CREATED:20230114T211154Z
LAST-MODIFIED:20230114T211154Z
UID:1538-1672963200-1673308799@thewayoftheheart.com
SUMMARY:Team Training Retreat
DESCRIPTION:
URL:https://thewayoftheheart.com/event/team-training-retreat/
LOCATION:Online Retreat via Zoom
CATEGORIES:Advanced class
END:VEVENT
BEGIN:VEVENT
DTSTART;TZID=America/Los_Angeles:20230105T180000
DTEND;TZID=America/Los_Angeles:20230105T193000
DTSTAMP:20260420T032507
CREATED:20230114T211824Z
LAST-MODIFIED:20230114T211824Z
UID:1614-1672941600-1672947000@thewayoftheheart.com
SUMMARY:Life Mission: Masterclass to Mastermind (Call #1)
DESCRIPTION:6:00 PM to 7:30 PM Pacific Time(7:00 PM – 8:30 PM Mountain; 8:00 PM – 9:30 PM Central; 9:00 PM – 10:30 PM pm Eastern; 10:00 PM – 11:30 PM Atlantic.)
URL:https://thewayoftheheart.com/event/life-mission-masterclass-to-mastermind-call-1/
LOCATION:Zoom
CATEGORIES:Telebridge
END:VEVENT
BEGIN:VEVENT
DTSTART;TZID=UTC:20230101T170000
DTEND;TZID=UTC:20230101T181500
DTSTAMP:20260420T032507
CREATED:20211207T091550Z
LAST-MODIFIED:20211207T091550Z
UID:1339-1672592400-1672596900@thewayoftheheart.com
SUMMARY:Inner Life Mission Immersion (Call #45)
DESCRIPTION:5:00 PM to 6:15 PM Pacific Time(6:00 PM – 7:15 PM Mountain; 7:00 PM – 8:15 PM Central; 8:00 PM – 9:15 PM pm Eastern; 9:00 PM – 10:15 PM Atlantic.)
URL:https://thewayoftheheart.com/event/inner-life-mission-immersion-call-45/
CATEGORIES:Telebridge
END:VEVENT
BEGIN:VEVENT
DTSTART;TZID=UTC:20221225T170000
DTEND;TZID=UTC:20221225T181500
DTSTAMP:20260420T032507
CREATED:20211207T091549Z
LAST-MODIFIED:20211207T091549Z
UID:1338-1671987600-1671992100@thewayoftheheart.com
SUMMARY:Inner Life Mission Immersion (Call #44)
DESCRIPTION:5:00 PM to 6:15 PM Pacific Time(6:00 PM – 7:15 PM Mountain; 7:00 PM – 8:15 PM Central; 8:00 PM – 9:15 PM pm Eastern; 9:00 PM – 10:15 PM Atlantic.)
URL:https://thewayoftheheart.com/event/inner-life-mission-immersion-call-44/
CATEGORIES:Telebridge
END:VEVENT
BEGIN:VEVENT
DTSTART;TZID=UTC:20221218T170000
DTEND;TZID=UTC:20221218T181500
DTSTAMP:20260420T032507
CREATED:20211207T091549Z
LAST-MODIFIED:20211207T091549Z
UID:1337-1671382800-1671387300@thewayoftheheart.com
SUMMARY:Inner Life Mission Immersion (Call #43)
DESCRIPTION:5:00 PM to 6:15 PM Pacific Time(6:00 PM – 7:15 PM Mountain; 7:00 PM – 8:15 PM Central; 8:00 PM – 9:15 PM pm Eastern; 9:00 PM – 10:15 PM Atlantic.)
URL:https://thewayoftheheart.com/event/inner-life-mission-immersion-call-43/
CATEGORIES:Telebridge
END:VEVENT
BEGIN:VEVENT
DTSTART;VALUE=DATE:20221212
DTEND;VALUE=DATE:20221217
DTSTAMP:20260420T032507
CREATED:20211207T074918Z
LAST-MODIFIED:20211207T074918Z
UID:1284-1670803200-1671235199@thewayoftheheart.com
SUMMARY:Pilgrimage to the Black Madonna
DESCRIPTION:
URL:https://thewayoftheheart.com/event/pilgrimage-to-the-black-madonna/
LOCATION:San Miguel de Allende\, Mexico
CATEGORIES:Advanced class
END:VEVENT
BEGIN:VEVENT
DTSTART;TZID=UTC:20221211T170000
DTEND;TZID=UTC:20221211T181500
DTSTAMP:20260420T032507
CREATED:20211207T091549Z
LAST-MODIFIED:20211207T091549Z
UID:1336-1670778000-1670782500@thewayoftheheart.com
SUMMARY:Inner Life Mission Immersion (Call #42)
DESCRIPTION:5:00 PM to 6:15 PM Pacific Time(6:00 PM – 7:15 PM Mountain; 7:00 PM – 8:15 PM Central; 8:00 PM – 9:15 PM pm Eastern; 9:00 PM – 10:15 PM Atlantic.)
URL:https://thewayoftheheart.com/event/inner-life-mission-immersion-call-42/
CATEGORIES:Telebridge
END:VEVENT
BEGIN:VEVENT
DTSTART;TZID=UTC:20221204T170000
DTEND;TZID=UTC:20221204T181500
DTSTAMP:20260420T032507
CREATED:20211207T091549Z
LAST-MODIFIED:20211207T091549Z
UID:1335-1670173200-1670177700@thewayoftheheart.com
SUMMARY:Inner Life Mission Immersion (Call #41)
DESCRIPTION:5:00 PM to 6:15 PM Pacific Time(6:00 PM – 7:15 PM Mountain; 7:00 PM – 8:15 PM Central; 8:00 PM – 9:15 PM pm Eastern; 9:00 PM – 10:15 PM Atlantic.)
URL:https://thewayoftheheart.com/event/inner-life-mission-immersion-call-41-2/
CATEGORIES:Telebridge
END:VEVENT
BEGIN:VEVENT
DTSTART;TZID=UTC:20221127T170000
DTEND;TZID=UTC:20221127T181500
DTSTAMP:20260420T032507
CREATED:20211207T091548Z
LAST-MODIFIED:20211207T091548Z
UID:1334-1669568400-1669572900@thewayoftheheart.com
SUMMARY:Inner Life Mission Immersion (Call #40)
DESCRIPTION:5:00 PM to 6:15 PM Pacific Time(6:00 PM – 7:15 PM Mountain; 7:00 PM – 8:15 PM Central; 8:00 PM – 9:15 PM pm Eastern; 9:00 PM – 10:15 PM Atlantic.)
URL:https://thewayoftheheart.com/event/inner-life-mission-immersion-call-40-2/
CATEGORIES:Telebridge
END:VEVENT
BEGIN:VEVENT
DTSTART;TZID=UTC:20221120T170000
DTEND;TZID=UTC:20221120T181500
DTSTAMP:20260420T032507
CREATED:20211207T091548Z
LAST-MODIFIED:20211207T091548Z
UID:1333-1668963600-1668968100@thewayoftheheart.com
SUMMARY:Inner Life Mission Immersion (Call #39)
DESCRIPTION:5:00 PM to 6:15 PM Pacific Time(6:00 PM – 7:15 PM Mountain; 7:00 PM – 8:15 PM Central; 8:00 PM – 9:15 PM pm Eastern; 9:00 PM – 10:15 PM Atlantic.)
URL:https://thewayoftheheart.com/event/inner-life-mission-immersion-call-39-2/
CATEGORIES:Telebridge
END:VEVENT
BEGIN:VEVENT
DTSTART;VALUE=DATE:20221118
DTEND;VALUE=DATE:20221121
DTSTAMP:20260420T032507
CREATED:20211207T074917Z
LAST-MODIFIED:20211207T074917Z
UID:1283-1668729600-1668988799@thewayoftheheart.com
SUMMARY:Cultivating Resilience & Peace
DESCRIPTION:
URL:https://thewayoftheheart.com/event/cultivating-resilience-peace-2/
LOCATION:Online training via Zoom
CATEGORIES:Advanced class
END:VEVENT
BEGIN:VEVENT
DTSTART;TZID=UTC:20221113T170000
DTEND;TZID=UTC:20221113T181500
DTSTAMP:20260420T032507
CREATED:20211207T091548Z
LAST-MODIFIED:20211207T091548Z
UID:1332-1668358800-1668363300@thewayoftheheart.com
SUMMARY:Inner Life Mission Immersion (Call #38)
DESCRIPTION:5:00 PM to 6:15 PM Pacific Time(6:00 PM – 7:15 PM Mountain; 7:00 PM – 8:15 PM Central; 8:00 PM – 9:15 PM pm Eastern; 9:00 PM – 10:15 PM Atlantic.)
URL:https://thewayoftheheart.com/event/inner-life-mission-immersion-call-38-2/
CATEGORIES:Telebridge
END:VEVENT
BEGIN:VEVENT
DTSTART;TZID=UTC:20221108T170000
DTEND;TZID=UTC:20221108T181500
DTSTAMP:20260420T032507
CREATED:20211207T093957Z
LAST-MODIFIED:20211207T093957Z
UID:1392-1667926800-1667931300@thewayoftheheart.com
SUMMARY:Transforming Grief & Shadow (Call #6)
DESCRIPTION:5:00 PM to 6:15 PM Pacific Time(6:00 PM – 7:15 PM Mountain; 7:00 PM – 8:15 PM Central; 8:00 PM – 9:15 PM pm Eastern; 9:00 PM – 10:15 PM Atlantic.)
URL:https://thewayoftheheart.com/event/transforming-grief-shadow-call-6-3/
CATEGORIES:Telebridge
END:VEVENT
BEGIN:VEVENT
DTSTART;TZID=UTC:20221106T170000
DTEND;TZID=UTC:20221106T181500
DTSTAMP:20260420T032507
CREATED:20211207T091547Z
LAST-MODIFIED:20211207T091547Z
UID:1331-1667754000-1667758500@thewayoftheheart.com
SUMMARY:Inner Life Mission Immersion (Call #37)
DESCRIPTION:5:00 PM to 6:15 PM Pacific Time(6:00 PM – 7:15 PM Mountain; 7:00 PM – 8:15 PM Central; 8:00 PM – 9:15 PM pm Eastern; 9:00 PM – 10:15 PM Atlantic.)
URL:https://thewayoftheheart.com/event/inner-life-mission-immersion-call-37-2/
CATEGORIES:Telebridge
END:VEVENT
BEGIN:VEVENT
DTSTART;TZID=UTC:20221101T170000
DTEND;TZID=UTC:20221101T181500
DTSTAMP:20260420T032507
CREATED:20211207T093955Z
LAST-MODIFIED:20211207T093955Z
UID:1391-1667322000-1667326500@thewayoftheheart.com
SUMMARY:Transforming Grief & Shadow (Call #5)
DESCRIPTION:5:00 PM to 6:15 PM Pacific Time(6:00 PM – 7:15 PM Mountain; 7:00 PM – 8:15 PM Central; 8:00 PM – 9:15 PM pm Eastern; 9:00 PM – 10:15 PM Atlantic.)
URL:https://thewayoftheheart.com/event/transforming-grief-shadow-call-5-3/
CATEGORIES:Telebridge
END:VEVENT
BEGIN:VEVENT
DTSTART;TZID=UTC:20221030T170000
DTEND;TZID=UTC:20221030T181500
DTSTAMP:20260420T032507
CREATED:20211207T091547Z
LAST-MODIFIED:20211207T091547Z
UID:1330-1667149200-1667153700@thewayoftheheart.com
SUMMARY:Inner Life Mission Immersion (Call #36)
DESCRIPTION:5:00 PM to 6:15 PM Pacific Time(6:00 PM – 7:15 PM Mountain; 7:00 PM – 8:15 PM Central; 8:00 PM – 9:15 PM pm Eastern; 9:00 PM – 10:15 PM Atlantic.)
URL:https://thewayoftheheart.com/event/inner-life-mission-immersion-call-36-2/
CATEGORIES:Telebridge
END:VEVENT
BEGIN:VEVENT
DTSTART;TZID=UTC:20221025T170000
DTEND;TZID=UTC:20221025T181500
DTSTAMP:20260420T032507
CREATED:20211207T093954Z
LAST-MODIFIED:20211207T093954Z
UID:1390-1666717200-1666721700@thewayoftheheart.com
SUMMARY:Transforming Grief & Shadow (Call #4)
DESCRIPTION:5:00 PM to 6:15 PM Pacific Time(6:00 PM – 7:15 PM Mountain; 7:00 PM – 8:15 PM Central; 8:00 PM – 9:15 PM pm Eastern; 9:00 PM – 10:15 PM Atlantic.)
URL:https://thewayoftheheart.com/event/transforming-grief-shadow-call-4-3/
CATEGORIES:Telebridge
END:VEVENT
BEGIN:VEVENT
DTSTART;TZID=UTC:20221023T170000
DTEND;TZID=UTC:20221023T181500
DTSTAMP:20260420T032507
CREATED:20211207T091546Z
LAST-MODIFIED:20211207T091546Z
UID:1329-1666544400-1666548900@thewayoftheheart.com
SUMMARY:Inner Life Mission Immersion (Call #35)
DESCRIPTION:5:00 PM to 6:15 PM Pacific Time(6:00 PM – 7:15 PM Mountain; 7:00 PM – 8:15 PM Central; 8:00 PM – 9:15 PM pm Eastern; 9:00 PM – 10:15 PM Atlantic.)
URL:https://thewayoftheheart.com/event/inner-life-mission-immersion-call-35-2/
CATEGORIES:Telebridge
END:VEVENT
BEGIN:VEVENT
DTSTART;TZID=UTC:20221018T170000
DTEND;TZID=UTC:20221018T181500
DTSTAMP:20260420T032507
CREATED:20211207T093954Z
LAST-MODIFIED:20211207T093954Z
UID:1389-1666112400-1666116900@thewayoftheheart.com
SUMMARY:Transforming Grief & Shadow (Call #3)
DESCRIPTION:5:00 PM to 6:15 PM Pacific Time(6:00 PM – 7:15 PM Mountain; 7:00 PM – 8:15 PM Central; 8:00 PM – 9:15 PM pm Eastern; 9:00 PM – 10:15 PM Atlantic.)
URL:https://thewayoftheheart.com/event/transforming-grief-shadow-call-3-3/
CATEGORIES:Telebridge
END:VEVENT
BEGIN:VEVENT
DTSTART;TZID=UTC:20221016T170000
DTEND;TZID=UTC:20221016T181500
DTSTAMP:20260420T032507
CREATED:20211207T091546Z
LAST-MODIFIED:20211207T091546Z
UID:1328-1665939600-1665944100@thewayoftheheart.com
SUMMARY:Inner Life Mission Immersion (Call #34)
DESCRIPTION:5:00 PM to 6:15 PM Pacific Time(6:00 PM – 7:15 PM Mountain; 7:00 PM – 8:15 PM Central; 8:00 PM – 9:15 PM pm Eastern; 9:00 PM – 10:15 PM Atlantic.)
URL:https://thewayoftheheart.com/event/inner-life-mission-immersion-call-34-2/
CATEGORIES:Telebridge
END:VEVENT
END:VCALENDAR