BEGIN:VCALENDAR
VERSION:2.0
PRODID:-//The Way of the Heart - ECPv6.15.20//NONSGML v1.0//EN
CALSCALE:GREGORIAN
METHOD:PUBLISH
X-ORIGINAL-URL:https://thewayoftheheart.com
X-WR-CALDESC:Events for The Way of the Heart
REFRESH-INTERVAL;VALUE=DURATION:PT1H
X-Robots-Tag:noindex
X-PUBLISHED-TTL:PT1H
BEGIN:VTIMEZONE
TZID:America/Los_Angeles
BEGIN:DAYLIGHT
TZOFFSETFROM:-0800
TZOFFSETTO:-0700
TZNAME:PDT
DTSTART:20230312T100000
END:DAYLIGHT
BEGIN:STANDARD
TZOFFSETFROM:-0700
TZOFFSETTO:-0800
TZNAME:PST
DTSTART:20231105T090000
END:STANDARD
BEGIN:DAYLIGHT
TZOFFSETFROM:-0800
TZOFFSETTO:-0700
TZNAME:PDT
DTSTART:20240310T100000
END:DAYLIGHT
BEGIN:STANDARD
TZOFFSETFROM:-0700
TZOFFSETTO:-0800
TZNAME:PST
DTSTART:20241103T090000
END:STANDARD
BEGIN:DAYLIGHT
TZOFFSETFROM:-0800
TZOFFSETTO:-0700
TZNAME:PDT
DTSTART:20250309T100000
END:DAYLIGHT
BEGIN:STANDARD
TZOFFSETFROM:-0700
TZOFFSETTO:-0800
TZNAME:PST
DTSTART:20251102T090000
END:STANDARD
BEGIN:DAYLIGHT
TZOFFSETFROM:-0800
TZOFFSETTO:-0700
TZNAME:PDT
DTSTART:20260308T100000
END:DAYLIGHT
BEGIN:STANDARD
TZOFFSETFROM:-0700
TZOFFSETTO:-0800
TZNAME:PST
DTSTART:20261101T090000
END:STANDARD
END:VTIMEZONE
BEGIN:VTIMEZONE
TZID:UTC
BEGIN:STANDARD
TZOFFSETFROM:+0000
TZOFFSETTO:+0000
TZNAME:UTC
DTSTART:20230101T000000
END:STANDARD
END:VTIMEZONE
BEGIN:VEVENT
DTSTART;VALUE=DATE:20240824
DTEND;VALUE=DATE:20240827
DTSTAMP:20260420T080013
CREATED:20240326T201126Z
LAST-MODIFIED:20240326T201126Z
UID:1739-1724457600-1724716799@thewayoftheheart.com
SUMMARY:Inner Life Mission Alchemical Retreat
DESCRIPTION:
URL:https://thewayoftheheart.com/event/inner-life-mission-alchemical-retreat-3/
CATEGORIES:Advanced class
END:VEVENT
BEGIN:VEVENT
DTSTART;VALUE=DATE:20240827
DTEND;VALUE=DATE:20240830
DTSTAMP:20260420T080013
CREATED:20240326T201126Z
LAST-MODIFIED:20240326T201126Z
UID:1740-1724716800-1724975999@thewayoftheheart.com
SUMMARY:Women's Alchemical Healing Retreat
DESCRIPTION:
URL:https://thewayoftheheart.com/event/womens-alchemical-healing-retreat-2/
LOCATION:Prescott\, Arizona\, US
CATEGORIES:Advanced class
END:VEVENT
BEGIN:VEVENT
DTSTART;TZID=UTC:20240905T180000
DTEND;TZID=UTC:20240905T193000
DTSTAMP:20260420T080013
CREATED:20240326T201558Z
LAST-MODIFIED:20240326T201558Z
UID:1808-1725559200-1725564600@thewayoftheheart.com
SUMMARY:Life Mission: Masterclass to Mastermind (Call #17)
DESCRIPTION:6:00 PM to 7:30 PM Pacific Time(7:00 PM – 8:30 PM Mountain; 8:00 PM – 9:30 PM Central; 9:00 PM – 10:30 PM pm Eastern; 10:00 PM – 11:30 PM Atlantic.)
URL:https://thewayoftheheart.com/event/life-mission-masterclass-to-mastermind-call-17-2/
CATEGORIES:Telebridge
END:VEVENT
BEGIN:VEVENT
DTSTART;TZID=UTC:20240919T180000
DTEND;TZID=UTC:20240919T193000
DTSTAMP:20260420T080013
CREATED:20240326T201558Z
LAST-MODIFIED:20240326T201558Z
UID:1810-1726768800-1726774200@thewayoftheheart.com
SUMMARY:Life Mission: Masterclass to Mastermind (Call #18)
DESCRIPTION:6:00 PM to 7:30 PM Pacific Time(7:00 PM – 8:30 PM Mountain; 8:00 PM – 9:30 PM Central; 9:00 PM – 10:30 PM pm Eastern; 10:00 PM – 11:30 PM Atlantic.)
URL:https://thewayoftheheart.com/event/life-mission-masterclass-to-mastermind-call-18-2/
CATEGORIES:Telebridge
END:VEVENT
BEGIN:VEVENT
DTSTART;VALUE=DATE:20240920
DTEND;VALUE=DATE:20240923
DTSTAMP:20260420T080013
CREATED:20240326T200936Z
LAST-MODIFIED:20240326T200936Z
UID:1731-1726790400-1727049599@thewayoftheheart.com
SUMMARY:Level I Field Training
DESCRIPTION:
URL:https://thewayoftheheart.com/event/level-i-field-training-8/
CATEGORIES:Foundation class
END:VEVENT
BEGIN:VEVENT
DTSTART;VALUE=DATE:20240927
DTEND;VALUE=DATE:20240930
DTSTAMP:20260420T080013
CREATED:20240326T200936Z
LAST-MODIFIED:20240326T200936Z
UID:1732-1727395200-1727654399@thewayoftheheart.com
SUMMARY:Level II Field Training
DESCRIPTION:
URL:https://thewayoftheheart.com/event/level-ii-field-training-8/
CATEGORIES:Foundation class
END:VEVENT
BEGIN:VEVENT
DTSTART;TZID=UTC:20241003T180000
DTEND;TZID=UTC:20241003T193000
DTSTAMP:20260420T080013
CREATED:20240326T201558Z
LAST-MODIFIED:20240326T201558Z
UID:1812-1727978400-1727983800@thewayoftheheart.com
SUMMARY:Life Mission: Masterclass to Mastermind (Call #19)
DESCRIPTION:6:00 PM to 7:30 PM Pacific Time(7:00 PM – 8:30 PM Mountain; 8:00 PM – 9:30 PM Central; 9:00 PM – 10:30 PM pm Eastern; 10:00 PM – 11:30 PM Atlantic.)
URL:https://thewayoftheheart.com/event/life-mission-masterclass-to-mastermind-call-19-2/
CATEGORIES:Telebridge
END:VEVENT
BEGIN:VEVENT
DTSTART;TZID=UTC:20241008T170000
DTEND;TZID=UTC:20241008T181500
DTSTAMP:20260420T080013
CREATED:20240326T201558Z
LAST-MODIFIED:20240326T201558Z
UID:1809-1728406800-1728411300@thewayoftheheart.com
SUMMARY:Transforming Grief & Shadow (Call #1)
DESCRIPTION:5:00 PM to 6:15 PM Pacific Time(6:00 PM – 7:15 PM Mountain; 7:00 PM – 8:15 PM Central; 8:00 PM – 9:15 PM pm Eastern; 9:00 PM – 10:15 PM Atlantic.)
URL:https://thewayoftheheart.com/event/transforming-grief-shadow-call-1-5/
CATEGORIES:Telebridge
END:VEVENT
BEGIN:VEVENT
DTSTART;TZID=UTC:20241015T170000
DTEND;TZID=UTC:20241015T181500
DTSTAMP:20260420T080013
CREATED:20240326T201558Z
LAST-MODIFIED:20240326T201558Z
UID:1811-1729011600-1729016100@thewayoftheheart.com
SUMMARY:Transforming Grief & Shadow (Call #2)
DESCRIPTION:5:00 PM to 6:15 PM Pacific Time(6:00 PM – 7:15 PM Mountain; 7:00 PM – 8:15 PM Central; 8:00 PM – 9:15 PM pm Eastern; 9:00 PM – 10:15 PM Atlantic.)
URL:https://thewayoftheheart.com/event/transforming-grief-shadow-call-2-5/
CATEGORIES:Telebridge
END:VEVENT
BEGIN:VEVENT
DTSTART;TZID=UTC:20241017T180000
DTEND;TZID=UTC:20241017T193000
DTSTAMP:20260420T080013
CREATED:20240326T201559Z
LAST-MODIFIED:20240326T201559Z
UID:1814-1729188000-1729193400@thewayoftheheart.com
SUMMARY:Life Mission: Masterclass to Mastermind (Call #20)
DESCRIPTION:6:00 PM to 7:30 PM Pacific Time(7:00 PM – 8:30 PM Mountain; 8:00 PM – 9:30 PM Central; 9:00 PM – 10:30 PM pm Eastern; 10:00 PM – 11:30 PM Atlantic.)
URL:https://thewayoftheheart.com/event/life-mission-masterclass-to-mastermind-call-20-2/
CATEGORIES:Telebridge
END:VEVENT
BEGIN:VEVENT
DTSTART;TZID=UTC:20241022T170000
DTEND;TZID=UTC:20241022T181500
DTSTAMP:20260420T080013
CREATED:20240326T201558Z
LAST-MODIFIED:20240326T201558Z
UID:1813-1729616400-1729620900@thewayoftheheart.com
SUMMARY:Transforming Grief & Shadow (Call #3)
DESCRIPTION:5:00 PM to 6:15 PM Pacific Time(6:00 PM – 7:15 PM Mountain; 7:00 PM – 8:15 PM Central; 8:00 PM – 9:15 PM pm Eastern; 9:00 PM – 10:15 PM Atlantic.)
URL:https://thewayoftheheart.com/event/transforming-grief-shadow-call-3-5/
CATEGORIES:Telebridge
END:VEVENT
BEGIN:VEVENT
DTSTART;VALUE=DATE:20241027
DTEND;VALUE=DATE:20241028
DTSTAMP:20260420T080013
CREATED:20240326T201127Z
LAST-MODIFIED:20240326T201127Z
UID:1741-1729987200-1730073599@thewayoftheheart.com
SUMMARY:Exploring the Inner Life Alchemical Retreat Gateway
DESCRIPTION:
URL:https://thewayoftheheart.com/event/exploring-the-inner-life-alchemical-retreat-gateway-3/
LOCATION:Zoom Retreat w/ Kimberly
CATEGORIES:Advanced class
END:VEVENT
BEGIN:VEVENT
DTSTART;TZID=UTC:20241029T170000
DTEND;TZID=UTC:20241029T181500
DTSTAMP:20260420T080013
CREATED:20240326T201559Z
LAST-MODIFIED:20240326T201559Z
UID:1815-1730221200-1730225700@thewayoftheheart.com
SUMMARY:Transforming Grief & Shadow (Call #4)
DESCRIPTION:5:00 PM to 6:15 PM Pacific Time(6:00 PM – 7:15 PM Mountain; 7:00 PM – 8:15 PM Central; 8:00 PM – 9:15 PM pm Eastern; 9:00 PM – 10:15 PM Atlantic.)
URL:https://thewayoftheheart.com/event/transforming-grief-shadow-call-4-5/
CATEGORIES:Telebridge
END:VEVENT
BEGIN:VEVENT
DTSTART;TZID=UTC:20241105T170000
DTEND;TZID=UTC:20241105T181500
DTSTAMP:20260420T080013
CREATED:20240326T201559Z
LAST-MODIFIED:20240326T201559Z
UID:1816-1730826000-1730830500@thewayoftheheart.com
SUMMARY:Transforming Grief & Shadow (Call #5)
DESCRIPTION:5:00 PM to 6:15 PM Pacific Time(6:00 PM – 7:15 PM Mountain; 7:00 PM – 8:15 PM Central; 8:00 PM – 9:15 PM pm Eastern; 9:00 PM – 10:15 PM Atlantic.)
URL:https://thewayoftheheart.com/event/transforming-grief-shadow-call-5-5/
CATEGORIES:Telebridge
END:VEVENT
BEGIN:VEVENT
DTSTART;TZID=UTC:20241112T170000
DTEND;TZID=UTC:20241112T181500
DTSTAMP:20260420T080013
CREATED:20240326T201559Z
LAST-MODIFIED:20240326T201559Z
UID:1817-1731430800-1731435300@thewayoftheheart.com
SUMMARY:Transforming Grief & Shadow (Call #6)
DESCRIPTION:5:00 PM to 6:15 PM Pacific Time(6:00 PM – 7:15 PM Mountain; 7:00 PM – 8:15 PM Central; 8:00 PM – 9:15 PM pm Eastern; 9:00 PM – 10:15 PM Atlantic.)
URL:https://thewayoftheheart.com/event/transforming-grief-shadow-call-6-5/
CATEGORIES:Telebridge
END:VEVENT
BEGIN:VEVENT
DTSTART;VALUE=DATE:20241115
DTEND;VALUE=DATE:20241118
DTSTAMP:20260420T080013
CREATED:20240326T201127Z
LAST-MODIFIED:20240326T201127Z
UID:1742-1731628800-1731887999@thewayoftheheart.com
SUMMARY:The Love Generator Advanced Field Training
DESCRIPTION:
URL:https://thewayoftheheart.com/event/the-love-generator-advanced-field-training/
LOCATION:Online training via Zoom
CATEGORIES:Advanced class
END:VEVENT
BEGIN:VEVENT
DTSTART;VALUE=DATE:20241212
DTEND;VALUE=DATE:20241217
DTSTAMP:20260420T080013
CREATED:20240326T201127Z
LAST-MODIFIED:20240326T201127Z
UID:1743-1733961600-1734393599@thewayoftheheart.com
SUMMARY:28th year - Pilgrimage to the Black Madonna
DESCRIPTION:
URL:https://thewayoftheheart.com/event/28th-year-pilgrimage-to-the-black-madonna/
LOCATION:San Miguel de Allende\, Mexico
CATEGORIES:Advanced class
END:VEVENT
BEGIN:VEVENT
DTSTART;VALUE=DATE:20250105
DTEND;VALUE=DATE:20250106
DTSTAMP:20260420T080013
CREATED:20250213T190755Z
LAST-MODIFIED:20250213T190755Z
UID:1836-1736035200-1736121599@thewayoftheheart.com
SUMMARY:Exploring the Inner Life Alchemical Retreat Gateway
DESCRIPTION:
URL:https://thewayoftheheart.com/event/exploring-the-inner-life-alchemical-retreat-gateway-4/
LOCATION:Zoom Retreat w/ Kimberly
CATEGORIES:Advanced class
END:VEVENT
BEGIN:VEVENT
DTSTART;VALUE=DATE:20250110
DTEND;VALUE=DATE:20250114
DTSTAMP:20260420T080013
CREATED:20250213T190755Z
LAST-MODIFIED:20250213T190755Z
UID:1837-1736467200-1736812799@thewayoftheheart.com
SUMMARY:TWOTH Team Training Retreat
DESCRIPTION:
URL:https://thewayoftheheart.com/event/twoth-team-training-retreat/
LOCATION:Online Retreat via Zoom
CATEGORIES:Advanced class
END:VEVENT
BEGIN:VEVENT
DTSTART;TZID=UTC:20250116T180000
DTEND;TZID=UTC:20250116T193000
DTSTAMP:20260420T080013
CREATED:20250213T192314Z
LAST-MODIFIED:20250213T192314Z
UID:1900-1737050400-1737055800@thewayoftheheart.com
SUMMARY:Life Mission: Masterclass to Mastermind (Call #1)
DESCRIPTION:6:00 PM to 7:30 PM Pacific Time(7:00 PM – 8:30 PM Mountain; 8:00 PM – 9:30 PM Central; 9:00 PM – 10:30 PM pm Eastern; 10:00 PM – 11:30 PM Atlantic.)
URL:https://thewayoftheheart.com/event/life-mission-masterclass-to-mastermind-call-1-3/
CATEGORIES:Telebridge
END:VEVENT
BEGIN:VEVENT
DTSTART;TZID=UTC:20250130T180000
DTEND;TZID=UTC:20250130T193000
DTSTAMP:20260420T080013
CREATED:20250213T192314Z
LAST-MODIFIED:20250213T192314Z
UID:1901-1738260000-1738265400@thewayoftheheart.com
SUMMARY:Life Mission: Masterclass to Mastermind (Call #2)
DESCRIPTION:6:00 PM to 7:30 PM Pacific Time(7:00 PM – 8:30 PM Mountain; 8:00 PM – 9:30 PM Central; 9:00 PM – 10:30 PM pm Eastern; 10:00 PM – 11:30 PM Atlantic.)
URL:https://thewayoftheheart.com/event/life-mission-masterclass-to-mastermind-call-2-3/
CATEGORIES:Telebridge
END:VEVENT
BEGIN:VEVENT
DTSTART;TZID=UTC:20250213T180000
DTEND;TZID=UTC:20250213T193000
DTSTAMP:20260420T080013
CREATED:20250213T192315Z
LAST-MODIFIED:20250213T192315Z
UID:1902-1739469600-1739475000@thewayoftheheart.com
SUMMARY:Life Mission: Masterclass to Mastermind (Call #3)
DESCRIPTION:6:00 PM to 7:30 PM Pacific Time(7:00 PM – 8:30 PM Mountain; 8:00 PM – 9:30 PM Central; 9:00 PM – 10:30 PM pm Eastern; 10:00 PM – 11:30 PM Atlantic.)
URL:https://thewayoftheheart.com/event/life-mission-masterclass-to-mastermind-call-3-3/
CATEGORIES:Telebridge
END:VEVENT
BEGIN:VEVENT
DTSTART;TZID=UTC:20250223T170000
DTEND;TZID=UTC:20250223T181500
DTSTAMP:20260420T080013
CREATED:20250213T191028Z
LAST-MODIFIED:20250213T191028Z
UID:1849-1740330000-1740334500@thewayoftheheart.com
SUMMARY:Call to Love - Inner Life Mission Immersion (Call #1)
DESCRIPTION:5:00 PM to 6:15 PM Pacific Time(6:00 PM – 7:15 PM Mountain; 7:00 PM – 8:15 PM Central; 8:00 PM – 9:15 PM pm Eastern; 9:00 PM – 10:15 PM Atlantic.)
URL:https://thewayoftheheart.com/event/call-to-love-inner-life-mission-immersion-call-1-2/
CATEGORIES:Telebridge
END:VEVENT
BEGIN:VEVENT
DTSTART;TZID=UTC:20250227T180000
DTEND;TZID=UTC:20250227T193000
DTSTAMP:20260420T080013
CREATED:20250213T192315Z
LAST-MODIFIED:20250213T192315Z
UID:1903-1740679200-1740684600@thewayoftheheart.com
SUMMARY:Life Mission: Masterclass to Mastermind (Call #4)
DESCRIPTION:6:00 PM to 7:30 PM Pacific Time(7:00 PM – 8:30 PM Mountain; 8:00 PM – 9:30 PM Central; 9:00 PM – 10:30 PM pm Eastern; 10:00 PM – 11:30 PM Atlantic.)
URL:https://thewayoftheheart.com/event/life-mission-masterclass-to-mastermind-call-4-3/
CATEGORIES:Telebridge
END:VEVENT
BEGIN:VEVENT
DTSTART;TZID=UTC:20250302T170000
DTEND;TZID=UTC:20250302T181500
DTSTAMP:20260420T080013
CREATED:20250213T191028Z
LAST-MODIFIED:20250213T191028Z
UID:1850-1740934800-1740939300@thewayoftheheart.com
SUMMARY:Call to Love - Inner Life Mission Immersion (Call #2)
DESCRIPTION:5:00 PM to 6:15 PM Pacific Time(6:00 PM – 7:15 PM Mountain; 7:00 PM – 8:15 PM Central; 8:00 PM – 9:15 PM pm Eastern; 9:00 PM – 10:15 PM Atlantic.)
URL:https://thewayoftheheart.com/event/call-to-love-inner-life-mission-immersion-call-2-2/
CATEGORIES:Telebridge
END:VEVENT
BEGIN:VEVENT
DTSTART;TZID=UTC:20250309T170000
DTEND;TZID=UTC:20250309T181500
DTSTAMP:20260420T080013
CREATED:20250213T191029Z
LAST-MODIFIED:20250213T191029Z
UID:1851-1741539600-1741544100@thewayoftheheart.com
SUMMARY:Call to Love - Inner Life Mission Immersion (Call #3)
DESCRIPTION:5:00 PM to 6:15 PM Pacific Time(6:00 PM – 7:15 PM Mountain; 7:00 PM – 8:15 PM Central; 8:00 PM – 9:15 PM pm Eastern; 9:00 PM – 10:15 PM Atlantic.)
URL:https://thewayoftheheart.com/event/call-to-love-inner-life-mission-immersion-call-3-2/
CATEGORIES:Telebridge
END:VEVENT
BEGIN:VEVENT
DTSTART;TZID=UTC:20250313T180000
DTEND;TZID=UTC:20250313T193000
DTSTAMP:20260420T080013
CREATED:20250213T192315Z
LAST-MODIFIED:20250213T192315Z
UID:1904-1741888800-1741894200@thewayoftheheart.com
SUMMARY:Life Mission: Masterclass to Mastermind (Call #5)
DESCRIPTION:6:00 PM to 7:30 PM Pacific Time(7:00 PM – 8:30 PM Mountain; 8:00 PM – 9:30 PM Central; 9:00 PM – 10:30 PM pm Eastern; 10:00 PM – 11:30 PM Atlantic.)
URL:https://thewayoftheheart.com/event/life-mission-masterclass-to-mastermind-call-5-3/
CATEGORIES:Telebridge
END:VEVENT
BEGIN:VEVENT
DTSTART;TZID=UTC:20250316T170000
DTEND;TZID=UTC:20250316T181500
DTSTAMP:20260420T080013
CREATED:20250213T191029Z
LAST-MODIFIED:20250213T191029Z
UID:1852-1742144400-1742148900@thewayoftheheart.com
SUMMARY:Call to Love - Inner Life Mission Immersion (Call #4)
DESCRIPTION:5:00 PM to 6:15 PM Pacific Time(6:00 PM – 7:15 PM Mountain; 7:00 PM – 8:15 PM Central; 8:00 PM – 9:15 PM pm Eastern; 9:00 PM – 10:15 PM Atlantic.)
URL:https://thewayoftheheart.com/event/call-to-love-inner-life-mission-immersion-call-4-2/
CATEGORIES:Telebridge
END:VEVENT
BEGIN:VEVENT
DTSTART;TZID=UTC:20250323T170000
DTEND;TZID=UTC:20250323T181500
DTSTAMP:20260420T080013
CREATED:20250213T191029Z
LAST-MODIFIED:20250213T191029Z
UID:1853-1742749200-1742753700@thewayoftheheart.com
SUMMARY:Call to Love - Inner Life Mission Immersion (Call #5)
DESCRIPTION:5:00 PM to 6:15 PM Pacific Time(6:00 PM – 7:15 PM Mountain; 7:00 PM – 8:15 PM Central; 8:00 PM – 9:15 PM pm Eastern; 9:00 PM – 10:15 PM Atlantic.)
URL:https://thewayoftheheart.com/event/call-to-love-inner-life-mission-immersion-call-5-2/
CATEGORIES:Telebridge
END:VEVENT
BEGIN:VEVENT
DTSTART;TZID=UTC:20250327T180000
DTEND;TZID=UTC:20250327T193000
DTSTAMP:20260420T080013
CREATED:20250213T192316Z
LAST-MODIFIED:20250213T192317Z
UID:1905-1743098400-1743103800@thewayoftheheart.com
SUMMARY:Life Mission: Masterclass to Mastermind (Call #6)
DESCRIPTION:6:00 PM to 7:30 PM Pacific Time(7:00 PM – 8:30 PM Mountain; 8:00 PM – 9:30 PM Central; 9:00 PM – 10:30 PM pm Eastern; 10:00 PM – 11:30 PM Atlantic.)
URL:https://thewayoftheheart.com/event/life-mission-masterclass-to-mastermind-call-6-3/
CATEGORIES:Telebridge
END:VEVENT
END:VCALENDAR