BEGIN:VCALENDAR
VERSION:2.0
PRODID:-//The Way of the Heart - ECPv6.15.20//NONSGML v1.0//EN
CALSCALE:GREGORIAN
METHOD:PUBLISH
X-WR-CALNAME:The Way of the Heart
X-ORIGINAL-URL:https://thewayoftheheart.com
X-WR-CALDESC:Events for The Way of the Heart
REFRESH-INTERVAL;VALUE=DURATION:PT1H
X-Robots-Tag:noindex
X-PUBLISHED-TTL:PT1H
BEGIN:VTIMEZONE
TZID:UTC
BEGIN:STANDARD
TZOFFSETFROM:+0000
TZOFFSETTO:+0000
TZNAME:UTC
DTSTART:20210101T000000
END:STANDARD
END:VTIMEZONE
BEGIN:VTIMEZONE
TZID:America/Los_Angeles
BEGIN:DAYLIGHT
TZOFFSETFROM:-0800
TZOFFSETTO:-0700
TZNAME:PDT
DTSTART:20210314T100000
END:DAYLIGHT
BEGIN:STANDARD
TZOFFSETFROM:-0700
TZOFFSETTO:-0800
TZNAME:PST
DTSTART:20211107T090000
END:STANDARD
BEGIN:DAYLIGHT
TZOFFSETFROM:-0800
TZOFFSETTO:-0700
TZNAME:PDT
DTSTART:20220313T100000
END:DAYLIGHT
BEGIN:STANDARD
TZOFFSETFROM:-0700
TZOFFSETTO:-0800
TZNAME:PST
DTSTART:20221106T090000
END:STANDARD
BEGIN:DAYLIGHT
TZOFFSETFROM:-0800
TZOFFSETTO:-0700
TZNAME:PDT
DTSTART:20230312T100000
END:DAYLIGHT
BEGIN:STANDARD
TZOFFSETFROM:-0700
TZOFFSETTO:-0800
TZNAME:PST
DTSTART:20231105T090000
END:STANDARD
END:VTIMEZONE
BEGIN:VTIMEZONE
TZID:America/Denver
BEGIN:DAYLIGHT
TZOFFSETFROM:-0700
TZOFFSETTO:-0600
TZNAME:MDT
DTSTART:20210314T090000
END:DAYLIGHT
BEGIN:STANDARD
TZOFFSETFROM:-0600
TZOFFSETTO:-0700
TZNAME:MST
DTSTART:20211107T080000
END:STANDARD
BEGIN:DAYLIGHT
TZOFFSETFROM:-0700
TZOFFSETTO:-0600
TZNAME:MDT
DTSTART:20220313T090000
END:DAYLIGHT
BEGIN:STANDARD
TZOFFSETFROM:-0600
TZOFFSETTO:-0700
TZNAME:MST
DTSTART:20221106T080000
END:STANDARD
BEGIN:DAYLIGHT
TZOFFSETFROM:-0700
TZOFFSETTO:-0600
TZNAME:MDT
DTSTART:20230312T090000
END:DAYLIGHT
BEGIN:STANDARD
TZOFFSETFROM:-0600
TZOFFSETTO:-0700
TZNAME:MST
DTSTART:20231105T080000
END:STANDARD
END:VTIMEZONE
BEGIN:VEVENT
DTSTART;TZID=UTC:20220727T180000
DTEND;TZID=UTC:20220727T191500
DTSTAMP:20260420T111355
CREATED:20211207T093456Z
LAST-MODIFIED:20220328T052610Z
UID:1381-1658944800-1658949300@thewayoftheheart.com
SUMMARY:Deep Listening (Call #3)
DESCRIPTION:6:00 PM to 7:15 PM Pacific Time(7:00 PM – 8:15 PM Mountain; 8:00 PM – 9:15 PM Central; 9:00 PM – 10:15 PM pm Eastern; 10:00 PM – 11:15 PM Atlantic.)
URL:https://thewayoftheheart.com/event/deep-listening-call-3/
CATEGORIES:Telebridge
END:VEVENT
BEGIN:VEVENT
DTSTART;TZID=UTC:20220724T170000
DTEND;TZID=UTC:20220724T181500
DTSTAMP:20260420T111355
CREATED:20211207T091542Z
LAST-MODIFIED:20211207T091542Z
UID:1316-1658682000-1658686500@thewayoftheheart.com
SUMMARY:Inner Life Mission Immersion (Call #22)
DESCRIPTION:5:00 PM to 6:15 PM Pacific Time(6:00 PM – 7:15 PM Mountain; 7:00 PM – 8:15 PM Central; 8:00 PM – 9:15 PM pm Eastern; 9:00 PM – 10:15 PM Atlantic.)
URL:https://thewayoftheheart.com/event/inner-life-mission-immersion-call-22-2/
CATEGORIES:Telebridge
END:VEVENT
BEGIN:VEVENT
DTSTART;TZID=UTC:20220720T180000
DTEND;TZID=UTC:20220720T191500
DTSTAMP:20260420T111355
CREATED:20211207T093455Z
LAST-MODIFIED:20220328T052550Z
UID:1380-1658340000-1658344500@thewayoftheheart.com
SUMMARY:Deep Listening (Call #2)
DESCRIPTION:6:00 PM to 7:15 PM Pacific Time(7:00 PM – 8:15 PM Mountain; 8:00 PM – 9:15 PM Central; 9:00 PM – 10:15 PM pm Eastern; 10:00 PM – 11:15 PM Atlantic.)
URL:https://thewayoftheheart.com/event/deep-listening-call-2/
CATEGORIES:Telebridge
END:VEVENT
BEGIN:VEVENT
DTSTART;TZID=UTC:20220717T170000
DTEND;TZID=UTC:20220717T181500
DTSTAMP:20260420T111355
CREATED:20211207T091542Z
LAST-MODIFIED:20211207T091542Z
UID:1315-1658077200-1658081700@thewayoftheheart.com
SUMMARY:Inner Life Mission Immersion (Call #21)
DESCRIPTION:5:00 PM to 6:15 PM Pacific Time(6:00 PM – 7:15 PM Mountain; 7:00 PM – 8:15 PM Central; 8:00 PM – 9:15 PM pm Eastern; 9:00 PM – 10:15 PM Atlantic.)
URL:https://thewayoftheheart.com/event/inner-life-mission-immersion-call-21-2/
CATEGORIES:Telebridge
END:VEVENT
BEGIN:VEVENT
DTSTART;TZID=UTC:20220713T180000
DTEND;TZID=UTC:20220713T191500
DTSTAMP:20260420T111355
CREATED:20211207T093455Z
LAST-MODIFIED:20220328T052451Z
UID:1379-1657735200-1657739700@thewayoftheheart.com
SUMMARY:Deep Listening (Call #1)
DESCRIPTION:6:00 PM to 7:15 PM Pacific Time(7:00 PM – 8:15 PM Mountain; 8:00 PM – 9:15 PM Central; 9:00 PM – 10:15 PM pm Eastern; 10:00 PM – 11:15 PM Atlantic.)
URL:https://thewayoftheheart.com/event/deep-listening-call-1/
CATEGORIES:Telebridge
END:VEVENT
BEGIN:VEVENT
DTSTART;TZID=UTC:20220710T170000
DTEND;TZID=UTC:20220710T181500
DTSTAMP:20260420T111355
CREATED:20211207T091541Z
LAST-MODIFIED:20211207T091541Z
UID:1314-1657472400-1657476900@thewayoftheheart.com
SUMMARY:Inner Life Mission Immersion (Call #20)
DESCRIPTION:5:00 PM to 6:15 PM Pacific Time(6:00 PM – 7:15 PM Mountain; 7:00 PM – 8:15 PM Central; 8:00 PM – 9:15 PM pm Eastern; 9:00 PM – 10:15 PM Atlantic.)
URL:https://thewayoftheheart.com/event/inner-life-mission-immersion-call-20-2/
CATEGORIES:Telebridge
END:VEVENT
BEGIN:VEVENT
DTSTART;TZID=UTC:20220703T170000
DTEND;TZID=UTC:20220703T181500
DTSTAMP:20260420T111355
CREATED:20211207T091541Z
LAST-MODIFIED:20211207T091541Z
UID:1313-1656867600-1656872100@thewayoftheheart.com
SUMMARY:Inner Life Mission Immersion (Call #19)
DESCRIPTION:5:00 PM to 6:15 PM Pacific Time(6:00 PM – 7:15 PM Mountain; 7:00 PM – 8:15 PM Central; 8:00 PM – 9:15 PM pm Eastern; 9:00 PM – 10:15 PM Atlantic.)
URL:https://thewayoftheheart.com/event/inner-life-mission-immersion-call-19-2/
CATEGORIES:Telebridge
END:VEVENT
BEGIN:VEVENT
DTSTART;TZID=UTC:20220626T170000
DTEND;TZID=UTC:20220626T181500
DTSTAMP:20260420T111355
CREATED:20211207T091541Z
LAST-MODIFIED:20211207T091541Z
UID:1312-1656262800-1656267300@thewayoftheheart.com
SUMMARY:Inner Life Mission Immersion (Call #18)
DESCRIPTION:5:00 PM to 6:15 PM Pacific Time(6:00 PM – 7:15 PM Mountain; 7:00 PM – 8:15 PM Central; 8:00 PM – 9:15 PM pm Eastern; 9:00 PM – 10:15 PM Atlantic.)
URL:https://thewayoftheheart.com/event/inner-life-mission-immersion-call-18-2/
CATEGORIES:Telebridge
END:VEVENT
BEGIN:VEVENT
DTSTART;TZID=UTC:20220619T170000
DTEND;TZID=UTC:20220619T181500
DTSTAMP:20260420T111355
CREATED:20211207T091540Z
LAST-MODIFIED:20211207T091540Z
UID:1311-1655658000-1655662500@thewayoftheheart.com
SUMMARY:Inner Life Mission Immersion (Call #17)
DESCRIPTION:5:00 PM to 6:15 PM Pacific Time(6:00 PM – 7:15 PM Mountain; 7:00 PM – 8:15 PM Central; 8:00 PM – 9:15 PM pm Eastern; 9:00 PM – 10:15 PM Atlantic.)
URL:https://thewayoftheheart.com/event/inner-life-mission-immersion-call-17-2/
CATEGORIES:Telebridge
END:VEVENT
BEGIN:VEVENT
DTSTART;TZID=UTC:20220612T170000
DTEND;TZID=UTC:20220612T181500
DTSTAMP:20260420T111355
CREATED:20211207T091540Z
LAST-MODIFIED:20211207T091540Z
UID:1310-1655053200-1655057700@thewayoftheheart.com
SUMMARY:Inner Life Mission Immersion (Call #16)
DESCRIPTION:5:00 PM to 6:15 PM Pacific Time(6:00 PM – 7:15 PM Mountain; 7:00 PM – 8:15 PM Central; 8:00 PM – 9:15 PM pm Eastern; 9:00 PM – 10:15 PM Atlantic.)
URL:https://thewayoftheheart.com/event/inner-life-mission-immersion-call-16-2/
CATEGORIES:Telebridge
END:VEVENT
BEGIN:VEVENT
DTSTART;TZID=UTC:20220607T170000
DTEND;TZID=UTC:20220607T181500
DTSTAMP:20260420T111355
CREATED:20211207T093029Z
LAST-MODIFIED:20211207T093029Z
UID:1376-1654621200-1654625700@thewayoftheheart.com
SUMMARY:Making God a Reality (Call #6)
DESCRIPTION:5:00 PM to 6:15 PM Pacific Time(6:00 PM – 7:15 PM Mountain; 7:00 PM – 8:15 PM Central; 8:00 PM – 9:15 PM pm Eastern; 9:00 PM – 10:15 PM Atlantic.)
URL:https://thewayoftheheart.com/event/making-god-a-reality-call-6-2/
CATEGORIES:Telebridge
END:VEVENT
BEGIN:VEVENT
DTSTART;TZID=UTC:20220605T170000
DTEND;TZID=UTC:20220605T181500
DTSTAMP:20260420T111355
CREATED:20211207T091539Z
LAST-MODIFIED:20211207T091539Z
UID:1309-1654448400-1654452900@thewayoftheheart.com
SUMMARY:Inner Life Mission Immersion (Call #15)
DESCRIPTION:5:00 PM to 6:15 PM Pacific Time(6:00 PM – 7:15 PM Mountain; 7:00 PM – 8:15 PM Central; 8:00 PM – 9:15 PM pm Eastern; 9:00 PM – 10:15 PM Atlantic.)
URL:https://thewayoftheheart.com/event/inner-life-mission-immersion-call-15-2/
CATEGORIES:Telebridge
END:VEVENT
BEGIN:VEVENT
DTSTART;VALUE=DATE:20220603
DTEND;VALUE=DATE:20220606
DTSTAMP:20260420T111355
CREATED:20211207T074916Z
LAST-MODIFIED:20211207T082214Z
UID:1278-1654214400-1654473599@thewayoftheheart.com
SUMMARY:Life Mission IV
DESCRIPTION:
URL:https://thewayoftheheart.com/event/life-mission-iv/
LOCATION:Online via Zoom
CATEGORIES:Advanced class
END:VEVENT
BEGIN:VEVENT
DTSTART;TZID=UTC:20220531T170000
DTEND;TZID=UTC:20220531T181500
DTSTAMP:20260420T111355
CREATED:20211207T093027Z
LAST-MODIFIED:20211207T093027Z
UID:1375-1654016400-1654020900@thewayoftheheart.com
SUMMARY:Making God a Reality (Call #5)
DESCRIPTION:5:00 PM to 6:15 PM Pacific Time(6:00 PM – 7:15 PM Mountain; 7:00 PM – 8:15 PM Central; 8:00 PM – 9:15 PM pm Eastern; 9:00 PM – 10:15 PM Atlantic.)
URL:https://thewayoftheheart.com/event/making-god-a-reality-call-5-2/
CATEGORIES:Telebridge
END:VEVENT
BEGIN:VEVENT
DTSTART;TZID=UTC:20220529T170000
DTEND;TZID=UTC:20220529T181500
DTSTAMP:20260420T111355
CREATED:20211207T091539Z
LAST-MODIFIED:20211207T091539Z
UID:1308-1653843600-1653848100@thewayoftheheart.com
SUMMARY:Inner Life Mission Immersion (Call #14)
DESCRIPTION:5:00 PM to 6:15 PM Pacific Time(6:00 PM – 7:15 PM Mountain; 7:00 PM – 8:15 PM Central; 8:00 PM – 9:15 PM pm Eastern; 9:00 PM – 10:15 PM Atlantic.)
URL:https://thewayoftheheart.com/event/inner-life-mission-immersion-call-14-2/
CATEGORIES:Telebridge
END:VEVENT
BEGIN:VEVENT
DTSTART;TZID=UTC:20220524T170000
DTEND;TZID=UTC:20220524T181500
DTSTAMP:20260420T111355
CREATED:20211207T093027Z
LAST-MODIFIED:20211207T093027Z
UID:1374-1653411600-1653416100@thewayoftheheart.com
SUMMARY:Making God a Reality (Call #4)
DESCRIPTION:5:00 PM to 6:15 PM Pacific Time(6:00 PM – 7:15 PM Mountain; 7:00 PM – 8:15 PM Central; 8:00 PM – 9:15 PM pm Eastern; 9:00 PM – 10:15 PM Atlantic.)
URL:https://thewayoftheheart.com/event/making-god-a-reality-call-4-2/
CATEGORIES:Telebridge
END:VEVENT
BEGIN:VEVENT
DTSTART;TZID=UTC:20220522T170000
DTEND;TZID=UTC:20220522T181500
DTSTAMP:20260420T111355
CREATED:20211207T091539Z
LAST-MODIFIED:20211207T091539Z
UID:1307-1653238800-1653243300@thewayoftheheart.com
SUMMARY:Inner Life Mission Immersion (Call #13)
DESCRIPTION:5:00 PM to 6:15 PM Pacific Time(6:00 PM – 7:15 PM Mountain; 7:00 PM – 8:15 PM Central; 8:00 PM – 9:15 PM pm Eastern; 9:00 PM – 10:15 PM Atlantic.)
URL:https://thewayoftheheart.com/event/inner-life-mission-immersion-call-13-2/
CATEGORIES:Telebridge
END:VEVENT
BEGIN:VEVENT
DTSTART;TZID=UTC:20220517T170000
DTEND;TZID=UTC:20220517T181500
DTSTAMP:20260420T111355
CREATED:20211207T093027Z
LAST-MODIFIED:20211207T093027Z
UID:1373-1652806800-1652811300@thewayoftheheart.com
SUMMARY:Making God a Reality (Call #3)
DESCRIPTION:5:00 PM to 6:15 PM Pacific Time(6:00 PM – 7:15 PM Mountain; 7:00 PM – 8:15 PM Central; 8:00 PM – 9:15 PM pm Eastern; 9:00 PM – 10:15 PM Atlantic.)
URL:https://thewayoftheheart.com/event/making-god-a-reality-call-3-2/
CATEGORIES:Telebridge
END:VEVENT
BEGIN:VEVENT
DTSTART;TZID=UTC:20220515T170000
DTEND;TZID=UTC:20220515T181500
DTSTAMP:20260420T111355
CREATED:20211207T091539Z
LAST-MODIFIED:20211207T091539Z
UID:1306-1652634000-1652638500@thewayoftheheart.com
SUMMARY:Inner Life Mission Immersion (Call #12)
DESCRIPTION:5:00 PM to 6:15 PM Pacific Time(6:00 PM – 7:15 PM Mountain; 7:00 PM – 8:15 PM Central; 8:00 PM – 9:15 PM pm Eastern; 9:00 PM – 10:15 PM Atlantic.)
URL:https://thewayoftheheart.com/event/inner-life-mission-immersion-call-12-2/
CATEGORIES:Telebridge
END:VEVENT
BEGIN:VEVENT
DTSTART;TZID=America/Denver:20220515T120000
DTEND;TZID=America/Denver:20220515T153000
DTSTAMP:20260420T111355
CREATED:20220410T172755Z
LAST-MODIFIED:20220410T172755Z
UID:1412-1652616000-1652628600@thewayoftheheart.com
SUMMARY:Gateway on Zoom
DESCRIPTION:(12-3:30pm Pacific / 1-4:30pm Mountain / 2-5:30pm Central / 3-6:30pm Eastern / 4-7:30pm Atlantic)
URL:https://thewayoftheheart.com/event/gateway-05-15-22/
LOCATION:Zoom
END:VEVENT
BEGIN:VEVENT
DTSTART;TZID=UTC:20220510T170000
DTEND;TZID=UTC:20220510T181500
DTSTAMP:20260420T111355
CREATED:20211207T093027Z
LAST-MODIFIED:20211207T093027Z
UID:1372-1652202000-1652206500@thewayoftheheart.com
SUMMARY:Making God a Reality (Call #2)
DESCRIPTION:5:00 PM to 6:15 PM Pacific Time(6:00 PM – 7:15 PM Mountain; 7:00 PM – 8:15 PM Central; 8:00 PM – 9:15 PM pm Eastern; 9:00 PM – 10:15 PM Atlantic.)
URL:https://thewayoftheheart.com/event/making-god-a-reality-call-2-2/
CATEGORIES:Telebridge
END:VEVENT
BEGIN:VEVENT
DTSTART;TZID=UTC:20220508T170000
DTEND;TZID=UTC:20220508T181500
DTSTAMP:20260420T111355
CREATED:20211207T091538Z
LAST-MODIFIED:20211207T091538Z
UID:1305-1652029200-1652033700@thewayoftheheart.com
SUMMARY:Inner Life Mission Immersion (Call #11)
DESCRIPTION:5:00 PM to 6:15 PM Pacific Time(6:00 PM – 7:15 PM Mountain; 7:00 PM – 8:15 PM Central; 8:00 PM – 9:15 PM pm Eastern; 9:00 PM – 10:15 PM Atlantic.)
URL:https://thewayoftheheart.com/event/inner-life-mission-immersion-call-11-2/
CATEGORIES:Telebridge
END:VEVENT
BEGIN:VEVENT
DTSTART;TZID=UTC:20220503T170000
DTEND;TZID=UTC:20220503T181500
DTSTAMP:20260420T111355
CREATED:20211207T093026Z
LAST-MODIFIED:20211207T093026Z
UID:1371-1651597200-1651601700@thewayoftheheart.com
SUMMARY:Making God a Reality (Call #1)
DESCRIPTION:5:00 PM to 6:15 PM Pacific Time(6:00 PM – 7:15 PM Mountain; 7:00 PM – 8:15 PM Central; 8:00 PM – 9:15 PM pm Eastern; 9:00 PM – 10:15 PM Atlantic.)
URL:https://thewayoftheheart.com/event/making-god-a-reality-call-1-2/
CATEGORIES:Telebridge
END:VEVENT
BEGIN:VEVENT
DTSTART;TZID=UTC:20220501T170000
DTEND;TZID=UTC:20220501T181500
DTSTAMP:20260420T111355
CREATED:20211207T091538Z
LAST-MODIFIED:20211207T091538Z
UID:1304-1651424400-1651428900@thewayoftheheart.com
SUMMARY:Inner Life Mission Immersion (Call #10)
DESCRIPTION:5:00 PM to 6:15 PM Pacific Time(6:00 PM – 7:15 PM Mountain; 7:00 PM – 8:15 PM Central; 8:00 PM – 9:15 PM pm Eastern; 9:00 PM – 10:15 PM Atlantic.)
URL:https://thewayoftheheart.com/event/inner-life-mission-immersion-call-10-2/
CATEGORIES:Telebridge
END:VEVENT
BEGIN:VEVENT
DTSTART;TZID=America/Los_Angeles:20220427T180000
DTEND;TZID=America/Los_Angeles:20220427T191500
DTSTAMP:20260420T111355
CREATED:20211207T092227Z
LAST-MODIFIED:20211207T092753Z
UID:1350-1651082400-1651086900@thewayoftheheart.com
SUMMARY:Alchemical Healing (Call #6)
DESCRIPTION:6:00 PM to 7:15 PM Pacific Time\n(7:00 PM – 8:15 PM Mountain; 8:00 PM – 9:15 PM Central; 9:00 PM – 10:15 PM pm Eastern; 10:00 PM – 11:15 PM Atlantic.)
URL:https://thewayoftheheart.com/event/alchemical-healing-call-6-2/
CATEGORIES:Telebridge
END:VEVENT
BEGIN:VEVENT
DTSTART;TZID=UTC:20220424T170000
DTEND;TZID=UTC:20220424T181500
DTSTAMP:20260420T111355
CREATED:20211207T091537Z
LAST-MODIFIED:20211207T091537Z
UID:1303-1650819600-1650824100@thewayoftheheart.com
SUMMARY:Inner Life Mission Immersion (Call #9)
DESCRIPTION:5:00 PM to 6:15 PM Pacific Time(6:00 PM – 7:15 PM Mountain; 7:00 PM – 8:15 PM Central; 8:00 PM – 9:15 PM pm Eastern; 9:00 PM – 10:15 PM Atlantic.)
URL:https://thewayoftheheart.com/event/inner-life-mission-immersion-call-9-2/
CATEGORIES:Telebridge
END:VEVENT
BEGIN:VEVENT
DTSTART;TZID=America/Los_Angeles:20220420T180000
DTEND;TZID=America/Los_Angeles:20220420T191500
DTSTAMP:20260420T111355
CREATED:20211207T092224Z
LAST-MODIFIED:20211207T092727Z
UID:1349-1650477600-1650482100@thewayoftheheart.com
SUMMARY:Alchemical Healing (Call #5)
DESCRIPTION:6:00 PM to 7:15 PM Pacific Time\n(7:00 PM – 8:15 PM Mountain; 8:00 PM – 9:15 PM Central; 9:00 PM – 10:15 PM pm Eastern; 10:00 PM – 11:15 PM Atlantic.)
URL:https://thewayoftheheart.com/event/alchemical-healing-call-5-2/
CATEGORIES:Telebridge
END:VEVENT
BEGIN:VEVENT
DTSTART;TZID=UTC:20220417T170000
DTEND;TZID=UTC:20220417T181500
DTSTAMP:20260420T111355
CREATED:20211207T091537Z
LAST-MODIFIED:20211207T091537Z
UID:1302-1650214800-1650219300@thewayoftheheart.com
SUMMARY:Inner Life Mission Immersion (Call #8)
DESCRIPTION:5:00 PM to 6:15 PM Pacific Time(6:00 PM – 7:15 PM Mountain; 7:00 PM – 8:15 PM Central; 8:00 PM – 9:15 PM pm Eastern; 9:00 PM – 10:15 PM Atlantic.)
URL:https://thewayoftheheart.com/event/inner-life-mission-immersion-call-8-2/
CATEGORIES:Telebridge
END:VEVENT
BEGIN:VEVENT
DTSTART;TZID=America/Los_Angeles:20220413T180000
DTEND;TZID=America/Los_Angeles:20220413T191500
DTSTAMP:20260420T111355
CREATED:20211207T092224Z
LAST-MODIFIED:20211207T092701Z
UID:1348-1649872800-1649877300@thewayoftheheart.com
SUMMARY:Alchemical Healing (Call #4)
DESCRIPTION:6:00 PM to 7:15 PM Pacific Time\n(7:00 PM – 8:15 PM Mountain; 8:00 PM – 9:15 PM Central; 9:00 PM – 10:15 PM pm Eastern; 10:00 PM – 11:15 PM Atlantic.)
URL:https://thewayoftheheart.com/event/alchemical-healing-call-4-2/
CATEGORIES:Telebridge
END:VEVENT
BEGIN:VEVENT
DTSTART;TZID=UTC:20220410T170000
DTEND;TZID=UTC:20220410T181500
DTSTAMP:20260420T111355
CREATED:20211207T091537Z
LAST-MODIFIED:20211207T091537Z
UID:1301-1649610000-1649614500@thewayoftheheart.com
SUMMARY:Inner Life Mission Immersion (Call #7)
DESCRIPTION:5:00 PM to 6:15 PM Pacific Time(6:00 PM – 7:15 PM Mountain; 7:00 PM – 8:15 PM Central; 8:00 PM – 9:15 PM pm Eastern; 9:00 PM – 10:15 PM Atlantic.)
URL:https://thewayoftheheart.com/event/inner-life-mission-immersion-call-7-2/
CATEGORIES:Telebridge
END:VEVENT
END:VCALENDAR