BEGIN:VCALENDAR
VERSION:2.0
PRODID:-//The Way of the Heart - ECPv6.15.20//NONSGML v1.0//EN
CALSCALE:GREGORIAN
METHOD:PUBLISH
X-WR-CALNAME:The Way of the Heart
X-ORIGINAL-URL:https://thewayoftheheart.com
X-WR-CALDESC:Events for The Way of the Heart
REFRESH-INTERVAL;VALUE=DURATION:PT1H
X-Robots-Tag:noindex
X-PUBLISHED-TTL:PT1H
BEGIN:VTIMEZONE
TZID:America/Los_Angeles
BEGIN:DAYLIGHT
TZOFFSETFROM:-0800
TZOFFSETTO:-0700
TZNAME:PDT
DTSTART:20220313T100000
END:DAYLIGHT
BEGIN:STANDARD
TZOFFSETFROM:-0700
TZOFFSETTO:-0800
TZNAME:PST
DTSTART:20221106T090000
END:STANDARD
BEGIN:DAYLIGHT
TZOFFSETFROM:-0800
TZOFFSETTO:-0700
TZNAME:PDT
DTSTART:20230312T100000
END:DAYLIGHT
BEGIN:STANDARD
TZOFFSETFROM:-0700
TZOFFSETTO:-0800
TZNAME:PST
DTSTART:20231105T090000
END:STANDARD
BEGIN:DAYLIGHT
TZOFFSETFROM:-0800
TZOFFSETTO:-0700
TZNAME:PDT
DTSTART:20240310T100000
END:DAYLIGHT
BEGIN:STANDARD
TZOFFSETFROM:-0700
TZOFFSETTO:-0800
TZNAME:PST
DTSTART:20241103T090000
END:STANDARD
END:VTIMEZONE
BEGIN:VTIMEZONE
TZID:America/Denver
BEGIN:DAYLIGHT
TZOFFSETFROM:-0700
TZOFFSETTO:-0600
TZNAME:MDT
DTSTART:20220313T090000
END:DAYLIGHT
BEGIN:STANDARD
TZOFFSETFROM:-0600
TZOFFSETTO:-0700
TZNAME:MST
DTSTART:20221106T080000
END:STANDARD
BEGIN:DAYLIGHT
TZOFFSETFROM:-0700
TZOFFSETTO:-0600
TZNAME:MDT
DTSTART:20230312T090000
END:DAYLIGHT
BEGIN:STANDARD
TZOFFSETFROM:-0600
TZOFFSETTO:-0700
TZNAME:MST
DTSTART:20231105T080000
END:STANDARD
BEGIN:DAYLIGHT
TZOFFSETFROM:-0700
TZOFFSETTO:-0600
TZNAME:MDT
DTSTART:20240310T090000
END:DAYLIGHT
BEGIN:STANDARD
TZOFFSETFROM:-0600
TZOFFSETTO:-0700
TZNAME:MST
DTSTART:20241103T080000
END:STANDARD
END:VTIMEZONE
BEGIN:VEVENT
DTSTART;VALUE=DATE:20231013
DTEND;VALUE=DATE:20231016
DTSTAMP:20260419T151535
CREATED:20230114T211155Z
LAST-MODIFIED:20230114T211155Z
UID:1542-1697155200-1697414399@thewayoftheheart.com
SUMMARY:Life Mission II
DESCRIPTION:
URL:https://thewayoftheheart.com/event/life-mission-ii/
LOCATION:Online training via Zoom
CATEGORIES:Advanced class
END:VEVENT
BEGIN:VEVENT
DTSTART;TZID=America/Los_Angeles:20231010T170000
DTEND;TZID=America/Los_Angeles:20231010T181500
DTSTAMP:20260419T151535
CREATED:20230114T212009Z
LAST-MODIFIED:20230114T212009Z
UID:1648-1696957200-1696961700@thewayoftheheart.com
SUMMARY:Transforming Grief & Shadow (Call #1)
DESCRIPTION:5:00 PM to 6:15 PM Pacific Time(6:00 PM – 7:15 PM Mountain; 7:00 PM – 8:15 PM Central; 8:00 PM – 9:15 PM pm Eastern; 9:00 PM – 10:15 PM Atlantic.)
URL:https://thewayoftheheart.com/event/transforming-grief-shadow-call-1-4/
LOCATION:Telebridge
CATEGORIES:Telebridge
END:VEVENT
BEGIN:VEVENT
DTSTART;TZID=America/Los_Angeles:20231008T170000
DTEND;TZID=America/Los_Angeles:20231008T181500
DTSTAMP:20260419T151535
CREATED:20230114T211653Z
LAST-MODIFIED:20230114T211653Z
UID:1596-1696784400-1696788900@thewayoftheheart.com
SUMMARY:Inner Life Mission Immersion (Call #33)
DESCRIPTION:5:00 PM to 6:15 PM Pacific Time(6:00 PM – 7:15 PM Mountain; 7:00 PM – 8:15 PM Central; 8:00 PM – 9:15 PM pm Eastern; 9:00 PM – 10:15 PM Atlantic.)
URL:https://thewayoftheheart.com/event/inner-life-mission-immersion-call-33-3/
LOCATION:Telebridge
CATEGORIES:Telebridge
END:VEVENT
BEGIN:VEVENT
DTSTART;TZID=America/Los_Angeles:20231005T180000
DTEND;TZID=America/Los_Angeles:20231005T193000
DTSTAMP:20260419T151535
CREATED:20230114T211843Z
LAST-MODIFIED:20230114T211843Z
UID:1632-1696528800-1696534200@thewayoftheheart.com
SUMMARY:Life Mission: Masterclass to Mastermind (Call #19)
DESCRIPTION:6:00 PM to 7:30 PM Pacific Time(7:00 PM – 8:30 PM Mountain; 8:00 PM – 9:30 PM Central; 9:00 PM – 10:30 PM pm Eastern; 10:00 PM – 11:30 PM Atlantic.)
URL:https://thewayoftheheart.com/event/life-mission-masterclass-to-mastermind-call-19/
LOCATION:Zoom
CATEGORIES:Telebridge
END:VEVENT
BEGIN:VEVENT
DTSTART;TZID=America/Los_Angeles:20231001T170000
DTEND;TZID=America/Los_Angeles:20231001T181500
DTSTAMP:20260419T151535
CREATED:20230114T211653Z
LAST-MODIFIED:20230114T211653Z
UID:1595-1696179600-1696184100@thewayoftheheart.com
SUMMARY:Inner Life Mission Immersion (Call #32)
DESCRIPTION:5:00 PM to 6:15 PM Pacific Time(6:00 PM – 7:15 PM Mountain; 7:00 PM – 8:15 PM Central; 8:00 PM – 9:15 PM pm Eastern; 9:00 PM – 10:15 PM Atlantic.)
URL:https://thewayoftheheart.com/event/inner-life-mission-immersion-call-32-3/
LOCATION:Telebridge
CATEGORIES:Telebridge
END:VEVENT
BEGIN:VEVENT
DTSTART;TZID=America/Los_Angeles:20230924T170000
DTEND;TZID=America/Los_Angeles:20230924T181500
DTSTAMP:20260419T151535
CREATED:20230114T211653Z
LAST-MODIFIED:20230114T211653Z
UID:1594-1695574800-1695579300@thewayoftheheart.com
SUMMARY:Inner Life Mission Immersion (Call #31)
DESCRIPTION:5:00 PM to 6:15 PM Pacific Time(6:00 PM – 7:15 PM Mountain; 7:00 PM – 8:15 PM Central; 8:00 PM – 9:15 PM pm Eastern; 9:00 PM – 10:15 PM Atlantic.)
URL:https://thewayoftheheart.com/event/inner-life-mission-immersion-call-31-3/
LOCATION:Telebridge
CATEGORIES:Telebridge
END:VEVENT
BEGIN:VEVENT
DTSTART;VALUE=DATE:20230922
DTEND;VALUE=DATE:20230925
DTSTAMP:20260419T151535
CREATED:20230210T183611Z
LAST-MODIFIED:20230210T183611Z
UID:1674-1695340800-1695599999@thewayoftheheart.com
SUMMARY:Level II Field Training
DESCRIPTION:
URL:https://thewayoftheheart.com/event/level-ii-field-training-6/
LOCATION:Vancouver\, British Columbia\, CA & by Zoom
CATEGORIES:Foundation class
END:VEVENT
BEGIN:VEVENT
DTSTART;TZID=America/Los_Angeles:20230921T180000
DTEND;TZID=America/Los_Angeles:20230921T193000
DTSTAMP:20260419T151535
CREATED:20230114T211843Z
LAST-MODIFIED:20230114T211843Z
UID:1631-1695319200-1695324600@thewayoftheheart.com
SUMMARY:Life Mission: Masterclass to Mastermind (Call #18)
DESCRIPTION:6:00 PM to 7:30 PM Pacific Time(7:00 PM – 8:30 PM Mountain; 8:00 PM – 9:30 PM Central; 9:00 PM – 10:30 PM pm Eastern; 10:00 PM – 11:30 PM Atlantic.)
URL:https://thewayoftheheart.com/event/life-mission-masterclass-to-mastermind-call-18/
LOCATION:Zoom
CATEGORIES:Telebridge
END:VEVENT
BEGIN:VEVENT
DTSTART;TZID=America/Los_Angeles:20230917T170000
DTEND;TZID=America/Los_Angeles:20230917T181500
DTSTAMP:20260419T151535
CREATED:20230114T211638Z
LAST-MODIFIED:20230114T211638Z
UID:1593-1694970000-1694974500@thewayoftheheart.com
SUMMARY:Inner Life Mission Immersion (Call #30)
DESCRIPTION:5:00 PM to 6:15 PM Pacific Time(6:00 PM – 7:15 PM Mountain; 7:00 PM – 8:15 PM Central; 8:00 PM – 9:15 PM pm Eastern; 9:00 PM – 10:15 PM Atlantic.)
URL:https://thewayoftheheart.com/event/inner-life-mission-immersion-call-30-3/
LOCATION:Telebridge
CATEGORIES:Telebridge
END:VEVENT
BEGIN:VEVENT
DTSTART;VALUE=DATE:20230915
DTEND;VALUE=DATE:20230918
DTSTAMP:20260419T151535
CREATED:20230210T183429Z
LAST-MODIFIED:20230210T183429Z
UID:1672-1694736000-1694995199@thewayoftheheart.com
SUMMARY:Level I Field Training
DESCRIPTION:
URL:https://thewayoftheheart.com/event/level-i-field-training-6/
LOCATION:Vancouver\, British Columbia\, CA & by Zoom
CATEGORIES:Foundation class
END:VEVENT
BEGIN:VEVENT
DTSTART;TZID=America/Los_Angeles:20230910T170000
DTEND;TZID=America/Los_Angeles:20230910T181500
DTSTAMP:20260419T151535
CREATED:20230114T211638Z
LAST-MODIFIED:20230114T211638Z
UID:1592-1694365200-1694369700@thewayoftheheart.com
SUMMARY:Inner Life Mission Immersion (Call #29)
DESCRIPTION:5:00 PM to 6:15 PM Pacific Time(6:00 PM – 7:15 PM Mountain; 7:00 PM – 8:15 PM Central; 8:00 PM – 9:15 PM pm Eastern; 9:00 PM – 10:15 PM Atlantic.)
URL:https://thewayoftheheart.com/event/inner-life-mission-immersion-call-29-3/
LOCATION:Telebridge
CATEGORIES:Telebridge
END:VEVENT
BEGIN:VEVENT
DTSTART;TZID=America/Denver:20230910T120000
DTEND;TZID=America/Denver:20230910T153000
DTSTAMP:20260419T151535
CREATED:20230812T191322Z
LAST-MODIFIED:20230812T191322Z
UID:1683-1694347200-1694359800@thewayoftheheart.com
SUMMARY:Gateway on Zoom
DESCRIPTION:(12-3:30pm Pacific / 1-4:30pm Mountain / 2-5:30pm Central / 3-6:30pm Eastern / 4-7:30pm Atlantic)
URL:https://thewayoftheheart.com/event/gateway-on-zoom-2023-09-10/
LOCATION:Zoom
END:VEVENT
BEGIN:VEVENT
DTSTART;TZID=America/Los_Angeles:20230907T180000
DTEND;TZID=America/Los_Angeles:20230907T193000
DTSTAMP:20260419T151535
CREATED:20230114T211842Z
LAST-MODIFIED:20230114T211842Z
UID:1630-1694109600-1694115000@thewayoftheheart.com
SUMMARY:Life Mission: Masterclass to Mastermind (Call #17)
DESCRIPTION:6:00 PM to 7:30 PM Pacific Time(7:00 PM – 8:30 PM Mountain; 8:00 PM – 9:30 PM Central; 9:00 PM – 10:30 PM pm Eastern; 10:00 PM – 11:30 PM Atlantic.)
URL:https://thewayoftheheart.com/event/life-mission-masterclass-to-mastermind-call-17/
LOCATION:Zoom
CATEGORIES:Telebridge
END:VEVENT
BEGIN:VEVENT
DTSTART;TZID=America/Denver:20230906T173000
DTEND;TZID=America/Denver:20230906T210000
DTSTAMP:20260419T151535
CREATED:20230819T153051Z
LAST-MODIFIED:20230819T153051Z
UID:1687-1694021400-1694034000@thewayoftheheart.com
SUMMARY:Gateway on Zoom
DESCRIPTION:(5:30-9pm Pacific / 6:30-10pm Mountain / 7:30-11pm Central)
URL:https://thewayoftheheart.com/event/gateway-on-zoom-2023-09-06/
LOCATION:Zoom
END:VEVENT
BEGIN:VEVENT
DTSTART;TZID=America/Los_Angeles:20230903T170000
DTEND;TZID=America/Los_Angeles:20230903T181500
DTSTAMP:20260419T151535
CREATED:20230114T211638Z
LAST-MODIFIED:20230114T211638Z
UID:1591-1693760400-1693764900@thewayoftheheart.com
SUMMARY:Inner Life Mission Immersion (Call #28)
DESCRIPTION:5:00 PM to 6:15 PM Pacific Time(6:00 PM – 7:15 PM Mountain; 7:00 PM – 8:15 PM Central; 8:00 PM – 9:15 PM pm Eastern; 9:00 PM – 10:15 PM Atlantic.)
URL:https://thewayoftheheart.com/event/inner-life-mission-immersion-call-28-3/
LOCATION:Telebridge
CATEGORIES:Telebridge
END:VEVENT
BEGIN:VEVENT
DTSTART;TZID=America/Los_Angeles:20230827T170000
DTEND;TZID=America/Los_Angeles:20230827T181500
DTSTAMP:20260419T151535
CREATED:20230114T211638Z
LAST-MODIFIED:20230114T211638Z
UID:1590-1693155600-1693160100@thewayoftheheart.com
SUMMARY:Inner Life Mission Immersion (Call #27)
DESCRIPTION:5:00 PM to 6:15 PM Pacific Time(6:00 PM – 7:15 PM Mountain; 7:00 PM – 8:15 PM Central; 8:00 PM – 9:15 PM pm Eastern; 9:00 PM – 10:15 PM Atlantic.)
URL:https://thewayoftheheart.com/event/inner-life-mission-immersion-call-27-3/
LOCATION:Telebridge
CATEGORIES:Telebridge
END:VEVENT
BEGIN:VEVENT
DTSTART;TZID=America/Denver:20230827T120000
DTEND;TZID=America/Denver:20230827T153000
DTSTAMP:20260419T151535
CREATED:20230721T195645Z
LAST-MODIFIED:20230721T195645Z
UID:1680-1693137600-1693150200@thewayoftheheart.com
SUMMARY:Gateway on Zoom
DESCRIPTION:(12-3:30pm Pacific / 1-4:30pm Mountain / 2-5:30pm Central / 3-6:30pm Eastern / 4-7:30pm Atlantic)
URL:https://thewayoftheheart.com/event/gateway-on-zoom-2023-08-27/
LOCATION:Zoom
END:VEVENT
BEGIN:VEVENT
DTSTART;TZID=America/Los_Angeles:20230824T180000
DTEND;TZID=America/Los_Angeles:20230824T193000
DTSTAMP:20260419T151535
CREATED:20230114T211842Z
LAST-MODIFIED:20230114T211842Z
UID:1629-1692900000-1692905400@thewayoftheheart.com
SUMMARY:Life Mission: Masterclass to Mastermind (Call #16)
DESCRIPTION:6:00 PM to 7:30 PM Pacific Time(7:00 PM – 8:30 PM Mountain; 8:00 PM – 9:30 PM Central; 9:00 PM – 10:30 PM pm Eastern; 10:00 PM – 11:30 PM Atlantic.)
URL:https://thewayoftheheart.com/event/life-mission-masterclass-to-mastermind-call-16/
LOCATION:Zoom
CATEGORIES:Telebridge
END:VEVENT
BEGIN:VEVENT
DTSTART;TZID=America/Los_Angeles:20230820T170000
DTEND;TZID=America/Los_Angeles:20230820T181500
DTSTAMP:20260419T151535
CREATED:20230114T211638Z
LAST-MODIFIED:20230114T211638Z
UID:1589-1692550800-1692555300@thewayoftheheart.com
SUMMARY:Inner Life Mission Immersion (Call #26)
DESCRIPTION:5:00 PM to 6:15 PM Pacific Time(6:00 PM – 7:15 PM Mountain; 7:00 PM – 8:15 PM Central; 8:00 PM – 9:15 PM pm Eastern; 9:00 PM – 10:15 PM Atlantic.)
URL:https://thewayoftheheart.com/event/inner-life-mission-immersion-call-26-3/
LOCATION:Telebridge
CATEGORIES:Telebridge
END:VEVENT
BEGIN:VEVENT
DTSTART;VALUE=DATE:20230815
DTEND;VALUE=DATE:20230818
DTSTAMP:20260419T151535
CREATED:20230114T211155Z
LAST-MODIFIED:20230114T211155Z
UID:1541-1692057600-1692316799@thewayoftheheart.com
SUMMARY:Women's Alchemical Healing Retreat
DESCRIPTION:
URL:https://thewayoftheheart.com/event/womens-alchemical-healing-retreat/
CATEGORIES:Advanced class
END:VEVENT
BEGIN:VEVENT
DTSTART;TZID=America/Los_Angeles:20230813T170000
DTEND;TZID=America/Los_Angeles:20230813T181500
DTSTAMP:20260419T151535
CREATED:20230114T211623Z
LAST-MODIFIED:20230114T211623Z
UID:1588-1691946000-1691950500@thewayoftheheart.com
SUMMARY:Inner Life Mission Immersion (Call #25)
DESCRIPTION:5:00 PM to 6:15 PM Pacific Time(6:00 PM – 7:15 PM Mountain; 7:00 PM – 8:15 PM Central; 8:00 PM – 9:15 PM pm Eastern; 9:00 PM – 10:15 PM Atlantic.)
URL:https://thewayoftheheart.com/event/inner-life-mission-immersion-call-25-3/
LOCATION:Telebridge
CATEGORIES:Telebridge
END:VEVENT
BEGIN:VEVENT
DTSTART;VALUE=DATE:20230811
DTEND;VALUE=DATE:20230815
DTSTAMP:20260419T151535
CREATED:20230114T211154Z
LAST-MODIFIED:20230114T211154Z
UID:1540-1691712000-1692057599@thewayoftheheart.com
SUMMARY:Inner Life Mission Alchemical Retreat
DESCRIPTION:
URL:https://thewayoftheheart.com/event/inner-life-mission-alchemical-retreat-2/
CATEGORIES:Advanced class
END:VEVENT
BEGIN:VEVENT
DTSTART;TZID=America/Los_Angeles:20230809T180000
DTEND;TZID=America/Los_Angeles:20230809T191500
DTSTAMP:20260419T151535
CREATED:20230114T211422Z
LAST-MODIFIED:20230114T211422Z
UID:1553-1691604000-1691608500@thewayoftheheart.com
SUMMARY:Alchemical Healing (Call #6)
DESCRIPTION:6:00 PM to 7:15 PM Pacific Time(7:00 PM – 8:15 PM Mountain; 8:00 PM – 9:15 PM Central; 9:00 PM – 10:15 PM pm Eastern; 10:00 PM – 11:15 PM Atlantic.)
URL:https://thewayoftheheart.com/event/alchemical-healing-call-6-3/
LOCATION:Telebridge
CATEGORIES:Telebridge
END:VEVENT
BEGIN:VEVENT
DTSTART;TZID=America/Los_Angeles:20230806T170000
DTEND;TZID=America/Los_Angeles:20230806T181500
DTSTAMP:20260419T151535
CREATED:20230114T211623Z
LAST-MODIFIED:20230114T211623Z
UID:1587-1691341200-1691345700@thewayoftheheart.com
SUMMARY:Inner Life Mission Immersion (Call #24)
DESCRIPTION:5:00 PM to 6:15 PM Pacific Time(6:00 PM – 7:15 PM Mountain; 7:00 PM – 8:15 PM Central; 8:00 PM – 9:15 PM pm Eastern; 9:00 PM – 10:15 PM Atlantic.)
URL:https://thewayoftheheart.com/event/inner-life-mission-immersion-call-24-3/
LOCATION:Telebridge
CATEGORIES:Telebridge
END:VEVENT
BEGIN:VEVENT
DTSTART;TZID=America/Denver:20230806T120000
DTEND;TZID=America/Denver:20230806T153000
DTSTAMP:20260419T151535
CREATED:20230721T195340Z
LAST-MODIFIED:20230721T195511Z
UID:1678-1691323200-1691335800@thewayoftheheart.com
SUMMARY:Gateway on Zoom
DESCRIPTION:(12-3:30pm Pacific / 1-4:30pm Mountain / 2-5:30pm Central / 3-6:30pm Eastern / 4-7:30pm Atlantic)
URL:https://thewayoftheheart.com/event/gateway-on-zoom-2023-08-06/
LOCATION:Zoom
END:VEVENT
BEGIN:VEVENT
DTSTART;TZID=America/Los_Angeles:20230802T180000
DTEND;TZID=America/Los_Angeles:20230802T191500
DTSTAMP:20260419T151535
CREATED:20230114T211421Z
LAST-MODIFIED:20230114T211421Z
UID:1552-1690999200-1691003700@thewayoftheheart.com
SUMMARY:Alchemical Healing (Call #5)
DESCRIPTION:6:00 PM to 7:15 PM Pacific Time(7:00 PM – 8:15 PM Mountain; 8:00 PM – 9:15 PM Central; 9:00 PM – 10:15 PM pm Eastern; 10:00 PM – 11:15 PM Atlantic.)
URL:https://thewayoftheheart.com/event/alchemical-healing-call-5-3/
LOCATION:Telebridge
CATEGORIES:Telebridge
END:VEVENT
BEGIN:VEVENT
DTSTART;TZID=America/Los_Angeles:20230730T170000
DTEND;TZID=America/Los_Angeles:20230730T181500
DTSTAMP:20260419T151535
CREATED:20230114T211623Z
LAST-MODIFIED:20230114T211623Z
UID:1586-1690736400-1690740900@thewayoftheheart.com
SUMMARY:Inner Life Mission Immersion (Call #23)
DESCRIPTION:5:00 PM to 6:15 PM Pacific Time(6:00 PM – 7:15 PM Mountain; 7:00 PM – 8:15 PM Central; 8:00 PM – 9:15 PM pm Eastern; 9:00 PM – 10:15 PM Atlantic.)
URL:https://thewayoftheheart.com/event/inner-life-mission-immersion-call-23-3/
LOCATION:Telebridge
CATEGORIES:Telebridge
END:VEVENT
BEGIN:VEVENT
DTSTART;TZID=America/Los_Angeles:20230727T180000
DTEND;TZID=America/Los_Angeles:20230727T193000
DTSTAMP:20260419T151535
CREATED:20230114T211828Z
LAST-MODIFIED:20230114T211828Z
UID:1628-1690480800-1690486200@thewayoftheheart.com
SUMMARY:Life Mission: Masterclass to Mastermind (Call #15)
DESCRIPTION:6:00 PM to 7:30 PM Pacific Time(7:00 PM – 8:30 PM Mountain; 8:00 PM – 9:30 PM Central; 9:00 PM – 10:30 PM pm Eastern; 10:00 PM – 11:30 PM Atlantic.)
URL:https://thewayoftheheart.com/event/life-mission-masterclass-to-mastermind-call-15/
LOCATION:Zoom
CATEGORIES:Telebridge
END:VEVENT
BEGIN:VEVENT
DTSTART;TZID=America/Los_Angeles:20230726T180000
DTEND;TZID=America/Los_Angeles:20230726T191500
DTSTAMP:20260419T151535
CREATED:20230114T211421Z
LAST-MODIFIED:20230114T211421Z
UID:1551-1690394400-1690398900@thewayoftheheart.com
SUMMARY:Alchemical Healing (Call #4)
DESCRIPTION:6:00 PM to 7:15 PM Pacific Time(7:00 PM – 8:15 PM Mountain; 8:00 PM – 9:15 PM Central; 9:00 PM – 10:15 PM pm Eastern; 10:00 PM – 11:15 PM Atlantic.)
URL:https://thewayoftheheart.com/event/alchemical-healing-call-4-3/
LOCATION:Telebridge
CATEGORIES:Telebridge
END:VEVENT
BEGIN:VEVENT
DTSTART;TZID=America/Los_Angeles:20230723T170000
DTEND;TZID=America/Los_Angeles:20230723T181500
DTSTAMP:20260419T151535
CREATED:20230114T211623Z
LAST-MODIFIED:20230114T211623Z
UID:1585-1690131600-1690136100@thewayoftheheart.com
SUMMARY:Inner Life Mission Immersion (Call #22)
DESCRIPTION:5:00 PM to 6:15 PM Pacific Time(6:00 PM – 7:15 PM Mountain; 7:00 PM – 8:15 PM Central; 8:00 PM – 9:15 PM pm Eastern; 9:00 PM – 10:15 PM Atlantic.)
URL:https://thewayoftheheart.com/event/inner-life-mission-immersion-call-22-3/
LOCATION:Telebridge
CATEGORIES:Telebridge
END:VEVENT
END:VCALENDAR