BEGIN:VCALENDAR
VERSION:2.0
PRODID:-//The Way of the Heart - ECPv6.15.20//NONSGML v1.0//EN
CALSCALE:GREGORIAN
METHOD:PUBLISH
X-WR-CALNAME:The Way of the Heart
X-ORIGINAL-URL:https://thewayoftheheart.com
X-WR-CALDESC:Events for The Way of the Heart
REFRESH-INTERVAL;VALUE=DURATION:PT1H
X-Robots-Tag:noindex
X-PUBLISHED-TTL:PT1H
BEGIN:VTIMEZONE
TZID:UTC
BEGIN:STANDARD
TZOFFSETFROM:+0000
TZOFFSETTO:+0000
TZNAME:UTC
DTSTART:20230101T000000
END:STANDARD
END:VTIMEZONE
BEGIN:VTIMEZONE
TZID:America/Los_Angeles
BEGIN:DAYLIGHT
TZOFFSETFROM:-0800
TZOFFSETTO:-0700
TZNAME:PDT
DTSTART:20230312T100000
END:DAYLIGHT
BEGIN:STANDARD
TZOFFSETFROM:-0700
TZOFFSETTO:-0800
TZNAME:PST
DTSTART:20231105T090000
END:STANDARD
BEGIN:DAYLIGHT
TZOFFSETFROM:-0800
TZOFFSETTO:-0700
TZNAME:PDT
DTSTART:20240310T100000
END:DAYLIGHT
BEGIN:STANDARD
TZOFFSETFROM:-0700
TZOFFSETTO:-0800
TZNAME:PST
DTSTART:20241103T090000
END:STANDARD
BEGIN:DAYLIGHT
TZOFFSETFROM:-0800
TZOFFSETTO:-0700
TZNAME:PDT
DTSTART:20250309T100000
END:DAYLIGHT
BEGIN:STANDARD
TZOFFSETFROM:-0700
TZOFFSETTO:-0800
TZNAME:PST
DTSTART:20251102T090000
END:STANDARD
END:VTIMEZONE
BEGIN:VTIMEZONE
TZID:America/Denver
BEGIN:DAYLIGHT
TZOFFSETFROM:-0700
TZOFFSETTO:-0600
TZNAME:MDT
DTSTART:20230312T090000
END:DAYLIGHT
BEGIN:STANDARD
TZOFFSETFROM:-0600
TZOFFSETTO:-0700
TZNAME:MST
DTSTART:20231105T080000
END:STANDARD
BEGIN:DAYLIGHT
TZOFFSETFROM:-0700
TZOFFSETTO:-0600
TZNAME:MDT
DTSTART:20240310T090000
END:DAYLIGHT
BEGIN:STANDARD
TZOFFSETFROM:-0600
TZOFFSETTO:-0700
TZNAME:MST
DTSTART:20241103T080000
END:STANDARD
BEGIN:DAYLIGHT
TZOFFSETFROM:-0700
TZOFFSETTO:-0600
TZNAME:MDT
DTSTART:20250309T090000
END:DAYLIGHT
BEGIN:STANDARD
TZOFFSETFROM:-0600
TZOFFSETTO:-0700
TZNAME:MST
DTSTART:20251102T080000
END:STANDARD
END:VTIMEZONE
BEGIN:VEVENT
DTSTART;TZID=UTC:20240501T180000
DTEND;TZID=UTC:20240501T191500
DTSTAMP:20260419T132008
CREATED:20240326T201441Z
LAST-MODIFIED:20240326T201441Z
UID:1783-1714586400-1714590900@thewayoftheheart.com
SUMMARY:Healing as Pilgrimage (Call #2)
DESCRIPTION:6:00 PM to 7:15 PM Pacific Time(7:00 PM – 8:15 PM Mountain; 8:00 PM – 9:15 PM Central; 9:00 PM – 10:15 PM pm Eastern; 10:00 PM – 11:15 PM Atlantic.)
URL:https://thewayoftheheart.com/event/healing-as-pilgrimage-call-2/
CATEGORIES:Telebridge
END:VEVENT
BEGIN:VEVENT
DTSTART;TZID=UTC:20240505T170000
DTEND;TZID=UTC:20240505T181500
DTSTAMP:20260419T132008
CREATED:20240326T201334Z
LAST-MODIFIED:20240326T201334Z
UID:1756-1714928400-1714932900@thewayoftheheart.com
SUMMARY:Call to Love - Inner Life Mission Immersion (Call #11)
DESCRIPTION:5:00 PM to 6:15 PM Pacific Time(6:00 PM – 7:15 PM Mountain; 7:00 PM – 8:15 PM Central; 8:00 PM – 9:15 PM pm Eastern; 9:00 PM – 10:15 PM Atlantic.)
URL:https://thewayoftheheart.com/event/call-to-love-inner-life-mission-immersion-call-11/
CATEGORIES:Telebridge
END:VEVENT
BEGIN:VEVENT
DTSTART;TZID=UTC:20240508T180000
DTEND;TZID=UTC:20240508T191500
DTSTAMP:20260419T132008
CREATED:20240326T201441Z
LAST-MODIFIED:20240326T201441Z
UID:1784-1715191200-1715195700@thewayoftheheart.com
SUMMARY:Healing as Pilgrimage (Call #3)
DESCRIPTION:6:00 PM to 7:15 PM Pacific Time(7:00 PM – 8:15 PM Mountain; 8:00 PM – 9:15 PM Central; 9:00 PM – 10:15 PM pm Eastern; 10:00 PM – 11:15 PM Atlantic.)
URL:https://thewayoftheheart.com/event/healing-as-pilgrimage-call-3/
CATEGORIES:Telebridge
END:VEVENT
BEGIN:VEVENT
DTSTART;TZID=UTC:20240509T180000
DTEND;TZID=UTC:20240509T193000
DTSTAMP:20260419T132008
CREATED:20240326T201529Z
LAST-MODIFIED:20240326T201529Z
UID:1798-1715277600-1715283000@thewayoftheheart.com
SUMMARY:Life Mission: Masterclass to Mastermind (Call #9)
DESCRIPTION:6:00 PM to 7:30 PM Pacific Time(7:00 PM – 8:30 PM Mountain; 8:00 PM – 9:30 PM Central; 9:00 PM – 10:30 PM pm Eastern; 10:00 PM – 11:30 PM Atlantic.)
URL:https://thewayoftheheart.com/event/life-mission-masterclass-to-mastermind-call-9-2/
CATEGORIES:Telebridge
END:VEVENT
BEGIN:VEVENT
DTSTART;TZID=UTC:20240512T170000
DTEND;TZID=UTC:20240512T181500
DTSTAMP:20260419T132008
CREATED:20240326T201334Z
LAST-MODIFIED:20240326T201334Z
UID:1757-1715533200-1715537700@thewayoftheheart.com
SUMMARY:Call to Love - Inner Life Mission Immersion (Call #12)
DESCRIPTION:5:00 PM to 6:15 PM Pacific Time(6:00 PM – 7:15 PM Mountain; 7:00 PM – 8:15 PM Central; 8:00 PM – 9:15 PM pm Eastern; 9:00 PM – 10:15 PM Atlantic.)
URL:https://thewayoftheheart.com/event/call-to-love-inner-life-mission-immersion-call-12/
CATEGORIES:Telebridge
END:VEVENT
BEGIN:VEVENT
DTSTART;TZID=UTC:20240515T180000
DTEND;TZID=UTC:20240515T191500
DTSTAMP:20260419T132008
CREATED:20240326T201441Z
LAST-MODIFIED:20240326T201441Z
UID:1785-1715796000-1715800500@thewayoftheheart.com
SUMMARY:Healing as Pilgrimage (Call #4)
DESCRIPTION:6:00 PM to 7:15 PM Pacific Time(7:00 PM – 8:15 PM Mountain; 8:00 PM – 9:15 PM Central; 9:00 PM – 10:15 PM pm Eastern; 10:00 PM – 11:15 PM Atlantic.)
URL:https://thewayoftheheart.com/event/healing-as-pilgrimage-call-4/
CATEGORIES:Telebridge
END:VEVENT
BEGIN:VEVENT
DTSTART;TZID=UTC:20240519T170000
DTEND;TZID=UTC:20240519T181500
DTSTAMP:20260419T132008
CREATED:20240326T201334Z
LAST-MODIFIED:20240326T201334Z
UID:1758-1716138000-1716142500@thewayoftheheart.com
SUMMARY:Call to Love - Inner Life Mission Immersion (Call #13)
DESCRIPTION:5:00 PM to 6:15 PM Pacific Time(6:00 PM – 7:15 PM Mountain; 7:00 PM – 8:15 PM Central; 8:00 PM – 9:15 PM pm Eastern; 9:00 PM – 10:15 PM Atlantic.)
URL:https://thewayoftheheart.com/event/call-to-love-inner-life-mission-immersion-call-13/
CATEGORIES:Telebridge
END:VEVENT
BEGIN:VEVENT
DTSTART;TZID=UTC:20240522T180000
DTEND;TZID=UTC:20240522T191500
DTSTAMP:20260419T132008
CREATED:20240326T201442Z
LAST-MODIFIED:20240326T201442Z
UID:1786-1716400800-1716405300@thewayoftheheart.com
SUMMARY:Healing as Pilgrimage (Call #5)
DESCRIPTION:6:00 PM to 7:15 PM Pacific Time(7:00 PM – 8:15 PM Mountain; 8:00 PM – 9:15 PM Central; 9:00 PM – 10:15 PM pm Eastern; 10:00 PM – 11:15 PM Atlantic.)
URL:https://thewayoftheheart.com/event/healing-as-pilgrimage-call-5/
CATEGORIES:Telebridge
END:VEVENT
BEGIN:VEVENT
DTSTART;TZID=UTC:20240523T180000
DTEND;TZID=UTC:20240523T193000
DTSTAMP:20260419T132008
CREATED:20240326T201529Z
LAST-MODIFIED:20240326T201529Z
UID:1799-1716487200-1716492600@thewayoftheheart.com
SUMMARY:Life Mission: Masterclass to Mastermind (Call #10)
DESCRIPTION:6:00 PM to 7:30 PM Pacific Time(7:00 PM – 8:30 PM Mountain; 8:00 PM – 9:30 PM Central; 9:00 PM – 10:30 PM pm Eastern; 10:00 PM – 11:30 PM Atlantic.)
URL:https://thewayoftheheart.com/event/life-mission-masterclass-to-mastermind-call-10-2/
CATEGORIES:Telebridge
END:VEVENT
BEGIN:VEVENT
DTSTART;TZID=UTC:20240526T170000
DTEND;TZID=UTC:20240526T181500
DTSTAMP:20260419T132008
CREATED:20240326T201334Z
LAST-MODIFIED:20240326T201334Z
UID:1759-1716742800-1716747300@thewayoftheheart.com
SUMMARY:Call to Love - Inner Life Mission Immersion (Call #14)
DESCRIPTION:5:00 PM to 6:15 PM Pacific Time(6:00 PM – 7:15 PM Mountain; 7:00 PM – 8:15 PM Central; 8:00 PM – 9:15 PM pm Eastern; 9:00 PM – 10:15 PM Atlantic.)
URL:https://thewayoftheheart.com/event/call-to-love-inner-life-mission-immersion-call-14/
CATEGORIES:Telebridge
END:VEVENT
BEGIN:VEVENT
DTSTART;TZID=UTC:20240529T180000
DTEND;TZID=UTC:20240529T191500
DTSTAMP:20260419T132008
CREATED:20240326T201442Z
LAST-MODIFIED:20240326T201442Z
UID:1787-1717005600-1717010100@thewayoftheheart.com
SUMMARY:Healing as Pilgrimage (Call #6)
DESCRIPTION:6:00 PM to 7:15 PM Pacific Time(7:00 PM – 8:15 PM Mountain; 8:00 PM – 9:15 PM Central; 9:00 PM – 10:15 PM pm Eastern; 10:00 PM – 11:15 PM Atlantic.)
URL:https://thewayoftheheart.com/event/healing-as-pilgrimage-call-6/
CATEGORIES:Telebridge
END:VEVENT
BEGIN:VEVENT
DTSTART;VALUE=DATE:20240531
DTEND;VALUE=DATE:20240603
DTSTAMP:20260419T132008
CREATED:20240326T201125Z
LAST-MODIFIED:20240326T201125Z
UID:1737-1717113600-1717372799@thewayoftheheart.com
SUMMARY:Level IV Soul Integration Advanced Field Training
DESCRIPTION:
URL:https://thewayoftheheart.com/event/level-iv-soul-integration-advanced-field-training/
LOCATION:Online training via Zoom
CATEGORIES:Advanced class
END:VEVENT
BEGIN:VEVENT
DTSTART;TZID=UTC:20240602T170000
DTEND;TZID=UTC:20240602T181500
DTSTAMP:20260419T132008
CREATED:20240326T201335Z
LAST-MODIFIED:20240326T201335Z
UID:1760-1717347600-1717352100@thewayoftheheart.com
SUMMARY:Call to Love - Inner Life Mission Immersion (Call #15)
DESCRIPTION:5:00 PM to 6:15 PM Pacific Time(6:00 PM – 7:15 PM Mountain; 7:00 PM – 8:15 PM Central; 8:00 PM – 9:15 PM pm Eastern; 9:00 PM – 10:15 PM Atlantic.)
URL:https://thewayoftheheart.com/event/call-to-love-inner-life-mission-immersion-call-15/
CATEGORIES:Telebridge
END:VEVENT
BEGIN:VEVENT
DTSTART;TZID=UTC:20240606T180000
DTEND;TZID=UTC:20240606T193000
DTSTAMP:20260419T132008
CREATED:20240326T201543Z
LAST-MODIFIED:20240326T201543Z
UID:1800-1717696800-1717702200@thewayoftheheart.com
SUMMARY:Life Mission: Masterclass to Mastermind (Call #11)
DESCRIPTION:6:00 PM to 7:30 PM Pacific Time(7:00 PM – 8:30 PM Mountain; 8:00 PM – 9:30 PM Central; 9:00 PM – 10:30 PM pm Eastern; 10:00 PM – 11:30 PM Atlantic.)
URL:https://thewayoftheheart.com/event/life-mission-masterclass-to-mastermind-call-11-2/
CATEGORIES:Telebridge
END:VEVENT
BEGIN:VEVENT
DTSTART;VALUE=DATE:20240609
DTEND;VALUE=DATE:20240610
DTSTAMP:20260419T132008
CREATED:20240326T201125Z
LAST-MODIFIED:20240326T201125Z
UID:1738-1717891200-1717977599@thewayoftheheart.com
SUMMARY:Exploring the Inner Life Alchemical Retreat Gateway
DESCRIPTION:
URL:https://thewayoftheheart.com/event/exploring-the-inner-life-alchemical-retreat-gateway-2/
LOCATION:Zoom Retreat w/ Kimberly
CATEGORIES:Advanced class
END:VEVENT
BEGIN:VEVENT
DTSTART;TZID=UTC:20240609T170000
DTEND;TZID=UTC:20240609T181500
DTSTAMP:20260419T132008
CREATED:20240326T201349Z
LAST-MODIFIED:20240326T201349Z
UID:1762-1717952400-1717956900@thewayoftheheart.com
SUMMARY:Call to Love - Inner Life Mission Immersion (Call #16)
DESCRIPTION:5:00 PM to 6:15 PM Pacific Time(6:00 PM – 7:15 PM Mountain; 7:00 PM – 8:15 PM Central; 8:00 PM – 9:15 PM pm Eastern; 9:00 PM – 10:15 PM Atlantic.)
URL:https://thewayoftheheart.com/event/call-to-love-inner-life-mission-immersion-call-16/
CATEGORIES:Telebridge
END:VEVENT
BEGIN:VEVENT
DTSTART;TZID=UTC:20240616T170000
DTEND;TZID=UTC:20240616T181500
DTSTAMP:20260419T132008
CREATED:20240326T201349Z
LAST-MODIFIED:20240326T201349Z
UID:1763-1718557200-1718561700@thewayoftheheart.com
SUMMARY:Call to Love - Inner Life Mission Immersion (Call #17)
DESCRIPTION:5:00 PM to 6:15 PM Pacific Time(6:00 PM – 7:15 PM Mountain; 7:00 PM – 8:15 PM Central; 8:00 PM – 9:15 PM pm Eastern; 9:00 PM – 10:15 PM Atlantic.)
URL:https://thewayoftheheart.com/event/call-to-love-inner-life-mission-immersion-call-17/
CATEGORIES:Telebridge
END:VEVENT
BEGIN:VEVENT
DTSTART;TZID=UTC:20240620T180000
DTEND;TZID=UTC:20240620T193000
DTSTAMP:20260419T132008
CREATED:20240326T201543Z
LAST-MODIFIED:20240326T201543Z
UID:1801-1718906400-1718911800@thewayoftheheart.com
SUMMARY:Life Mission: Masterclass to Mastermind (Call #12)
DESCRIPTION:6:00 PM to 7:30 PM Pacific Time(7:00 PM – 8:30 PM Mountain; 8:00 PM – 9:30 PM Central; 9:00 PM – 10:30 PM pm Eastern; 10:00 PM – 11:30 PM Atlantic.)
URL:https://thewayoftheheart.com/event/life-mission-masterclass-to-mastermind-call-12-2/
CATEGORIES:Telebridge
END:VEVENT
BEGIN:VEVENT
DTSTART;TZID=America/Denver:20240623T120000
DTEND;TZID=America/Denver:20240623T153000
DTSTAMP:20260419T132008
CREATED:20240517T172907Z
LAST-MODIFIED:20240517T172907Z
UID:1821-1719144000-1719156600@thewayoftheheart.com
SUMMARY:Field Gateway
DESCRIPTION:(1 – 4:30pm Mountain /2 – 5:30pm Central /3 – 6:30pm Eastern /4 – 7:30pm Atlantic)
URL:https://thewayoftheheart.com/event/field-gateway-2024-06-23/
LOCATION:Zoom
END:VEVENT
BEGIN:VEVENT
DTSTART;TZID=UTC:20240623T170000
DTEND;TZID=UTC:20240623T181500
DTSTAMP:20260419T132008
CREATED:20240326T201349Z
LAST-MODIFIED:20240326T201349Z
UID:1764-1719162000-1719166500@thewayoftheheart.com
SUMMARY:Call to Love - Inner Life Mission Immersion (Call #18)
DESCRIPTION:5:00 PM to 6:15 PM Pacific Time(6:00 PM – 7:15 PM Mountain; 7:00 PM – 8:15 PM Central; 8:00 PM – 9:15 PM pm Eastern; 9:00 PM – 10:15 PM Atlantic.)
URL:https://thewayoftheheart.com/event/call-to-love-inner-life-mission-immersion-call-18/
CATEGORIES:Telebridge
END:VEVENT
BEGIN:VEVENT
DTSTART;TZID=UTC:20240630T170000
DTEND;TZID=UTC:20240630T181500
DTSTAMP:20260419T132008
CREATED:20240326T201350Z
LAST-MODIFIED:20240326T201350Z
UID:1765-1719766800-1719771300@thewayoftheheart.com
SUMMARY:Call to Love - Inner Life Mission Immersion (Call #19)
DESCRIPTION:5:00 PM to 6:15 PM Pacific Time(6:00 PM – 7:15 PM Mountain; 7:00 PM – 8:15 PM Central; 8:00 PM – 9:15 PM pm Eastern; 9:00 PM – 10:15 PM Atlantic.)
URL:https://thewayoftheheart.com/event/call-to-love-inner-life-mission-immersion-call-19/
CATEGORIES:Telebridge
END:VEVENT
BEGIN:VEVENT
DTSTART;TZID=UTC:20240707T170000
DTEND;TZID=UTC:20240707T181500
DTSTAMP:20260419T132008
CREATED:20240326T201350Z
LAST-MODIFIED:20240326T201350Z
UID:1766-1720371600-1720376100@thewayoftheheart.com
SUMMARY:Call to Love - Inner Life Mission Immersion (Call #20)
DESCRIPTION:5:00 PM to 6:15 PM Pacific Time(6:00 PM – 7:15 PM Mountain; 7:00 PM – 8:15 PM Central; 8:00 PM – 9:15 PM pm Eastern; 9:00 PM – 10:15 PM Atlantic.)
URL:https://thewayoftheheart.com/event/call-to-love-inner-life-mission-immersion-call-20/
CATEGORIES:Telebridge
END:VEVENT
BEGIN:VEVENT
DTSTART;TZID=UTC:20240710T180000
DTEND;TZID=UTC:20240710T191500
DTSTAMP:20260419T132008
CREATED:20240326T201406Z
LAST-MODIFIED:20240326T201406Z
UID:1773-1720634400-1720638900@thewayoftheheart.com
SUMMARY:Dreaming Together - Group Process (Call #1)
DESCRIPTION:6:00 PM to 7:15 PM Pacific Time(7:00 PM – 8:15 PM Mountain; 8:00 PM – 9:15 PM Central; 9:00 PM – 10:15 PM pm Eastern; 10:00 PM – 11:15 PM Atlantic.)
URL:https://thewayoftheheart.com/event/dreaming-together-group-process-call-1/
CATEGORIES:Telebridge
END:VEVENT
BEGIN:VEVENT
DTSTART;TZID=UTC:20240711T180000
DTEND;TZID=UTC:20240711T193000
DTSTAMP:20260419T132008
CREATED:20240326T201543Z
LAST-MODIFIED:20240326T201543Z
UID:1802-1720720800-1720726200@thewayoftheheart.com
SUMMARY:Life Mission: Masterclass to Mastermind (Call #13)
DESCRIPTION:6:00 PM to 7:30 PM Pacific Time(7:00 PM – 8:30 PM Mountain; 8:00 PM – 9:30 PM Central; 9:00 PM – 10:30 PM pm Eastern; 10:00 PM – 11:30 PM Atlantic.)
URL:https://thewayoftheheart.com/event/life-mission-masterclass-to-mastermind-call-13-2/
CATEGORIES:Telebridge
END:VEVENT
BEGIN:VEVENT
DTSTART;TZID=UTC:20240714T170000
DTEND;TZID=UTC:20240714T181500
DTSTAMP:20260419T132008
CREATED:20240326T201404Z
LAST-MODIFIED:20240326T201404Z
UID:1768-1720976400-1720980900@thewayoftheheart.com
SUMMARY:Call to Love - Inner Life Mission Immersion (Call #21)
DESCRIPTION:5:00 PM to 6:15 PM Pacific Time(6:00 PM – 7:15 PM Mountain; 7:00 PM – 8:15 PM Central; 8:00 PM – 9:15 PM pm Eastern; 9:00 PM – 10:15 PM Atlantic.)
URL:https://thewayoftheheart.com/event/call-to-love-inner-life-mission-immersion-call-21/
CATEGORIES:Telebridge
END:VEVENT
BEGIN:VEVENT
DTSTART;TZID=UTC:20240717T180000
DTEND;TZID=UTC:20240717T191500
DTSTAMP:20260419T132008
CREATED:20240326T201406Z
LAST-MODIFIED:20240326T201406Z
UID:1774-1721239200-1721243700@thewayoftheheart.com
SUMMARY:Dreaming Together - Group Process (Call #2)
DESCRIPTION:6:00 PM to 7:15 PM Pacific Time(7:00 PM – 8:15 PM Mountain; 8:00 PM – 9:15 PM Central; 9:00 PM – 10:15 PM pm Eastern; 10:00 PM – 11:15 PM Atlantic.)
URL:https://thewayoftheheart.com/event/dreaming-together-group-process-call-2/
CATEGORIES:Telebridge
END:VEVENT
BEGIN:VEVENT
DTSTART;TZID=America/Denver:20240721T120000
DTEND;TZID=America/Denver:20240721T153000
DTSTAMP:20260419T132008
CREATED:20240517T172747Z
LAST-MODIFIED:20240517T172747Z
UID:1819-1721563200-1721575800@thewayoftheheart.com
SUMMARY:Field Gateway
DESCRIPTION:(1 – 4:30pm Mountain /2 – 5:30pm Central /3 – 6:30pm Eastern /4 – 7:30pm Atlantic)
URL:https://thewayoftheheart.com/event/field-gateway-2024-07-21/
LOCATION:Zoom
END:VEVENT
BEGIN:VEVENT
DTSTART;TZID=UTC:20240721T170000
DTEND;TZID=UTC:20240721T181500
DTSTAMP:20260419T132008
CREATED:20240326T201404Z
LAST-MODIFIED:20240326T201404Z
UID:1769-1721581200-1721585700@thewayoftheheart.com
SUMMARY:Call to Love - Inner Life Mission Immersion (Call #22)
DESCRIPTION:5:00 PM to 6:15 PM Pacific Time(6:00 PM – 7:15 PM Mountain; 7:00 PM – 8:15 PM Central; 8:00 PM – 9:15 PM pm Eastern; 9:00 PM – 10:15 PM Atlantic.)
URL:https://thewayoftheheart.com/event/call-to-love-inner-life-mission-immersion-call-22/
CATEGORIES:Telebridge
END:VEVENT
BEGIN:VEVENT
DTSTART;TZID=UTC:20240724T180000
DTEND;TZID=UTC:20240724T191500
DTSTAMP:20260419T132008
CREATED:20240326T201406Z
LAST-MODIFIED:20240326T201406Z
UID:1775-1721844000-1721848500@thewayoftheheart.com
SUMMARY:Dreaming Together - Group Process (Call #3)
DESCRIPTION:6:00 PM to 7:15 PM Pacific Time(7:00 PM – 8:15 PM Mountain; 8:00 PM – 9:15 PM Central; 9:00 PM – 10:15 PM pm Eastern; 10:00 PM – 11:15 PM Atlantic.)
URL:https://thewayoftheheart.com/event/dreaming-together-group-process-call-3/
CATEGORIES:Telebridge
END:VEVENT
BEGIN:VEVENT
DTSTART;TZID=UTC:20240725T180000
DTEND;TZID=UTC:20240725T193000
DTSTAMP:20260419T132008
CREATED:20240326T201543Z
LAST-MODIFIED:20240326T201543Z
UID:1803-1721930400-1721935800@thewayoftheheart.com
SUMMARY:Life Mission: Masterclass to Mastermind (Call #14)
DESCRIPTION:6:00 PM to 7:30 PM Pacific Time(7:00 PM – 8:30 PM Mountain; 8:00 PM – 9:30 PM Central; 9:00 PM – 10:30 PM pm Eastern; 10:00 PM – 11:30 PM Atlantic.)
URL:https://thewayoftheheart.com/event/life-mission-masterclass-to-mastermind-call-14-2/
CATEGORIES:Telebridge
END:VEVENT
END:VCALENDAR