BEGIN:VCALENDAR
VERSION:2.0
PRODID:-//The Way of the Heart - ECPv6.15.20//NONSGML v1.0//EN
CALSCALE:GREGORIAN
METHOD:PUBLISH
X-ORIGINAL-URL:https://thewayoftheheart.com
X-WR-CALDESC:Events for The Way of the Heart
REFRESH-INTERVAL;VALUE=DURATION:PT1H
X-Robots-Tag:noindex
X-PUBLISHED-TTL:PT1H
BEGIN:VTIMEZONE
TZID:America/Los_Angeles
BEGIN:DAYLIGHT
TZOFFSETFROM:-0800
TZOFFSETTO:-0700
TZNAME:PDT
DTSTART:20260308T100000
END:DAYLIGHT
BEGIN:STANDARD
TZOFFSETFROM:-0700
TZOFFSETTO:-0800
TZNAME:PST
DTSTART:20261101T090000
END:STANDARD
BEGIN:DAYLIGHT
TZOFFSETFROM:-0800
TZOFFSETTO:-0700
TZNAME:PDT
DTSTART:20270314T100000
END:DAYLIGHT
BEGIN:STANDARD
TZOFFSETFROM:-0700
TZOFFSETTO:-0800
TZNAME:PST
DTSTART:20271107T090000
END:STANDARD
BEGIN:DAYLIGHT
TZOFFSETFROM:-0800
TZOFFSETTO:-0700
TZNAME:PDT
DTSTART:20280312T100000
END:DAYLIGHT
BEGIN:STANDARD
TZOFFSETFROM:-0700
TZOFFSETTO:-0800
TZNAME:PST
DTSTART:20281105T090000
END:STANDARD
END:VTIMEZONE
BEGIN:VEVENT
DTSTART;TZID=America/Los_Angeles:20270124T170000
DTEND;TZID=America/Los_Angeles:20270124T181500
DTSTAMP:20260420T053204
CREATED:20251201T213515Z
LAST-MODIFIED:20251201T215503Z
UID:2363-1800810000-1800814500@thewayoftheheart.com
SUMMARY:Call to Love - Inner Life Mission Immersion (Call #49)
DESCRIPTION:5:00 PM to 6:15 PM Pacific Time(6:00 PM – 7:15 PM Mountain; 7:00 PM – 8:15 PM Central; 8:00 PM – 9:15 PM pm Eastern; 9:00 PM – 10:15 PM Atlantic.)
URL:https://thewayoftheheart.com/event/call-to-love-inner-life-mission-immersion-call-49-3/
LOCATION:Telebridge
CATEGORIES:Telebridge
END:VEVENT
END:VCALENDAR