BEGIN:VCALENDAR
VERSION:2.0
PRODID:-//The Way of the Heart - ECPv6.15.20//NONSGML v1.0//EN
CALSCALE:GREGORIAN
METHOD:PUBLISH
X-WR-CALNAME:The Way of the Heart
X-ORIGINAL-URL:https://thewayoftheheart.com
X-WR-CALDESC:Events for The Way of the Heart
REFRESH-INTERVAL;VALUE=DURATION:PT1H
X-Robots-Tag:noindex
X-PUBLISHED-TTL:PT1H
BEGIN:VTIMEZONE
TZID:UTC
BEGIN:STANDARD
TZOFFSETFROM:+0000
TZOFFSETTO:+0000
TZNAME:UTC
DTSTART:20200101T000000
END:STANDARD
END:VTIMEZONE
BEGIN:VTIMEZONE
TZID:America/Denver
BEGIN:DAYLIGHT
TZOFFSETFROM:-0700
TZOFFSETTO:-0600
TZNAME:MDT
DTSTART:20200308T090000
END:DAYLIGHT
BEGIN:STANDARD
TZOFFSETFROM:-0600
TZOFFSETTO:-0700
TZNAME:MST
DTSTART:20201101T080000
END:STANDARD
BEGIN:DAYLIGHT
TZOFFSETFROM:-0700
TZOFFSETTO:-0600
TZNAME:MDT
DTSTART:20210314T090000
END:DAYLIGHT
BEGIN:STANDARD
TZOFFSETFROM:-0600
TZOFFSETTO:-0700
TZNAME:MST
DTSTART:20211107T080000
END:STANDARD
BEGIN:DAYLIGHT
TZOFFSETFROM:-0700
TZOFFSETTO:-0600
TZNAME:MDT
DTSTART:20220313T090000
END:DAYLIGHT
BEGIN:STANDARD
TZOFFSETFROM:-0600
TZOFFSETTO:-0700
TZNAME:MST
DTSTART:20221106T080000
END:STANDARD
END:VTIMEZONE
BEGIN:VTIMEZONE
TZID:America/Los_Angeles
BEGIN:DAYLIGHT
TZOFFSETFROM:-0800
TZOFFSETTO:-0700
TZNAME:PDT
DTSTART:20200308T100000
END:DAYLIGHT
BEGIN:STANDARD
TZOFFSETFROM:-0700
TZOFFSETTO:-0800
TZNAME:PST
DTSTART:20201101T090000
END:STANDARD
BEGIN:DAYLIGHT
TZOFFSETFROM:-0800
TZOFFSETTO:-0700
TZNAME:PDT
DTSTART:20210314T100000
END:DAYLIGHT
BEGIN:STANDARD
TZOFFSETFROM:-0700
TZOFFSETTO:-0800
TZNAME:PST
DTSTART:20211107T090000
END:STANDARD
BEGIN:DAYLIGHT
TZOFFSETFROM:-0800
TZOFFSETTO:-0700
TZNAME:PDT
DTSTART:20220313T100000
END:DAYLIGHT
BEGIN:STANDARD
TZOFFSETFROM:-0700
TZOFFSETTO:-0800
TZNAME:PST
DTSTART:20221106T090000
END:STANDARD
END:VTIMEZONE
BEGIN:VEVENT
DTSTART;TZID=UTC:20210725T170000
DTEND;TZID=UTC:20210725T181500
DTSTAMP:20260422T221751
CREATED:20201126T223520Z
LAST-MODIFIED:20201126T223520Z
UID:1096-1627232400-1627236900@thewayoftheheart.com
SUMMARY:Inner Life Mission Immersion (Call #23)
DESCRIPTION:5:00 PM to 6:15 PM Pacific Time(6:00 PM – 7:15 PM Mountain; 7:00 PM – 8:15 PM Central; 8:00 PM – 9:15 PM pm Eastern; 9:00 PM – 10:15 PM Atlantic.)
URL:https://thewayoftheheart.com/event/inner-life-mission-immersion-call-23/
CATEGORIES:Telebridge
END:VEVENT
BEGIN:VEVENT
DTSTART;TZID=UTC:20210722T180000
DTEND;TZID=UTC:20210722T191500
DTSTAMP:20260422T221751
CREATED:20201126T223622Z
LAST-MODIFIED:20201126T223622Z
UID:1154-1626976800-1626981300@thewayoftheheart.com
SUMMARY:Life Mission II (Call #8)
DESCRIPTION:6:00 PM to 7:15 PM Pacific Time(7:00 PM – 8:15 PM Mountain; 8:00 PM – 9:15 PM Central; 9:00 PM – 10:15 PM pm Eastern; 10:00 PM – 11:15 PM Atlantic.)
URL:https://thewayoftheheart.com/event/life-mission-ii-call-8/
CATEGORIES:Telebridge
END:VEVENT
BEGIN:VEVENT
DTSTART;TZID=UTC:20210718T170000
DTEND;TZID=UTC:20210718T181500
DTSTAMP:20260422T221751
CREATED:20201126T223520Z
LAST-MODIFIED:20201126T223520Z
UID:1095-1626627600-1626632100@thewayoftheheart.com
SUMMARY:Inner Life Mission Immersion (Call #22)
DESCRIPTION:5:00 PM to 6:15 PM Pacific Time(6:00 PM – 7:15 PM Mountain; 7:00 PM – 8:15 PM Central; 8:00 PM – 9:15 PM pm Eastern; 9:00 PM – 10:15 PM Atlantic.)
URL:https://thewayoftheheart.com/event/inner-life-mission-immersion-call-22/
CATEGORIES:Telebridge
END:VEVENT
BEGIN:VEVENT
DTSTART;TZID=UTC:20210715T180000
DTEND;TZID=UTC:20210715T191500
DTSTAMP:20260422T221751
CREATED:20201126T223553Z
LAST-MODIFIED:20201126T223553Z
UID:1130-1626372000-1626376500@thewayoftheheart.com
SUMMARY:Life Mission Scales & Skills: Building the Habit (Call #7B)
DESCRIPTION:6:00 PM to 7:15 PM Pacific Time(7:00 PM – 8:15 PM Mountain; 8:00 PM – 9:15 PM Central; 9:00 PM – 10:15 PM pm Eastern; 10:00 PM – 11:15 PM Atlantic.)
URL:https://thewayoftheheart.com/event/life-mission-scales-skills-building-the-habit-call-7b/
CATEGORIES:Telebridge
END:VEVENT
BEGIN:VEVENT
DTSTART;TZID=UTC:20210711T170000
DTEND;TZID=UTC:20210711T181500
DTSTAMP:20260422T221751
CREATED:20201126T223519Z
LAST-MODIFIED:20201126T223519Z
UID:1094-1626022800-1626027300@thewayoftheheart.com
SUMMARY:Inner Life Mission Immersion (Call #21)
DESCRIPTION:5:00 PM to 6:15 PM Pacific Time(6:00 PM – 7:15 PM Mountain; 7:00 PM – 8:15 PM Central; 8:00 PM – 9:15 PM pm Eastern; 9:00 PM – 10:15 PM Atlantic.)
URL:https://thewayoftheheart.com/event/inner-life-mission-immersion-call-21/
CATEGORIES:Telebridge
END:VEVENT
BEGIN:VEVENT
DTSTART;TZID=America/Denver:20210711T120000
DTEND;TZID=America/Denver:20210711T153000
DTSTAMP:20260422T221751
CREATED:20210625T223314Z
LAST-MODIFIED:20210625T223632Z
UID:1242-1626004800-1626017400@thewayoftheheart.com
SUMMARY:Zoom Gateway
DESCRIPTION:(1-4:30pm Mountain / 2-5:30pm Central / 3-6:30pm Eastern / 4-7:30pm Atlantic)
URL:https://thewayoftheheart.com/event/zoom-gateway/
LOCATION:Zoom
END:VEVENT
BEGIN:VEVENT
DTSTART;TZID=UTC:20210708T180000
DTEND;TZID=UTC:20210708T191500
DTSTAMP:20260422T221751
CREATED:20201126T223622Z
LAST-MODIFIED:20201126T223622Z
UID:1153-1625767200-1625771700@thewayoftheheart.com
SUMMARY:Life Mission II (Call #7)
DESCRIPTION:6:00 PM to 7:15 PM Pacific Time(7:00 PM – 8:15 PM Mountain; 8:00 PM – 9:15 PM Central; 9:00 PM – 10:15 PM pm Eastern; 10:00 PM – 11:15 PM Atlantic.)
URL:https://thewayoftheheart.com/event/life-mission-ii-call-7/
CATEGORIES:Telebridge
END:VEVENT
BEGIN:VEVENT
DTSTART;TZID=UTC:20210704T170000
DTEND;TZID=UTC:20210704T181500
DTSTAMP:20260422T221751
CREATED:20201126T223519Z
LAST-MODIFIED:20201126T223519Z
UID:1093-1625418000-1625422500@thewayoftheheart.com
SUMMARY:Inner Life Mission Immersion (Call #20)
DESCRIPTION:5:00 PM to 6:15 PM Pacific Time(6:00 PM – 7:15 PM Mountain; 7:00 PM – 8:15 PM Central; 8:00 PM – 9:15 PM pm Eastern; 9:00 PM – 10:15 PM Atlantic.)
URL:https://thewayoftheheart.com/event/inner-life-mission-immersion-call-20/
CATEGORIES:Telebridge
END:VEVENT
BEGIN:VEVENT
DTSTART;TZID=UTC:20210701T180000
DTEND;TZID=UTC:20210701T191500
DTSTAMP:20260422T221751
CREATED:20201126T223553Z
LAST-MODIFIED:20201126T223553Z
UID:1129-1625162400-1625166900@thewayoftheheart.com
SUMMARY:Life Mission Scales & Skills: Building the Habit (Call #7)
DESCRIPTION:6:00 PM to 7:15 PM Pacific Time(7:00 PM – 8:15 PM Mountain; 8:00 PM – 9:15 PM Central; 9:00 PM – 10:15 PM pm Eastern; 10:00 PM – 11:15 PM Atlantic.)
URL:https://thewayoftheheart.com/event/life-mission-scales-skills-building-the-habit-call-7/
CATEGORIES:Telebridge
END:VEVENT
BEGIN:VEVENT
DTSTART;TZID=UTC:20210627T170000
DTEND;TZID=UTC:20210627T181500
DTSTAMP:20260422T221751
CREATED:20201126T223518Z
LAST-MODIFIED:20201126T223518Z
UID:1092-1624813200-1624817700@thewayoftheheart.com
SUMMARY:Inner Life Mission Immersion (Call #19)
DESCRIPTION:5:00 PM to 6:15 PM Pacific Time(6:00 PM – 7:15 PM Mountain; 7:00 PM – 8:15 PM Central; 8:00 PM – 9:15 PM pm Eastern; 9:00 PM – 10:15 PM Atlantic.)
URL:https://thewayoftheheart.com/event/inner-life-mission-immersion-call-19/
CATEGORIES:Telebridge
END:VEVENT
BEGIN:VEVENT
DTSTART;VALUE=DATE:20210625
DTEND;VALUE=DATE:20210628
DTSTAMP:20260422T221751
CREATED:20201126T074357Z
LAST-MODIFIED:20210609T135731Z
UID:1051-1624579200-1624838399@thewayoftheheart.com
SUMMARY:Feng Shui I: Field and Form
DESCRIPTION:
URL:https://thewayoftheheart.com/event/feng-shui-i-field-and-form-2/
LOCATION:Online Retreat via Zoom
CATEGORIES:Advanced class
END:VEVENT
BEGIN:VEVENT
DTSTART;TZID=UTC:20210624T180000
DTEND;TZID=UTC:20210624T191500
DTSTAMP:20260422T221751
CREATED:20201126T223622Z
LAST-MODIFIED:20201126T223622Z
UID:1152-1624557600-1624562100@thewayoftheheart.com
SUMMARY:Life Mission II (Call #6)
DESCRIPTION:6:00 PM to 7:15 PM Pacific Time(7:00 PM – 8:15 PM Mountain; 8:00 PM – 9:15 PM Central; 9:00 PM – 10:15 PM pm Eastern; 10:00 PM – 11:15 PM Atlantic.)
URL:https://thewayoftheheart.com/event/life-mission-ii-call-6/
CATEGORIES:Telebridge
END:VEVENT
BEGIN:VEVENT
DTSTART;TZID=UTC:20210620T170000
DTEND;TZID=UTC:20210620T181500
DTSTAMP:20260422T221751
CREATED:20201126T223518Z
LAST-MODIFIED:20201126T223518Z
UID:1091-1624208400-1624212900@thewayoftheheart.com
SUMMARY:Inner Life Mission Immersion (Call #18)
DESCRIPTION:5:00 PM to 6:15 PM Pacific Time(6:00 PM – 7:15 PM Mountain; 7:00 PM – 8:15 PM Central; 8:00 PM – 9:15 PM pm Eastern; 9:00 PM – 10:15 PM Atlantic.)
URL:https://thewayoftheheart.com/event/inner-life-mission-immersion-call-18/
CATEGORIES:Telebridge
END:VEVENT
BEGIN:VEVENT
DTSTART;TZID=UTC:20210617T180000
DTEND;TZID=UTC:20210617T191500
DTSTAMP:20260422T221751
CREATED:20201126T223553Z
LAST-MODIFIED:20201126T223553Z
UID:1128-1623952800-1623957300@thewayoftheheart.com
SUMMARY:Life Mission Scales & Skills: Building the Habit (Call #6B)
DESCRIPTION:6:00 PM to 7:15 PM Pacific Time(7:00 PM – 8:15 PM Mountain; 8:00 PM – 9:15 PM Central; 9:00 PM – 10:15 PM pm Eastern; 10:00 PM – 11:15 PM Atlantic.)
URL:https://thewayoftheheart.com/event/life-mission-scales-skills-building-the-habit-call-6b/
CATEGORIES:Telebridge
END:VEVENT
BEGIN:VEVENT
DTSTART;TZID=UTC:20210613T170000
DTEND;TZID=UTC:20210613T181500
DTSTAMP:20260422T221751
CREATED:20201126T223518Z
LAST-MODIFIED:20201126T223518Z
UID:1090-1623603600-1623608100@thewayoftheheart.com
SUMMARY:Inner Life Mission Immersion (Call #17)
DESCRIPTION:5:00 PM to 6:15 PM Pacific Time(6:00 PM – 7:15 PM Mountain; 7:00 PM – 8:15 PM Central; 8:00 PM – 9:15 PM pm Eastern; 9:00 PM – 10:15 PM Atlantic.)
URL:https://thewayoftheheart.com/event/inner-life-mission-immersion-call-17/
CATEGORIES:Telebridge
END:VEVENT
BEGIN:VEVENT
DTSTART;VALUE=DATE:20210611
DTEND;VALUE=DATE:20210614
DTSTAMP:20260422T221751
CREATED:20201126T073742Z
LAST-MODIFIED:20210609T135628Z
UID:1037-1623369600-1623628799@thewayoftheheart.com
SUMMARY:Level II
DESCRIPTION:
URL:https://thewayoftheheart.com/event/level-ii-2/
LOCATION:Online Retreat via Zoom
CATEGORIES:Foundation class
END:VEVENT
BEGIN:VEVENT
DTSTART;TZID=UTC:20210610T180000
DTEND;TZID=UTC:20210610T191500
DTSTAMP:20260422T221751
CREATED:20201126T223622Z
LAST-MODIFIED:20201126T223622Z
UID:1151-1623348000-1623352500@thewayoftheheart.com
SUMMARY:Life Mission II (Call #5)
DESCRIPTION:6:00 PM to 7:15 PM Pacific Time(7:00 PM – 8:15 PM Mountain; 8:00 PM – 9:15 PM Central; 9:00 PM – 10:15 PM pm Eastern; 10:00 PM – 11:15 PM Atlantic.)
URL:https://thewayoftheheart.com/event/life-mission-ii-call-5/
CATEGORIES:Telebridge
END:VEVENT
BEGIN:VEVENT
DTSTART;TZID=UTC:20210606T170000
DTEND;TZID=UTC:20210606T181500
DTSTAMP:20260422T221751
CREATED:20201126T223518Z
LAST-MODIFIED:20201126T223518Z
UID:1089-1622998800-1623003300@thewayoftheheart.com
SUMMARY:Inner Life Mission Immersion (Call #16)
DESCRIPTION:5:00 PM to 6:15 PM Pacific Time(6:00 PM – 7:15 PM Mountain; 7:00 PM – 8:15 PM Central; 8:00 PM – 9:15 PM pm Eastern; 9:00 PM – 10:15 PM Atlantic.)
URL:https://thewayoftheheart.com/event/inner-life-mission-immersion-call-16/
CATEGORIES:Telebridge
END:VEVENT
BEGIN:VEVENT
DTSTART;VALUE=DATE:20210604
DTEND;VALUE=DATE:20210607
DTSTAMP:20260422T221751
CREATED:20201126T073741Z
LAST-MODIFIED:20210609T135500Z
UID:1036-1622764800-1623023999@thewayoftheheart.com
SUMMARY:Level I
DESCRIPTION:
URL:https://thewayoftheheart.com/event/level-i-2/
LOCATION:Online Retreat via Zoom
CATEGORIES:Foundation class
END:VEVENT
BEGIN:VEVENT
DTSTART;TZID=UTC:20210603T180000
DTEND;TZID=UTC:20210603T191500
DTSTAMP:20260422T221751
CREATED:20201126T223553Z
LAST-MODIFIED:20201126T223553Z
UID:1127-1622743200-1622747700@thewayoftheheart.com
SUMMARY:Life Mission Scales & Skills: Building the Habit (Call #6)
DESCRIPTION:6:00 PM to 7:15 PM Pacific Time(7:00 PM – 8:15 PM Mountain; 8:00 PM – 9:15 PM Central; 9:00 PM – 10:15 PM pm Eastern; 10:00 PM – 11:15 PM Atlantic.)
URL:https://thewayoftheheart.com/event/life-mission-scales-skills-building-the-habit-call-6/
CATEGORIES:Telebridge
END:VEVENT
BEGIN:VEVENT
DTSTART;TZID=UTC:20210601T170000
DTEND;TZID=UTC:20210601T181500
DTSTAMP:20260422T221751
CREATED:20201126T223517Z
LAST-MODIFIED:20201126T223517Z
UID:1088-1622566800-1622571300@thewayoftheheart.com
SUMMARY:Inner Life Mission Immersion (Call #15)
DESCRIPTION:5:00 PM to 6:15 PM Pacific Time(6:00 PM – 7:15 PM Mountain; 7:00 PM – 8:15 PM Central; 8:00 PM – 9:15 PM pm Eastern; 9:00 PM – 10:15 PM Atlantic.)
URL:https://thewayoftheheart.com/event/inner-life-mission-immersion-call-15/
CATEGORIES:Telebridge
END:VEVENT
BEGIN:VEVENT
DTSTART;TZID=UTC:20210530T170000
DTEND;TZID=UTC:20210530T181500
DTSTAMP:20260422T221751
CREATED:20201126T223517Z
LAST-MODIFIED:20201126T223517Z
UID:1087-1622394000-1622398500@thewayoftheheart.com
SUMMARY:Inner Life Mission Immersion (Call #14)
DESCRIPTION:5:00 PM to 6:15 PM Pacific Time(6:00 PM – 7:15 PM Mountain; 7:00 PM – 8:15 PM Central; 8:00 PM – 9:15 PM pm Eastern; 9:00 PM – 10:15 PM Atlantic.)
URL:https://thewayoftheheart.com/event/inner-life-mission-immersion-call-14/
CATEGORIES:Telebridge
END:VEVENT
BEGIN:VEVENT
DTSTART;VALUE=DATE:20210527
DTEND;VALUE=DATE:20210601
DTSTAMP:20260422T221751
CREATED:20201126T073741Z
LAST-MODIFIED:20201126T073741Z
UID:1035-1622073600-1622505599@thewayoftheheart.com
SUMMARY:Level I & II
DESCRIPTION:
URL:https://thewayoftheheart.com/event/level-i-ii/
LOCATION:Ontario\, Canada
CATEGORIES:Foundation class
END:VEVENT
BEGIN:VEVENT
DTSTART;TZID=UTC:20210526T180000
DTEND;TZID=UTC:20210526T191500
DTSTAMP:20260422T221751
CREATED:20201127T180332Z
LAST-MODIFIED:20201127T180332Z
UID:1191-1622052000-1622056500@thewayoftheheart.com
SUMMARY:Alchemical Healing 3.0 (Call #6)
DESCRIPTION:6:00 PM to 7:15 PM Pacific Time(7:00 PM – 8:15 PM Mountain; 8:00 PM – 9:15 PM Central; 9:00 PM – 10:15 PM pm Eastern; 10:00 PM – 11:15 PM Atlantic.)
URL:https://thewayoftheheart.com/event/alchemical-healing-3-0-call-6-2/
CATEGORIES:Telebridge
END:VEVENT
BEGIN:VEVENT
DTSTART;TZID=UTC:20210523T170000
DTEND;TZID=UTC:20210523T181500
DTSTAMP:20260422T221751
CREATED:20201126T223517Z
LAST-MODIFIED:20201126T223517Z
UID:1086-1621789200-1621793700@thewayoftheheart.com
SUMMARY:Inner Life Mission Immersion (Call #13)
DESCRIPTION:5:00 PM to 6:15 PM Pacific Time(6:00 PM – 7:15 PM Mountain; 7:00 PM – 8:15 PM Central; 8:00 PM – 9:15 PM pm Eastern; 9:00 PM – 10:15 PM Atlantic.)
URL:https://thewayoftheheart.com/event/inner-life-mission-immersion-call-13/
CATEGORIES:Telebridge
END:VEVENT
BEGIN:VEVENT
DTSTART;TZID=UTC:20210520T180000
DTEND;TZID=UTC:20210520T191500
DTSTAMP:20260422T221751
CREATED:20201126T223621Z
LAST-MODIFIED:20201126T223621Z
UID:1150-1621533600-1621538100@thewayoftheheart.com
SUMMARY:Life Mission II (Call #4)
DESCRIPTION:6:00 PM to 7:15 PM Pacific Time(7:00 PM – 8:15 PM Mountain; 8:00 PM – 9:15 PM Central; 9:00 PM – 10:15 PM pm Eastern; 10:00 PM – 11:15 PM Atlantic.)
URL:https://thewayoftheheart.com/event/life-mission-ii-call-4/
CATEGORIES:Telebridge
END:VEVENT
BEGIN:VEVENT
DTSTART;TZID=UTC:20210519T180000
DTEND;TZID=UTC:20210519T191500
DTSTAMP:20260422T221751
CREATED:20201127T180328Z
LAST-MODIFIED:20201127T180328Z
UID:1190-1621447200-1621451700@thewayoftheheart.com
SUMMARY:Alchemical Healing 3.0 (Call #5)
DESCRIPTION:6:00 PM to 7:15 PM Pacific Time(7:00 PM – 8:15 PM Mountain; 8:00 PM – 9:15 PM Central; 9:00 PM – 10:15 PM pm Eastern; 10:00 PM – 11:15 PM Atlantic.)
URL:https://thewayoftheheart.com/event/alchemical-healing-3-0-call-5-2/
CATEGORIES:Telebridge
END:VEVENT
BEGIN:VEVENT
DTSTART;TZID=UTC:20210516T170000
DTEND;TZID=UTC:20210516T181500
DTSTAMP:20260422T221751
CREATED:20201126T223516Z
LAST-MODIFIED:20201126T223516Z
UID:1085-1621184400-1621188900@thewayoftheheart.com
SUMMARY:Inner Life Mission Immersion (Call #12)
DESCRIPTION:5:00 PM to 6:15 PM Pacific Time(6:00 PM – 7:15 PM Mountain; 7:00 PM – 8:15 PM Central; 8:00 PM – 9:15 PM pm Eastern; 9:00 PM – 10:15 PM Atlantic.)
URL:https://thewayoftheheart.com/event/inner-life-mission-immersion-call-12/
CATEGORIES:Telebridge
END:VEVENT
BEGIN:VEVENT
DTSTART;TZID=UTC:20210513T180000
DTEND;TZID=UTC:20210513T191500
DTSTAMP:20260422T221751
CREATED:20201126T223552Z
LAST-MODIFIED:20201126T223552Z
UID:1126-1620928800-1620933300@thewayoftheheart.com
SUMMARY:Life Mission Scales & Skills: Building the Habit (Call #5B)
DESCRIPTION:6:00 PM to 7:15 PM Pacific Time(7:00 PM – 8:15 PM Mountain; 8:00 PM – 9:15 PM Central; 9:00 PM – 10:15 PM pm Eastern; 10:00 PM – 11:15 PM Atlantic.)
URL:https://thewayoftheheart.com/event/life-mission-scales-skills-building-the-habit-call-5b/
CATEGORIES:Telebridge
END:VEVENT
BEGIN:VEVENT
DTSTART;TZID=UTC:20210512T180000
DTEND;TZID=UTC:20210512T191500
DTSTAMP:20260422T221751
CREATED:20201127T180328Z
LAST-MODIFIED:20201127T180328Z
UID:1189-1620842400-1620846900@thewayoftheheart.com
SUMMARY:Alchemical Healing 3.0 (Call #4)
DESCRIPTION:6:00 PM to 7:15 PM Pacific Time(7:00 PM – 8:15 PM Mountain; 8:00 PM – 9:15 PM Central; 9:00 PM – 10:15 PM pm Eastern; 10:00 PM – 11:15 PM Atlantic.)
URL:https://thewayoftheheart.com/event/alchemical-healing-3-0-call-4-2/
CATEGORIES:Telebridge
END:VEVENT
END:VCALENDAR