BEGIN:VCALENDAR
VERSION:2.0
PRODID:-//The Way of the Heart - ECPv6.15.20//NONSGML v1.0//EN
CALSCALE:GREGORIAN
METHOD:PUBLISH
X-WR-CALNAME:The Way of the Heart
X-ORIGINAL-URL:https://thewayoftheheart.com
X-WR-CALDESC:Events for The Way of the Heart
REFRESH-INTERVAL;VALUE=DURATION:PT1H
X-Robots-Tag:noindex
X-PUBLISHED-TTL:PT1H
BEGIN:VTIMEZONE
TZID:UTC
BEGIN:STANDARD
TZOFFSETFROM:+0000
TZOFFSETTO:+0000
TZNAME:UTC
DTSTART:20250101T000000
END:STANDARD
END:VTIMEZONE
BEGIN:VTIMEZONE
TZID:America/Los_Angeles
BEGIN:DAYLIGHT
TZOFFSETFROM:-0800
TZOFFSETTO:-0700
TZNAME:PDT
DTSTART:20250309T100000
END:DAYLIGHT
BEGIN:STANDARD
TZOFFSETFROM:-0700
TZOFFSETTO:-0800
TZNAME:PST
DTSTART:20251102T090000
END:STANDARD
BEGIN:DAYLIGHT
TZOFFSETFROM:-0800
TZOFFSETTO:-0700
TZNAME:PDT
DTSTART:20260308T100000
END:DAYLIGHT
BEGIN:STANDARD
TZOFFSETFROM:-0700
TZOFFSETTO:-0800
TZNAME:PST
DTSTART:20261101T090000
END:STANDARD
BEGIN:DAYLIGHT
TZOFFSETFROM:-0800
TZOFFSETTO:-0700
TZNAME:PDT
DTSTART:20270314T100000
END:DAYLIGHT
BEGIN:STANDARD
TZOFFSETFROM:-0700
TZOFFSETTO:-0800
TZNAME:PST
DTSTART:20271107T090000
END:STANDARD
END:VTIMEZONE
BEGIN:VEVENT
DTSTART;TZID=UTC:20260628T170000
DTEND;TZID=UTC:20260628T181500
DTSTAMP:20260420T000224
CREATED:20251125T160634Z
LAST-MODIFIED:20251202T185348Z
UID:2017-1782666000-1782670500@thewayoftheheart.com
SUMMARY:Call to Love - Inner Life Mission Immersion (Call #19)
DESCRIPTION:5:00 PM to 6:15 PM Pacific Time(6:00 PM – 7:15 PM Mountain; 7:00 PM – 8:15 PM Central; 8:00 PM – 9:15 PM pm Eastern; 9:00 PM – 10:15 PM Atlantic.)
URL:https://thewayoftheheart.com/event/call-to-love-inner-life-mission-immersion-call-19-3/
LOCATION:Telebridge
CATEGORIES:Telebridge
END:VEVENT
BEGIN:VEVENT
DTSTART;TZID=America/Los_Angeles:20260630T173000
DTEND;TZID=America/Los_Angeles:20260630T183000
DTSTAMP:20260420T000224
CREATED:20260224T165917Z
LAST-MODIFIED:20260224T165917Z
UID:2392-1782840600-1782844200@thewayoftheheart.com
SUMMARY:Creating the Person (Call #9)
DESCRIPTION:5:30 PM to 6:30 PM Pacific Time(6:30 PM – 7:30 PM Mountain; 7:30 PM – 8:30 PM Central; 8:30 PM – 9:30 PM pm Eastern; 9:30 PM – 10:30 PM Atlantic.)
URL:https://thewayoftheheart.com/event/creating-the-person-call-9/
LOCATION:Telebridge
CATEGORIES:Telebridge
END:VEVENT
BEGIN:VEVENT
DTSTART;TZID=America/Los_Angeles:20260701T090000
DTEND;TZID=America/Los_Angeles:20260701T094000
DTSTAMP:20260420T000224
CREATED:20251125T191332Z
LAST-MODIFIED:20251125T191332Z
UID:2171-1782896400-1782898800@thewayoftheheart.com
SUMMARY:The Art of Being and Becoming 2026 (Call #19)
DESCRIPTION:9:00 AM to 9:40 AM Pacific Time(10:00 AM – 10:40 AM Mountain; 11:00 AM – 11:40 AM Central; 12:00 PM – 12:40 PM pm Eastern; 1:00 PM – 1:40 PM Atlantic.)
URL:https://thewayoftheheart.com/event/the-art-of-being-and-becoming-2026-call-19/
LOCATION:Telebridge
CATEGORIES:Telebridge
END:VEVENT
BEGIN:VEVENT
DTSTART;TZID=America/Los_Angeles:20260702T180000
DTEND;TZID=America/Los_Angeles:20260702T193000
DTSTAMP:20260420T000224
CREATED:20251125T190925Z
LAST-MODIFIED:20251125T190925Z
UID:2139-1783015200-1783020600@thewayoftheheart.com
SUMMARY:Life Mission: Masterclass to Mastermind (Call #13)
DESCRIPTION:6:00 PM to 7:30 PM Pacific Time(7:00 PM – 8:30 PM Mountain; 8:00 PM – 9:30 PM Central; 9:00 PM – 10:30 PM pm Eastern; 10:00 PM – 11:30 PM Atlantic.)
URL:https://thewayoftheheart.com/event/life-mission-masterclass-to-mastermind-call-13-4/
LOCATION:Zoom
CATEGORIES:Telebridge
END:VEVENT
BEGIN:VEVENT
DTSTART;TZID=UTC:20260705T170000
DTEND;TZID=UTC:20260705T181500
DTSTAMP:20260420T000224
CREATED:20251125T160634Z
LAST-MODIFIED:20251202T185300Z
UID:2018-1783270800-1783275300@thewayoftheheart.com
SUMMARY:Call to Love - Inner Life Mission Immersion (Call #20)
DESCRIPTION:5:00 PM to 6:15 PM Pacific Time(6:00 PM – 7:15 PM Mountain; 7:00 PM – 8:15 PM Central; 8:00 PM – 9:15 PM pm Eastern; 9:00 PM – 10:15 PM Atlantic.)
URL:https://thewayoftheheart.com/event/call-to-love-inner-life-mission-immersion-call-20-3/
LOCATION:Telebridge
CATEGORIES:Telebridge
END:VEVENT
BEGIN:VEVENT
DTSTART;TZID=America/Los_Angeles:20260707T173000
DTEND;TZID=America/Los_Angeles:20260707T183000
DTSTAMP:20260420T000224
CREATED:20260224T165918Z
LAST-MODIFIED:20260224T165918Z
UID:2393-1783445400-1783449000@thewayoftheheart.com
SUMMARY:Creating the Person (Call #10)
DESCRIPTION:5:30 PM to 6:30 PM Pacific Time(6:30 PM – 7:30 PM Mountain; 7:30 PM – 8:30 PM Central; 8:30 PM – 9:30 PM pm Eastern; 9:30 PM – 10:30 PM Atlantic.)
URL:https://thewayoftheheart.com/event/creating-the-person-call-10/
LOCATION:Telebridge
CATEGORIES:Telebridge
END:VEVENT
BEGIN:VEVENT
DTSTART;TZID=America/Los_Angeles:20260708T090000
DTEND;TZID=America/Los_Angeles:20260708T094000
DTSTAMP:20260420T000224
CREATED:20251125T191332Z
LAST-MODIFIED:20251125T191332Z
UID:2172-1783501200-1783503600@thewayoftheheart.com
SUMMARY:The Art of Being and Becoming 2026 (Call #20)
DESCRIPTION:9:00 AM to 9:40 AM Pacific Time(10:00 AM – 10:40 AM Mountain; 11:00 AM – 11:40 AM Central; 12:00 PM – 12:40 PM pm Eastern; 1:00 PM – 1:40 PM Atlantic.)
URL:https://thewayoftheheart.com/event/the-art-of-being-and-becoming-2026-call-20/
LOCATION:Telebridge
CATEGORIES:Telebridge
END:VEVENT
BEGIN:VEVENT
DTSTART;TZID=UTC:20260712T170000
DTEND;TZID=UTC:20260712T181500
DTSTAMP:20260420T000224
CREATED:20251125T160636Z
LAST-MODIFIED:20251202T185252Z
UID:2019-1783875600-1783880100@thewayoftheheart.com
SUMMARY:Call to Love - Inner Life Mission Immersion (Call #21)
DESCRIPTION:5:00 PM to 6:15 PM Pacific Time(6:00 PM – 7:15 PM Mountain; 7:00 PM – 8:15 PM Central; 8:00 PM – 9:15 PM pm Eastern; 9:00 PM – 10:15 PM Atlantic.)
URL:https://thewayoftheheart.com/event/call-to-love-inner-life-mission-immersion-call-21-3/
LOCATION:Telebridge
CATEGORIES:Telebridge
END:VEVENT
BEGIN:VEVENT
DTSTART;TZID=America/Los_Angeles:20260715T090000
DTEND;TZID=America/Los_Angeles:20260715T094000
DTSTAMP:20260420T000224
CREATED:20251125T191346Z
LAST-MODIFIED:20251125T191347Z
UID:2173-1784106000-1784108400@thewayoftheheart.com
SUMMARY:The Art of Being and Becoming 2026 (Call #21)
DESCRIPTION:9:00 AM to 9:40 AM Pacific Time(10:00 AM – 10:40 AM Mountain; 11:00 AM – 11:40 AM Central; 12:00 PM – 12:40 PM pm Eastern; 1:00 PM – 1:40 PM Atlantic.)
URL:https://thewayoftheheart.com/event/the-art-of-being-and-becoming-2026-call-21/
LOCATION:Telebridge
CATEGORIES:Telebridge
END:VEVENT
BEGIN:VEVENT
DTSTART;TZID=America/Los_Angeles:20260715T180000
DTEND;TZID=America/Los_Angeles:20260715T191500
DTSTAMP:20260420T000224
CREATED:20251125T185807Z
LAST-MODIFIED:20251125T185807Z
UID:2118-1784138400-1784142900@thewayoftheheart.com
SUMMARY:Dreaming & the Imaginal (Call #1)
DESCRIPTION:6:00 PM to 7:15 PM Pacific Time\n(7:00 PM – 8:15 PM Mountain; 8:00 PM – 9:15 PM Central; 9:00 PM – 10:15 PM pm Eastern; 10:00 PM – 11:15 PM Atlantic.)
URL:https://thewayoftheheart.com/event/dreaming-the-imaginal-call-1/
LOCATION:Telebridge
CATEGORIES:Telebridge
END:VEVENT
BEGIN:VEVENT
DTSTART;TZID=America/Los_Angeles:20260716T180000
DTEND;TZID=America/Los_Angeles:20260716T193000
DTSTAMP:20260420T000224
CREATED:20251125T190925Z
LAST-MODIFIED:20251125T190925Z
UID:2140-1784224800-1784230200@thewayoftheheart.com
SUMMARY:Life Mission: Masterclass to Mastermind (Call #14)
DESCRIPTION:6:00 PM to 7:30 PM Pacific Time(7:00 PM – 8:30 PM Mountain; 8:00 PM – 9:30 PM Central; 9:00 PM – 10:30 PM pm Eastern; 10:00 PM – 11:30 PM Atlantic.)
URL:https://thewayoftheheart.com/event/life-mission-masterclass-to-mastermind-call-14-4/
LOCATION:Zoom
CATEGORIES:Telebridge
END:VEVENT
BEGIN:VEVENT
DTSTART;TZID=UTC:20260719T170000
DTEND;TZID=UTC:20260719T181500
DTSTAMP:20260420T000224
CREATED:20251125T160637Z
LAST-MODIFIED:20251202T185248Z
UID:2020-1784480400-1784484900@thewayoftheheart.com
SUMMARY:Call to Love - Inner Life Mission Immersion (Call #22)
DESCRIPTION:5:00 PM to 6:15 PM Pacific Time(6:00 PM – 7:15 PM Mountain; 7:00 PM – 8:15 PM Central; 8:00 PM – 9:15 PM pm Eastern; 9:00 PM – 10:15 PM Atlantic.)
URL:https://thewayoftheheart.com/event/call-to-love-inner-life-mission-immersion-call-22-3/
LOCATION:Telebridge
CATEGORIES:Telebridge
END:VEVENT
BEGIN:VEVENT
DTSTART;TZID=America/Los_Angeles:20260722T090000
DTEND;TZID=America/Los_Angeles:20260722T094000
DTSTAMP:20260420T000224
CREATED:20251125T191346Z
LAST-MODIFIED:20251125T191347Z
UID:2174-1784710800-1784713200@thewayoftheheart.com
SUMMARY:The Art of Being and Becoming 2026 (Call #22)
DESCRIPTION:9:00 AM to 9:40 AM Pacific Time(10:00 AM – 10:40 AM Mountain; 11:00 AM – 11:40 AM Central; 12:00 PM – 12:40 PM pm Eastern; 1:00 PM – 1:40 PM Atlantic.)
URL:https://thewayoftheheart.com/event/the-art-of-being-and-becoming-2026-call-22/
LOCATION:Telebridge
CATEGORIES:Telebridge
END:VEVENT
BEGIN:VEVENT
DTSTART;TZID=America/Los_Angeles:20260722T180000
DTEND;TZID=America/Los_Angeles:20260722T191500
DTSTAMP:20260420T000224
CREATED:20251125T185807Z
LAST-MODIFIED:20251125T185807Z
UID:2119-1784743200-1784747700@thewayoftheheart.com
SUMMARY:Dreaming & the Imaginal (Call #2)
DESCRIPTION:6:00 PM to 7:15 PM Pacific Time\n(7:00 PM – 8:15 PM Mountain; 8:00 PM – 9:15 PM Central; 9:00 PM – 10:15 PM pm Eastern; 10:00 PM – 11:15 PM Atlantic.)
URL:https://thewayoftheheart.com/event/dreaming-the-imaginal-call-2/
LOCATION:Telebridge
CATEGORIES:Telebridge
END:VEVENT
BEGIN:VEVENT
DTSTART;TZID=UTC:20260726T170000
DTEND;TZID=UTC:20260726T181500
DTSTAMP:20260420T000224
CREATED:20251125T160637Z
LAST-MODIFIED:20251202T185243Z
UID:2021-1785085200-1785089700@thewayoftheheart.com
SUMMARY:Call to Love - Inner Life Mission Immersion (Call #23)
DESCRIPTION:5:00 PM to 6:15 PM Pacific Time(6:00 PM – 7:15 PM Mountain; 7:00 PM – 8:15 PM Central; 8:00 PM – 9:15 PM pm Eastern; 9:00 PM – 10:15 PM Atlantic.)
URL:https://thewayoftheheart.com/event/call-to-love-inner-life-mission-immersion-call-23-3/
LOCATION:Telebridge
CATEGORIES:Telebridge
END:VEVENT
BEGIN:VEVENT
DTSTART;TZID=America/Los_Angeles:20260729T090000
DTEND;TZID=America/Los_Angeles:20260729T094000
DTSTAMP:20260420T000224
CREATED:20251125T191346Z
LAST-MODIFIED:20251125T191347Z
UID:2175-1785315600-1785318000@thewayoftheheart.com
SUMMARY:The Art of Being and Becoming 2026 (Call #23)
DESCRIPTION:9:00 AM to 9:40 AM Pacific Time(10:00 AM – 10:40 AM Mountain; 11:00 AM – 11:40 AM Central; 12:00 PM – 12:40 PM pm Eastern; 1:00 PM – 1:40 PM Atlantic.)
URL:https://thewayoftheheart.com/event/the-art-of-being-and-becoming-2026-call-23/
LOCATION:Telebridge
CATEGORIES:Telebridge
END:VEVENT
BEGIN:VEVENT
DTSTART;TZID=America/Los_Angeles:20260729T180000
DTEND;TZID=America/Los_Angeles:20260729T191500
DTSTAMP:20260420T000224
CREATED:20251125T185808Z
LAST-MODIFIED:20251125T185808Z
UID:2120-1785348000-1785352500@thewayoftheheart.com
SUMMARY:Dreaming & the Imaginal (Call #3)
DESCRIPTION:6:00 PM to 7:15 PM Pacific Time\n(7:00 PM – 8:15 PM Mountain; 8:00 PM – 9:15 PM Central; 9:00 PM – 10:15 PM pm Eastern; 10:00 PM – 11:15 PM Atlantic.)
URL:https://thewayoftheheart.com/event/dreaming-the-imaginal-call-3/
LOCATION:Telebridge
CATEGORIES:Telebridge
END:VEVENT
BEGIN:VEVENT
DTSTART;TZID=America/Los_Angeles:20260730T180000
DTEND;TZID=America/Los_Angeles:20260730T193000
DTSTAMP:20260420T000224
CREATED:20251125T190926Z
LAST-MODIFIED:20251125T190926Z
UID:2141-1785434400-1785439800@thewayoftheheart.com
SUMMARY:Life Mission: Masterclass to Mastermind (Call #15)
DESCRIPTION:6:00 PM to 7:30 PM Pacific Time(7:00 PM – 8:30 PM Mountain; 8:00 PM – 9:30 PM Central; 9:00 PM – 10:30 PM pm Eastern; 10:00 PM – 11:30 PM Atlantic.)
URL:https://thewayoftheheart.com/event/life-mission-masterclass-to-mastermind-call-15-4/
LOCATION:Zoom
CATEGORIES:Telebridge
END:VEVENT
BEGIN:VEVENT
DTSTART;TZID=UTC:20260802T170000
DTEND;TZID=UTC:20260802T181500
DTSTAMP:20260420T000224
CREATED:20251125T160637Z
LAST-MODIFIED:20251202T185231Z
UID:2022-1785690000-1785694500@thewayoftheheart.com
SUMMARY:Call to Love - Inner Life Mission Immersion (Call #24)
DESCRIPTION:5:00 PM to 6:15 PM Pacific Time(6:00 PM – 7:15 PM Mountain; 7:00 PM – 8:15 PM Central; 8:00 PM – 9:15 PM pm Eastern; 9:00 PM – 10:15 PM Atlantic.)
URL:https://thewayoftheheart.com/event/call-to-love-inner-life-mission-immersion-call-24-3/
LOCATION:Telebridge
CATEGORIES:Telebridge
END:VEVENT
BEGIN:VEVENT
DTSTART;TZID=America/Los_Angeles:20260805T090000
DTEND;TZID=America/Los_Angeles:20260805T094000
DTSTAMP:20260420T000224
CREATED:20251125T191346Z
LAST-MODIFIED:20251125T191347Z
UID:2176-1785920400-1785922800@thewayoftheheart.com
SUMMARY:The Art of Being and Becoming 2026 (Call #24)
DESCRIPTION:9:00 AM to 9:40 AM Pacific Time(10:00 AM – 10:40 AM Mountain; 11:00 AM – 11:40 AM Central; 12:00 PM – 12:40 PM pm Eastern; 1:00 PM – 1:40 PM Atlantic.)
URL:https://thewayoftheheart.com/event/the-art-of-being-and-becoming-2026-call-24/
LOCATION:Telebridge
CATEGORIES:Telebridge
END:VEVENT
BEGIN:VEVENT
DTSTART;TZID=America/Los_Angeles:20260805T180000
DTEND;TZID=America/Los_Angeles:20260805T191500
DTSTAMP:20260420T000224
CREATED:20251125T185808Z
LAST-MODIFIED:20251125T185808Z
UID:2121-1785952800-1785957300@thewayoftheheart.com
SUMMARY:Dreaming & the Imaginal (Call #4)
DESCRIPTION:6:00 PM to 7:15 PM Pacific Time\n(7:00 PM – 8:15 PM Mountain; 8:00 PM – 9:15 PM Central; 9:00 PM – 10:15 PM pm Eastern; 10:00 PM – 11:15 PM Atlantic.)
URL:https://thewayoftheheart.com/event/dreaming-the-imaginal-call-4/
LOCATION:Telebridge
CATEGORIES:Telebridge
END:VEVENT
BEGIN:VEVENT
DTSTART;TZID=UTC:20260809T170000
DTEND;TZID=UTC:20260809T181500
DTSTAMP:20260420T000224
CREATED:20251125T160637Z
LAST-MODIFIED:20251202T185238Z
UID:2023-1786294800-1786299300@thewayoftheheart.com
SUMMARY:Call to Love - Inner Life Mission Immersion (Call #25)
DESCRIPTION:5:00 PM to 6:15 PM Pacific Time(6:00 PM – 7:15 PM Mountain; 7:00 PM – 8:15 PM Central; 8:00 PM – 9:15 PM pm Eastern; 9:00 PM – 10:15 PM Atlantic.)
URL:https://thewayoftheheart.com/event/call-to-love-inner-life-mission-immersion-call-25-3/
LOCATION:Telebridge
CATEGORIES:Telebridge
END:VEVENT
BEGIN:VEVENT
DTSTART;TZID=America/Los_Angeles:20260812T090000
DTEND;TZID=America/Los_Angeles:20260812T094000
DTSTAMP:20260420T000224
CREATED:20251125T191347Z
LAST-MODIFIED:20251125T191347Z
UID:2177-1786525200-1786527600@thewayoftheheart.com
SUMMARY:The Art of Being and Becoming 2026 (Call #25)
DESCRIPTION:9:00 AM to 9:40 AM Pacific Time(10:00 AM – 10:40 AM Mountain; 11:00 AM – 11:40 AM Central; 12:00 PM – 12:40 PM pm Eastern; 1:00 PM – 1:40 PM Atlantic.)
URL:https://thewayoftheheart.com/event/the-art-of-being-and-becoming-2026-call-25/
LOCATION:Telebridge
CATEGORIES:Telebridge
END:VEVENT
BEGIN:VEVENT
DTSTART;TZID=America/Los_Angeles:20260812T180000
DTEND;TZID=America/Los_Angeles:20260812T191500
DTSTAMP:20260420T000224
CREATED:20251125T185808Z
LAST-MODIFIED:20251125T185808Z
UID:2122-1786557600-1786562100@thewayoftheheart.com
SUMMARY:Dreaming & the Imaginal (Call #5)
DESCRIPTION:6:00 PM to 7:15 PM Pacific Time\n(7:00 PM – 8:15 PM Mountain; 8:00 PM – 9:15 PM Central; 9:00 PM – 10:15 PM pm Eastern; 10:00 PM – 11:15 PM Atlantic.)
URL:https://thewayoftheheart.com/event/dreaming-the-imaginal-call-5/
LOCATION:Telebridge
CATEGORIES:Telebridge
END:VEVENT
BEGIN:VEVENT
DTSTART;TZID=America/Los_Angeles:20260813T180000
DTEND;TZID=America/Los_Angeles:20260813T193000
DTSTAMP:20260420T000224
CREATED:20251125T190948Z
LAST-MODIFIED:20251125T190948Z
UID:2142-1786644000-1786649400@thewayoftheheart.com
SUMMARY:Life Mission: Masterclass to Mastermind (Call #16)
DESCRIPTION:6:00 PM to 7:30 PM Pacific Time(7:00 PM – 8:30 PM Mountain; 8:00 PM – 9:30 PM Central; 9:00 PM – 10:30 PM pm Eastern; 10:00 PM – 11:30 PM Atlantic.)
URL:https://thewayoftheheart.com/event/life-mission-masterclass-to-mastermind-call-16-4/
LOCATION:Zoom
CATEGORIES:Telebridge
END:VEVENT
BEGIN:VEVENT
DTSTART;TZID=UTC:20260816T170000
DTEND;TZID=UTC:20260816T181500
DTSTAMP:20260420T000224
CREATED:20251125T160736Z
LAST-MODIFIED:20251202T185223Z
UID:2025-1786899600-1786904100@thewayoftheheart.com
SUMMARY:Call to Love - Inner Life Mission Immersion (Call #26)
DESCRIPTION:5:00 PM to 6:15 PM Pacific Time(6:00 PM – 7:15 PM Mountain; 7:00 PM – 8:15 PM Central; 8:00 PM – 9:15 PM pm Eastern; 9:00 PM – 10:15 PM Atlantic.)
URL:https://thewayoftheheart.com/event/call-to-love-inner-life-mission-immersion-call-26-2/
LOCATION:Telebridge
CATEGORIES:Telebridge
END:VEVENT
BEGIN:VEVENT
DTSTART;TZID=America/Los_Angeles:20260819T090000
DTEND;TZID=America/Los_Angeles:20260819T094000
DTSTAMP:20260420T000224
CREATED:20251125T191402Z
LAST-MODIFIED:20251125T191402Z
UID:2183-1787130000-1787132400@thewayoftheheart.com
SUMMARY:The Art of Being and Becoming 2026 (Call #26)
DESCRIPTION:9:00 AM to 9:40 AM Pacific Time(10:00 AM – 10:40 AM Mountain; 11:00 AM – 11:40 AM Central; 12:00 PM – 12:40 PM pm Eastern; 1:00 PM – 1:40 PM Atlantic.)
URL:https://thewayoftheheart.com/event/the-art-of-being-and-becoming-2026-call-26/
LOCATION:Telebridge
CATEGORIES:Telebridge
END:VEVENT
BEGIN:VEVENT
DTSTART;TZID=America/Los_Angeles:20260819T180000
DTEND;TZID=America/Los_Angeles:20260819T191500
DTSTAMP:20260420T000224
CREATED:20251125T185810Z
LAST-MODIFIED:20251125T185810Z
UID:2123-1787162400-1787166900@thewayoftheheart.com
SUMMARY:Dreaming & the Imaginal (Call #6)
DESCRIPTION:6:00 PM to 7:15 PM Pacific Time\n(7:00 PM – 8:15 PM Mountain; 8:00 PM – 9:15 PM Central; 9:00 PM – 10:15 PM pm Eastern; 10:00 PM – 11:15 PM Atlantic.)
URL:https://thewayoftheheart.com/event/dreaming-the-imaginal-call-6/
LOCATION:Telebridge
CATEGORIES:Telebridge
END:VEVENT
BEGIN:VEVENT
DTSTART;VALUE=DATE:20260822
DTEND;VALUE=DATE:20260825
DTSTAMP:20260420T000224
CREATED:20251125T154930Z
LAST-MODIFIED:20251125T155615Z
UID:1986-1787356800-1787615999@thewayoftheheart.com
SUMMARY:Awakening the Soul Inner Life Alchemical Retreat
DESCRIPTION:
URL:https://thewayoftheheart.com/event/awakening-the-soul-inner-life-alchemical-retreat/
LOCATION:Prescott\, AZ & via Zoom
CATEGORIES:Advanced class
END:VEVENT
BEGIN:VEVENT
DTSTART;TZID=UTC:20260823T170000
DTEND;TZID=UTC:20260823T181500
DTSTAMP:20260420T000224
CREATED:20251125T160736Z
LAST-MODIFIED:20251202T185210Z
UID:2026-1787504400-1787508900@thewayoftheheart.com
SUMMARY:Call to Love - Inner Life Mission Immersion (Call #27)
DESCRIPTION:5:00 PM to 6:15 PM Pacific Time(6:00 PM – 7:15 PM Mountain; 7:00 PM – 8:15 PM Central; 8:00 PM – 9:15 PM pm Eastern; 9:00 PM – 10:15 PM Atlantic.)
URL:https://thewayoftheheart.com/event/call-to-love-inner-life-mission-immersion-call-27-2/
LOCATION:Telebridge
CATEGORIES:Telebridge
END:VEVENT
END:VCALENDAR