BEGIN:VCALENDAR
VERSION:2.0
PRODID:-//The Way of the Heart - ECPv6.15.20//NONSGML v1.0//EN
CALSCALE:GREGORIAN
METHOD:PUBLISH
X-WR-CALNAME:The Way of the Heart
X-ORIGINAL-URL:https://thewayoftheheart.com
X-WR-CALDESC:Events for The Way of the Heart
REFRESH-INTERVAL;VALUE=DURATION:PT1H
X-Robots-Tag:noindex
X-PUBLISHED-TTL:PT1H
BEGIN:VTIMEZONE
TZID:UTC
BEGIN:STANDARD
TZOFFSETFROM:+0000
TZOFFSETTO:+0000
TZNAME:UTC
DTSTART:20190101T000000
END:STANDARD
END:VTIMEZONE
BEGIN:VTIMEZONE
TZID:America/Los_Angeles
BEGIN:DAYLIGHT
TZOFFSETFROM:-0800
TZOFFSETTO:-0700
TZNAME:PDT
DTSTART:20190310T100000
END:DAYLIGHT
BEGIN:STANDARD
TZOFFSETFROM:-0700
TZOFFSETTO:-0800
TZNAME:PST
DTSTART:20191103T090000
END:STANDARD
BEGIN:DAYLIGHT
TZOFFSETFROM:-0800
TZOFFSETTO:-0700
TZNAME:PDT
DTSTART:20200308T100000
END:DAYLIGHT
BEGIN:STANDARD
TZOFFSETFROM:-0700
TZOFFSETTO:-0800
TZNAME:PST
DTSTART:20201101T090000
END:STANDARD
BEGIN:DAYLIGHT
TZOFFSETFROM:-0800
TZOFFSETTO:-0700
TZNAME:PDT
DTSTART:20210314T100000
END:DAYLIGHT
BEGIN:STANDARD
TZOFFSETFROM:-0700
TZOFFSETTO:-0800
TZNAME:PST
DTSTART:20211107T090000
END:STANDARD
BEGIN:DAYLIGHT
TZOFFSETFROM:-0800
TZOFFSETTO:-0700
TZNAME:PDT
DTSTART:20220313T100000
END:DAYLIGHT
BEGIN:STANDARD
TZOFFSETFROM:-0700
TZOFFSETTO:-0800
TZNAME:PST
DTSTART:20221106T090000
END:STANDARD
END:VTIMEZONE
BEGIN:VEVENT
DTSTART;TZID=UTC:20210114T180000
DTEND;TZID=UTC:20210114T191500
DTSTAMP:20260423T065445
CREATED:20201126T223616Z
LAST-MODIFIED:20201126T223616Z
UID:1141-1610647200-1610651700@thewayoftheheart.com
SUMMARY:Life Mission I (Call #1)
DESCRIPTION:6:00 PM to 7:15 PM Pacific Time(7:00 PM – 8:15 PM Mountain; 8:00 PM – 9:15 PM Central; 9:00 PM – 10:15 PM pm Eastern; 10:00 PM – 11:15 PM Atlantic.)
URL:https://thewayoftheheart.com/event/life-mission-i-call-1/
CATEGORIES:Telebridge
END:VEVENT
BEGIN:VEVENT
DTSTART;VALUE=DATE:20210111
DTEND;VALUE=DATE:20210114
DTSTAMP:20260423T065445
CREATED:20201127T182417Z
LAST-MODIFIED:20201127T182417Z
UID:1223-1610323200-1610582399@thewayoftheheart.com
SUMMARY:Instructors Training
DESCRIPTION:
URL:https://thewayoftheheart.com/event/instructors-training/
LOCATION:Online Retreat via Zoom
CATEGORIES:Advanced class
END:VEVENT
BEGIN:VEVENT
DTSTART;VALUE=DATE:20210108
DTEND;VALUE=DATE:20210112
DTSTAMP:20260423T065445
CREATED:20201127T182417Z
LAST-MODIFIED:20201127T182417Z
UID:1222-1610064000-1610409599@thewayoftheheart.com
SUMMARY:Leaders Training
DESCRIPTION:
URL:https://thewayoftheheart.com/event/leaders-training-2/
LOCATION:Online Retreat via Zoom
CATEGORIES:Advanced class
END:VEVENT
BEGIN:VEVENT
DTSTART;TZID=UTC:20210107T180000
DTEND;TZID=UTC:20210107T191500
DTSTAMP:20260423T065445
CREATED:20201126T223547Z
LAST-MODIFIED:20201126T223547Z
UID:1117-1610042400-1610046900@thewayoftheheart.com
SUMMARY:Life Mission Scales & Skills: Building the Habit (Call #1)
DESCRIPTION:6:00 PM to 7:15 PM Pacific Time(7:00 PM – 8:15 PM Mountain; 8:00 PM – 9:15 PM Central; 9:00 PM – 10:15 PM pm Eastern; 10:00 PM – 11:15 PM Atlantic.)
URL:https://thewayoftheheart.com/event/life-mission-scales-skills-building-the-habit-call-1-2/
CATEGORIES:Telebridge
END:VEVENT
BEGIN:VEVENT
DTSTART;TZID=UTC:20210105T180000
DTEND;TZID=UTC:20210105T191500
DTSTAMP:20260423T065445
CREATED:20200109T045438Z
LAST-MODIFIED:20200109T045438Z
UID:1006-1609869600-1609874100@thewayoftheheart.com
SUMMARY:Inner Life Mission thru Alchemical Practice (Call #12)
DESCRIPTION:6:00 PM to 7:15 PM Pacific Time(7:00 PM – 8:15 PM Mountain; 8:00 PM – 9:15 PM Central; 9:00 PM – 10:15 PM pm Eastern; 10:00 PM – 11:15 PM Atlantic.)
URL:https://thewayoftheheart.com/event/inner-life-mission-thru-alchemical-practice-call-12/
CATEGORIES:Telebridge
END:VEVENT
BEGIN:VEVENT
DTSTART;VALUE=DATE:20201212
DTEND;VALUE=DATE:20201217
DTSTAMP:20260423T065445
CREATED:20190929T002803Z
LAST-MODIFIED:20190929T002803Z
UID:932-1607731200-1608163199@thewayoftheheart.com
SUMMARY:Pilgrimage to the Divine Mother
DESCRIPTION:
URL:https://thewayoftheheart.com/event/pilgrimage-to-the-divine-mother-2/
LOCATION:San Miguel de Allende\, Mexico
CATEGORIES:Advanced class
END:VEVENT
BEGIN:VEVENT
DTSTART;TZID=UTC:20201209T180000
DTEND;TZID=UTC:20201209T191500
DTSTAMP:20260423T065445
CREATED:20190929T020030Z
LAST-MODIFIED:20190929T020030Z
UID:973-1607536800-1607541300@thewayoftheheart.com
SUMMARY:Deepening Inner Listening (Call #6)
DESCRIPTION:6:00 PM to 7:15 PM Pacific Time(7:00 PM – 8:15 PM Mountain; 8:00 PM – 9:15 PM Central; 9:00 PM – 10:15 PM pm Eastern; 10:00 PM – 11:15 PM Atlantic.)
URL:https://thewayoftheheart.com/event/deepening-inner-listening-call-6-3/
CATEGORIES:Telebridge
END:VEVENT
BEGIN:VEVENT
DTSTART;TZID=UTC:20201202T180000
DTEND;TZID=UTC:20201202T191500
DTSTAMP:20260423T065445
CREATED:20190929T020025Z
LAST-MODIFIED:20190929T020025Z
UID:972-1606932000-1606936500@thewayoftheheart.com
SUMMARY:Deepening Inner Listening (Call #5)
DESCRIPTION:6:00 PM to 7:15 PM Pacific Time(7:00 PM – 8:15 PM Mountain; 8:00 PM – 9:15 PM Central; 9:00 PM – 10:15 PM pm Eastern; 10:00 PM – 11:15 PM Atlantic.)
URL:https://thewayoftheheart.com/event/deepening-inner-listening-call-5-3/
CATEGORIES:Telebridge
END:VEVENT
BEGIN:VEVENT
DTSTART;TZID=UTC:20201201T180000
DTEND;TZID=UTC:20201201T191500
DTSTAMP:20260423T065445
CREATED:20200109T045438Z
LAST-MODIFIED:20200109T045438Z
UID:1005-1606845600-1606850100@thewayoftheheart.com
SUMMARY:Inner Life Mission thru Alchemical Practice (Call #11)
DESCRIPTION:6:00 PM to 7:15 PM Pacific Time(7:00 PM – 8:15 PM Mountain; 8:00 PM – 9:15 PM Central; 9:00 PM – 10:15 PM pm Eastern; 10:00 PM – 11:15 PM Atlantic.)
URL:https://thewayoftheheart.com/event/inner-life-mission-thru-alchemical-practice-call-11/
CATEGORIES:Telebridge
END:VEVENT
BEGIN:VEVENT
DTSTART;TZID=UTC:20201125T180000
DTEND;TZID=UTC:20201125T191500
DTSTAMP:20260423T065445
CREATED:20190929T020024Z
LAST-MODIFIED:20190929T020024Z
UID:971-1606327200-1606331700@thewayoftheheart.com
SUMMARY:Deepening Inner Listening (Call #4)
DESCRIPTION:6:00 PM to 7:15 PM Pacific Time(7:00 PM – 8:15 PM Mountain; 8:00 PM – 9:15 PM Central; 9:00 PM – 10:15 PM pm Eastern; 10:00 PM – 11:15 PM Atlantic.)
URL:https://thewayoftheheart.com/event/deepening-inner-listening-call-4-3/
CATEGORIES:Telebridge
END:VEVENT
BEGIN:VEVENT
DTSTART;VALUE=DATE:20201120
DTEND;VALUE=DATE:20201123
DTSTAMP:20260423T065445
CREATED:20190929T002802Z
LAST-MODIFIED:20190929T002802Z
UID:931-1605830400-1606089599@thewayoftheheart.com
SUMMARY:Transforming Grief & Shadow Retreat
DESCRIPTION:
URL:https://thewayoftheheart.com/event/transforming-grief-shadow-retreat/
LOCATION:Winnipeg\, Manitoba\, Canada
CATEGORIES:Advanced class
END:VEVENT
BEGIN:VEVENT
DTSTART;TZID=UTC:20201118T180000
DTEND;TZID=UTC:20201118T191500
DTSTAMP:20260423T065445
CREATED:20190929T020024Z
LAST-MODIFIED:20190929T020024Z
UID:970-1605722400-1605726900@thewayoftheheart.com
SUMMARY:Deepening Inner Listening (Call #3)
DESCRIPTION:6:00 PM to 7:15 PM Pacific Time(7:00 PM – 8:15 PM Mountain; 8:00 PM – 9:15 PM Central; 9:00 PM – 10:15 PM pm Eastern; 10:00 PM – 11:15 PM Atlantic.)
URL:https://thewayoftheheart.com/event/deepening-inner-listening-call-3-3/
CATEGORIES:Telebridge
END:VEVENT
BEGIN:VEVENT
DTSTART;TZID=UTC:20201111T180000
DTEND;TZID=UTC:20201111T191500
DTSTAMP:20260423T065445
CREATED:20190929T020024Z
LAST-MODIFIED:20190929T020024Z
UID:969-1605117600-1605122100@thewayoftheheart.com
SUMMARY:Deepening Inner Listening (Call #2)
DESCRIPTION:6:00 PM to 7:15 PM Pacific Time(7:00 PM – 8:15 PM Mountain; 8:00 PM – 9:15 PM Central; 9:00 PM – 10:15 PM pm Eastern; 10:00 PM – 11:15 PM Atlantic.)
URL:https://thewayoftheheart.com/event/deepening-inner-listening-call-2-3/
CATEGORIES:Telebridge
END:VEVENT
BEGIN:VEVENT
DTSTART;TZID=UTC:20201110T180000
DTEND;TZID=UTC:20201110T191500
DTSTAMP:20260423T065445
CREATED:20200109T045437Z
LAST-MODIFIED:20200109T045437Z
UID:1004-1605031200-1605035700@thewayoftheheart.com
SUMMARY:Inner Life Mission thru Alchemical Practice (Call #10)
DESCRIPTION:6:00 PM to 7:15 PM Pacific Time(7:00 PM – 8:15 PM Mountain; 8:00 PM – 9:15 PM Central; 9:00 PM – 10:15 PM pm Eastern; 10:00 PM – 11:15 PM Atlantic.)
URL:https://thewayoftheheart.com/event/inner-life-mission-thru-alchemical-practice-call-10/
CATEGORIES:Telebridge
END:VEVENT
BEGIN:VEVENT
DTSTART;VALUE=DATE:20201106
DTEND;VALUE=DATE:20201111
DTSTAMP:20260423T065445
CREATED:20190929T003613Z
LAST-MODIFIED:20190929T003613Z
UID:943-1604620800-1605052799@thewayoftheheart.com
SUMMARY:Level I & II - Moncton\, NB
DESCRIPTION:
URL:https://thewayoftheheart.com/event/level-i-ii-moncton-nb-2/
LOCATION:Moncton\, New Brunswick\, Moncton\, New Brunswick\, Canada
CATEGORIES:Foundation class
END:VEVENT
BEGIN:VEVENT
DTSTART;TZID=UTC:20201104T180000
DTEND;TZID=UTC:20201104T191500
DTSTAMP:20260423T065445
CREATED:20190929T020024Z
LAST-MODIFIED:20190929T020024Z
UID:968-1604512800-1604517300@thewayoftheheart.com
SUMMARY:Deepening Inner Listening (Call #1)
DESCRIPTION:6:00 PM to 7:15 PM Pacific Time(7:00 PM – 8:15 PM Mountain; 8:00 PM – 9:15 PM Central; 9:00 PM – 10:15 PM pm Eastern; 10:00 PM – 11:15 PM Atlantic.)
URL:https://thewayoftheheart.com/event/deepening-inner-listening-call-1-3/
CATEGORIES:Telebridge
END:VEVENT
BEGIN:VEVENT
DTSTART;VALUE=DATE:20201023
DTEND;VALUE=DATE:20201026
DTSTAMP:20260423T065445
CREATED:20190929T002802Z
LAST-MODIFIED:20190929T002802Z
UID:930-1603411200-1603670399@thewayoftheheart.com
SUMMARY:The Heart Integration - Level IV
DESCRIPTION:
URL:https://thewayoftheheart.com/event/the-heart-integration-level-iv/
LOCATION:Portland\, Oregon\, Portland\, OR\, United States
CATEGORIES:Advanced class
END:VEVENT
BEGIN:VEVENT
DTSTART;TZID=UTC:20201021T180000
DTEND;TZID=UTC:20201021T191500
DTSTAMP:20260423T065445
CREATED:20190929T015614Z
LAST-MODIFIED:20200102T184247Z
UID:965-1603303200-1603307700@thewayoftheheart.com
SUMMARY:Transforming Grief and Shadow Practicum (Call #6)
DESCRIPTION:6:00 PM to 7:15 PM Pacific Time(7:00 PM – 8:15 PM Mountain; 8:00 PM – 9:15 PM Central; 9:00 PM – 10:15 PM pm Eastern; 10:00 PM – 11:15 PM Atlantic.)
URL:https://thewayoftheheart.com/event/transforming-grief-and-shadow-practicum-call-6/
CATEGORIES:Telebridge
END:VEVENT
BEGIN:VEVENT
DTSTART;TZID=UTC:20201014T180000
DTEND;TZID=UTC:20201014T191500
DTSTAMP:20260423T065445
CREATED:20190929T015606Z
LAST-MODIFIED:20200102T184237Z
UID:964-1602698400-1602702900@thewayoftheheart.com
SUMMARY:Transforming Grief and Shadow Practicum (Call #5)
DESCRIPTION:6:00 PM to 7:15 PM Pacific Time(7:00 PM – 8:15 PM Mountain; 8:00 PM – 9:15 PM Central; 9:00 PM – 10:15 PM pm Eastern; 10:00 PM – 11:15 PM Atlantic.)
URL:https://thewayoftheheart.com/event/transforming-grief-and-shadow-practicum-call-5/
CATEGORIES:Telebridge
END:VEVENT
BEGIN:VEVENT
DTSTART;TZID=UTC:20201007T180000
DTEND;TZID=UTC:20201007T191500
DTSTAMP:20260423T065445
CREATED:20190929T015605Z
LAST-MODIFIED:20200102T184208Z
UID:963-1602093600-1602098100@thewayoftheheart.com
SUMMARY:Transforming Grief and Shadow Practicum (Call #4)
DESCRIPTION:6:00 PM to 7:15 PM Pacific Time(7:00 PM – 8:15 PM Mountain; 8:00 PM – 9:15 PM Central; 9:00 PM – 10:15 PM pm Eastern; 10:00 PM – 11:15 PM Atlantic.)
URL:https://thewayoftheheart.com/event/transforming-grief-and-shadow-practicum-call-4/
CATEGORIES:Telebridge
END:VEVENT
BEGIN:VEVENT
DTSTART;TZID=UTC:20201006T180000
DTEND;TZID=UTC:20201006T191500
DTSTAMP:20260423T065445
CREATED:20200109T045436Z
LAST-MODIFIED:20200109T045436Z
UID:1003-1602007200-1602011700@thewayoftheheart.com
SUMMARY:Inner Life Mission thru Alchemical Practice (Call #9)
DESCRIPTION:6:00 PM to 7:15 PM Pacific Time(7:00 PM – 8:15 PM Mountain; 8:00 PM – 9:15 PM Central; 9:00 PM – 10:15 PM pm Eastern; 10:00 PM – 11:15 PM Atlantic.)
URL:https://thewayoftheheart.com/event/inner-life-mission-thru-alchemical-practice-call-9/
CATEGORIES:Telebridge
END:VEVENT
BEGIN:VEVENT
DTSTART;TZID=UTC:20200930T180000
DTEND;TZID=UTC:20200930T191500
DTSTAMP:20260423T065445
CREATED:20190929T015605Z
LAST-MODIFIED:20200102T184158Z
UID:962-1601488800-1601493300@thewayoftheheart.com
SUMMARY:Transforming Grief and Shadow Practicum (Call #3)
DESCRIPTION:6:00 PM to 7:15 PM Pacific Time(7:00 PM – 8:15 PM Mountain; 8:00 PM – 9:15 PM Central; 9:00 PM – 10:15 PM pm Eastern; 10:00 PM – 11:15 PM Atlantic.)
URL:https://thewayoftheheart.com/event/transforming-grief-and-shadow-practicum-call-3/
CATEGORIES:Telebridge
END:VEVENT
BEGIN:VEVENT
DTSTART;TZID=UTC:20200923T180000
DTEND;TZID=UTC:20200923T191500
DTSTAMP:20260423T065445
CREATED:20190929T015605Z
LAST-MODIFIED:20200102T184151Z
UID:961-1600884000-1600888500@thewayoftheheart.com
SUMMARY:Transforming Grief and Shadow Practicum (Call #2)
DESCRIPTION:6:00 PM to 7:15 PM Pacific Time(7:00 PM – 8:15 PM Mountain; 8:00 PM – 9:15 PM Central; 9:00 PM – 10:15 PM pm Eastern; 10:00 PM – 11:15 PM Atlantic.)
URL:https://thewayoftheheart.com/event/transforming-grief-and-shadow-practicum-call-2/
CATEGORIES:Telebridge
END:VEVENT
BEGIN:VEVENT
DTSTART;VALUE=DATE:20200918
DTEND;VALUE=DATE:20200921
DTSTAMP:20260423T065445
CREATED:20190929T003613Z
LAST-MODIFIED:20190929T003613Z
UID:942-1600387200-1600646399@thewayoftheheart.com
SUMMARY:Level II - Vancouver\, BC
DESCRIPTION:
URL:https://thewayoftheheart.com/event/level-ii-vancouver-bc-2/
LOCATION:Vancouver\, British Columbia\, CA
CATEGORIES:Foundation class
END:VEVENT
BEGIN:VEVENT
DTSTART;TZID=UTC:20200916T180000
DTEND;TZID=UTC:20200916T191500
DTSTAMP:20260423T065445
CREATED:20190929T015605Z
LAST-MODIFIED:20200102T184120Z
UID:960-1600279200-1600283700@thewayoftheheart.com
SUMMARY:Transforming Grief and Shadow Practicum (Call #1)
DESCRIPTION:6:00 PM to 7:15 PM Pacific Time(7:00 PM – 8:15 PM Mountain; 8:00 PM – 9:15 PM Central; 9:00 PM – 10:15 PM pm Eastern; 10:00 PM – 11:15 PM Atlantic.)
URL:https://thewayoftheheart.com/event/transforming-grief-and-shadow-practicum-call-1/
CATEGORIES:Telebridge
END:VEVENT
BEGIN:VEVENT
DTSTART;VALUE=DATE:20200911
DTEND;VALUE=DATE:20200914
DTSTAMP:20260423T065445
CREATED:20190929T003612Z
LAST-MODIFIED:20190929T003612Z
UID:941-1599782400-1600041599@thewayoftheheart.com
SUMMARY:Level I - Vancouver\, BC
DESCRIPTION:
URL:https://thewayoftheheart.com/event/level-i-vancouver-bc-2/
LOCATION:Vancouver\, British Columbia\, CA
CATEGORIES:Foundation class
END:VEVENT
BEGIN:VEVENT
DTSTART;TZID=UTC:20200908T180000
DTEND;TZID=UTC:20200908T191500
DTSTAMP:20260423T065445
CREATED:20200109T045436Z
LAST-MODIFIED:20200109T045436Z
UID:1002-1599588000-1599592500@thewayoftheheart.com
SUMMARY:Inner Life Mission thru Alchemical Practice (Call #8)
DESCRIPTION:6:00 PM to 7:15 PM Pacific Time(7:00 PM – 8:15 PM Mountain; 8:00 PM – 9:15 PM Central; 9:00 PM – 10:15 PM pm Eastern; 10:00 PM – 11:15 PM Atlantic.)
URL:https://thewayoftheheart.com/event/inner-life-mission-thru-alchemical-practice-call-8/
CATEGORIES:Telebridge
END:VEVENT
BEGIN:VEVENT
DTSTART;VALUE=DATE:20200823
DTEND;VALUE=DATE:20200827
DTSTAMP:20260423T065445
CREATED:20190929T002758Z
LAST-MODIFIED:20200727T234055Z
UID:929-1598140800-1598486399@thewayoftheheart.com
SUMMARY:Exploring the Inner Life Alchemical Retreat
DESCRIPTION:
URL:https://thewayoftheheart.com/event/exploring-the-inner-life-alchemical-retreat/
LOCATION:Prescott\, Arizona\, US
CATEGORIES:Advanced class
END:VEVENT
BEGIN:VEVENT
DTSTART;TZID=UTC:20200811T180000
DTEND;TZID=UTC:20200811T191500
DTSTAMP:20260423T065445
CREATED:20200109T045436Z
LAST-MODIFIED:20200109T045436Z
UID:1001-1597168800-1597173300@thewayoftheheart.com
SUMMARY:Inner Life Mission thru Alchemical Practice (Call #7)
DESCRIPTION:6:00 PM to 7:15 PM Pacific Time(7:00 PM – 8:15 PM Mountain; 8:00 PM – 9:15 PM Central; 9:00 PM – 10:15 PM pm Eastern; 10:00 PM – 11:15 PM Atlantic.)
URL:https://thewayoftheheart.com/event/inner-life-mission-thru-alchemical-practice-call-7/
CATEGORIES:Telebridge
END:VEVENT
BEGIN:VEVENT
DTSTART;VALUE=DATE:20200717
DTEND;VALUE=DATE:20200720
DTSTAMP:20260423T065445
CREATED:20190929T003612Z
LAST-MODIFIED:20190929T003612Z
UID:940-1594944000-1595203199@thewayoftheheart.com
SUMMARY:Level II - Winnipeg\, MB
DESCRIPTION:
URL:https://thewayoftheheart.com/event/level-ii-winnipeg-mb-2/
LOCATION:Winnipeg\, Manitoba\, Canada
CATEGORIES:Foundation class
END:VEVENT
END:VCALENDAR