BEGIN:VCALENDAR
VERSION:2.0
PRODID:-//The Way of the Heart - ECPv6.15.20//NONSGML v1.0//EN
CALSCALE:GREGORIAN
METHOD:PUBLISH
X-WR-CALNAME:The Way of the Heart
X-ORIGINAL-URL:https://thewayoftheheart.com
X-WR-CALDESC:Events for The Way of the Heart
REFRESH-INTERVAL;VALUE=DURATION:PT1H
X-Robots-Tag:noindex
X-PUBLISHED-TTL:PT1H
BEGIN:VTIMEZONE
TZID:America/Los_Angeles
BEGIN:DAYLIGHT
TZOFFSETFROM:-0800
TZOFFSETTO:-0700
TZNAME:PDT
DTSTART:20180311T100000
END:DAYLIGHT
BEGIN:STANDARD
TZOFFSETFROM:-0700
TZOFFSETTO:-0800
TZNAME:PST
DTSTART:20181104T090000
END:STANDARD
BEGIN:DAYLIGHT
TZOFFSETFROM:-0800
TZOFFSETTO:-0700
TZNAME:PDT
DTSTART:20190310T100000
END:DAYLIGHT
BEGIN:STANDARD
TZOFFSETFROM:-0700
TZOFFSETTO:-0800
TZNAME:PST
DTSTART:20191103T090000
END:STANDARD
BEGIN:DAYLIGHT
TZOFFSETFROM:-0800
TZOFFSETTO:-0700
TZNAME:PDT
DTSTART:20200308T100000
END:DAYLIGHT
BEGIN:STANDARD
TZOFFSETFROM:-0700
TZOFFSETTO:-0800
TZNAME:PST
DTSTART:20201101T090000
END:STANDARD
BEGIN:DAYLIGHT
TZOFFSETFROM:-0800
TZOFFSETTO:-0700
TZNAME:PDT
DTSTART:20210314T100000
END:DAYLIGHT
BEGIN:STANDARD
TZOFFSETFROM:-0700
TZOFFSETTO:-0800
TZNAME:PST
DTSTART:20211107T090000
END:STANDARD
END:VTIMEZONE
BEGIN:VTIMEZONE
TZID:UTC
BEGIN:STANDARD
TZOFFSETFROM:+0000
TZOFFSETTO:+0000
TZNAME:UTC
DTSTART:20190101T000000
END:STANDARD
END:VTIMEZONE
BEGIN:VEVENT
DTSTART;VALUE=DATE:20200221
DTEND;VALUE=DATE:20200224
DTSTAMP:20260423T112338
CREATED:20190929T003604Z
LAST-MODIFIED:20190929T003604Z
UID:935-1582243200-1582502399@thewayoftheheart.com
SUMMARY:Level I - Chicago\, IL
DESCRIPTION:
URL:https://thewayoftheheart.com/event/level-i-chicago-il-2/
LOCATION:The Crowne Plaza\, Northbrook\, 2875 N Milwaukee\, Northbrook\, IL\, 60062\, United States
CATEGORIES:Foundation class
END:VEVENT
BEGIN:VEVENT
DTSTART;TZID=UTC:20200211T180000
DTEND;TZID=UTC:20200211T191500
DTSTAMP:20260423T112338
CREATED:20200109T045837Z
LAST-MODIFIED:20200109T045837Z
UID:1007-1581444000-1581448500@thewayoftheheart.com
SUMMARY:Inner Life Mission thru Alchemical Practice (Call #1)
DESCRIPTION:6:00 PM to 7:15 PM Pacific Time(7:00 PM – 8:15 PM Mountain; 8:00 PM – 9:15 PM Central; 9:00 PM – 10:15 PM pm Eastern; 10:00 PM – 11:15 PM Atlantic.)
URL:https://thewayoftheheart.com/event/inner-life-mission-thru-alchemical-practice-call-12-2/
CATEGORIES:Telebridge
END:VEVENT
BEGIN:VEVENT
DTSTART;VALUE=DATE:20200114
DTEND;VALUE=DATE:20200117
DTSTAMP:20260423T112338
CREATED:20190929T002757Z
LAST-MODIFIED:20191103T192848Z
UID:926-1578960000-1579219199@thewayoftheheart.com
SUMMARY:TWOTH Instructors Training
DESCRIPTION:
URL:https://thewayoftheheart.com/event/twoth-instructors-training-2/
LOCATION:Prescott\, Arizona\, US
CATEGORIES:Advanced class
END:VEVENT
BEGIN:VEVENT
DTSTART;VALUE=DATE:20191213
DTEND;VALUE=DATE:20191218
DTSTAMP:20260423T112338
CREATED:20180811T230323Z
LAST-MODIFIED:20180812T154916Z
UID:785-1576195200-1576627199@thewayoftheheart.com
SUMMARY:Pilgrimage to the Divine Mother
DESCRIPTION:
URL:https://thewayoftheheart.com/event/pilgrimage-to-the-divine-mother/
LOCATION:San Miguel de Allende\, Mexico
CATEGORIES:Advanced class
END:VEVENT
BEGIN:VEVENT
DTSTART;VALUE=DATE:20191122
DTEND;VALUE=DATE:20191125
DTSTAMP:20260423T112338
CREATED:20180811T230323Z
LAST-MODIFIED:20180812T154907Z
UID:784-1574380800-1574639999@thewayoftheheart.com
SUMMARY:Inner Divine Placement - Feng Shui II
DESCRIPTION:
URL:https://thewayoftheheart.com/event/inner-divine-placement-feng-shui-ii/
LOCATION:Winnipeg\, Manitoba\, Canada
CATEGORIES:Advanced class
END:VEVENT
BEGIN:VEVENT
DTSTART;TZID=America/Los_Angeles:20191112T180000
DTEND;TZID=America/Los_Angeles:20191112T191500
DTSTAMP:20260423T112338
CREATED:20180811T221319Z
LAST-MODIFIED:20180811T221319Z
UID:760-1573581600-1573586100@thewayoftheheart.com
SUMMARY:Transforming Grief and Shadow (Call #6)
DESCRIPTION:6:00 PM to 7:15 PM Pacific Time(7:00 PM – 8:15 PM Mountain; 8:00 PM – 9:15 PM Central; 9:00 PM – 10:15 PM pm Eastern; 10:00 PM – 11:15 PM Atlantic.)
URL:https://thewayoftheheart.com/event/transforming-grief-and-shadow-call-6/
LOCATION:Telebridge
CATEGORIES:Telebridge
END:VEVENT
BEGIN:VEVENT
DTSTART;VALUE=DATE:20191108
DTEND;VALUE=DATE:20191113
DTSTAMP:20260423T112338
CREATED:20180812T205436Z
LAST-MODIFIED:20180812T205436Z
UID:813-1573171200-1573603199@thewayoftheheart.com
SUMMARY:Level I & II - Moncton\, NB
DESCRIPTION:
URL:https://thewayoftheheart.com/event/level-i-ii-moncton-nb/
LOCATION:Moncton\, New Brunswick\, Moncton\, New Brunswick\, Canada
CATEGORIES:Foundation class
END:VEVENT
BEGIN:VEVENT
DTSTART;TZID=America/Los_Angeles:20191105T180000
DTEND;TZID=America/Los_Angeles:20191105T191500
DTSTAMP:20260423T112338
CREATED:20180811T221315Z
LAST-MODIFIED:20180811T221315Z
UID:759-1572976800-1572981300@thewayoftheheart.com
SUMMARY:Transforming Grief and Shadow (Call #5)
DESCRIPTION:6:00 PM to 7:15 PM Pacific Time(7:00 PM – 8:15 PM Mountain; 8:00 PM – 9:15 PM Central; 9:00 PM – 10:15 PM pm Eastern; 10:00 PM – 11:15 PM Atlantic.)
URL:https://thewayoftheheart.com/event/transforming-grief-and-shadow-call-5/
LOCATION:Telebridge
CATEGORIES:Telebridge
END:VEVENT
BEGIN:VEVENT
DTSTART;TZID=America/Los_Angeles:20191029T180000
DTEND;TZID=America/Los_Angeles:20191029T191500
DTSTAMP:20260423T112338
CREATED:20180811T221314Z
LAST-MODIFIED:20180811T221314Z
UID:758-1572372000-1572376500@thewayoftheheart.com
SUMMARY:Transforming Grief and Shadow (Call #4)
DESCRIPTION:6:00 PM to 7:15 PM Pacific Time(7:00 PM – 8:15 PM Mountain; 8:00 PM – 9:15 PM Central; 9:00 PM – 10:15 PM pm Eastern; 10:00 PM – 11:15 PM Atlantic.)
URL:https://thewayoftheheart.com/event/transforming-grief-and-shadow-call-4/
LOCATION:Telebridge
CATEGORIES:Telebridge
END:VEVENT
BEGIN:VEVENT
DTSTART;VALUE=DATE:20191025
DTEND;VALUE=DATE:20191028
DTSTAMP:20260423T112338
CREATED:20180811T230323Z
LAST-MODIFIED:20190911T015339Z
UID:783-1571961600-1572220799@thewayoftheheart.com
SUMMARY:Life Mission II
DESCRIPTION:
URL:https://thewayoftheheart.com/event/life-mission-i-ii-integration-intensive/
LOCATION:Portland\, Oregon\, Portland\, OR\, United States
CATEGORIES:Advanced class
END:VEVENT
BEGIN:VEVENT
DTSTART;TZID=America/Los_Angeles:20191022T180000
DTEND;TZID=America/Los_Angeles:20191022T191500
DTSTAMP:20260423T112338
CREATED:20180811T221314Z
LAST-MODIFIED:20180811T221314Z
UID:757-1571767200-1571771700@thewayoftheheart.com
SUMMARY:Transforming Grief and Shadow (Call #3)
DESCRIPTION:6:00 PM to 7:15 PM Pacific Time(7:00 PM – 8:15 PM Mountain; 8:00 PM – 9:15 PM Central; 9:00 PM – 10:15 PM pm Eastern; 10:00 PM – 11:15 PM Atlantic.)
URL:https://thewayoftheheart.com/event/transforming-grief-and-shadow-call-3/
LOCATION:Telebridge
CATEGORIES:Telebridge
END:VEVENT
BEGIN:VEVENT
DTSTART;VALUE=DATE:20191018
DTEND;VALUE=DATE:20191021
DTSTAMP:20260423T112338
CREATED:20190911T015215Z
LAST-MODIFIED:20190911T015215Z
UID:913-1571356800-1571615999@thewayoftheheart.com
SUMMARY:Life Mission I
DESCRIPTION:
URL:https://thewayoftheheart.com/event/life-mission-i-2019/
LOCATION:Portland\, Oregon\, Portland\, OR\, United States
CATEGORIES:Advanced class
END:VEVENT
BEGIN:VEVENT
DTSTART;TZID=America/Los_Angeles:20191015T180000
DTEND;TZID=America/Los_Angeles:20191015T191500
DTSTAMP:20260423T112338
CREATED:20180811T221314Z
LAST-MODIFIED:20180811T221314Z
UID:756-1571162400-1571166900@thewayoftheheart.com
SUMMARY:Transforming Grief and Shadow (Call #2)
DESCRIPTION:6:00 PM to 7:15 PM Pacific Time(7:00 PM – 8:15 PM Mountain; 8:00 PM – 9:15 PM Central; 9:00 PM – 10:15 PM pm Eastern; 10:00 PM – 11:15 PM Atlantic.)
URL:https://thewayoftheheart.com/event/transforming-grief-and-shadow-call-2/
LOCATION:Telebridge
CATEGORIES:Telebridge
END:VEVENT
BEGIN:VEVENT
DTSTART;TZID=America/Los_Angeles:20191009T180000
DTEND;TZID=America/Los_Angeles:20191009T191500
DTSTAMP:20260423T112338
CREATED:20180811T214307Z
LAST-MODIFIED:20180811T214307Z
UID:752-1570644000-1570648500@thewayoftheheart.com
SUMMARY:The Reality of Dreams (Call #6)
DESCRIPTION:6:00 PM to 7:15 PM Pacific Time(7:00 PM – 8:15 PM Mountain; 8:00 PM – 9:15 PM Central; 9:00 PM – 10:15 PM pm Eastern; 10:00 PM – 11:15 PM Atlantic.)
URL:https://thewayoftheheart.com/event/the-reality-of-dreams-call-6/
LOCATION:Telebridge
CATEGORIES:Telebridge
END:VEVENT
BEGIN:VEVENT
DTSTART;TZID=America/Los_Angeles:20191008T180000
DTEND;TZID=America/Los_Angeles:20191008T191500
DTSTAMP:20260423T112338
CREATED:20180811T221314Z
LAST-MODIFIED:20180811T221314Z
UID:755-1570557600-1570562100@thewayoftheheart.com
SUMMARY:Transforming Grief and Shadow (Call #1)
DESCRIPTION:6:00 PM to 7:15 PM Pacific Time(7:00 PM – 8:15 PM Mountain; 8:00 PM – 9:15 PM Central; 9:00 PM – 10:15 PM pm Eastern; 10:00 PM – 11:15 PM Atlantic.)
URL:https://thewayoftheheart.com/event/transforming-grief-and-shadow-call-1/
LOCATION:Telebridge
CATEGORIES:Telebridge
END:VEVENT
BEGIN:VEVENT
DTSTART;TZID=America/Los_Angeles:20191002T180000
DTEND;TZID=America/Los_Angeles:20191002T191500
DTSTAMP:20260423T112338
CREATED:20180811T214303Z
LAST-MODIFIED:20180811T214303Z
UID:751-1570039200-1570043700@thewayoftheheart.com
SUMMARY:The Reality of Dreams (Call #5)
DESCRIPTION:6:00 PM to 7:15 PM Pacific Time(7:00 PM – 8:15 PM Mountain; 8:00 PM – 9:15 PM Central; 9:00 PM – 10:15 PM pm Eastern; 10:00 PM – 11:15 PM Atlantic.)
URL:https://thewayoftheheart.com/event/the-reality-of-dreams-call-5/
LOCATION:Telebridge
CATEGORIES:Telebridge
END:VEVENT
BEGIN:VEVENT
DTSTART;VALUE=DATE:20190927
DTEND;VALUE=DATE:20190930
DTSTAMP:20260423T112338
CREATED:20180812T205435Z
LAST-MODIFIED:20180812T205435Z
UID:812-1569542400-1569801599@thewayoftheheart.com
SUMMARY:Level II - Vancouver\, BC
DESCRIPTION:
URL:https://thewayoftheheart.com/event/level-ii-vancouver-bc/
LOCATION:Vancouver\, British Columbia\, CA
CATEGORIES:Foundation class
END:VEVENT
BEGIN:VEVENT
DTSTART;TZID=America/Los_Angeles:20190925T180000
DTEND;TZID=America/Los_Angeles:20190925T191500
DTSTAMP:20260423T112338
CREATED:20180811T214303Z
LAST-MODIFIED:20180811T214303Z
UID:750-1569434400-1569438900@thewayoftheheart.com
SUMMARY:The Reality of Dreams (Call #4)
DESCRIPTION:6:00 PM to 7:15 PM Pacific Time(7:00 PM – 8:15 PM Mountain; 8:00 PM – 9:15 PM Central; 9:00 PM – 10:15 PM pm Eastern; 10:00 PM – 11:15 PM Atlantic.)
URL:https://thewayoftheheart.com/event/the-reality-of-dreams-call-4/
LOCATION:Telebridge
CATEGORIES:Telebridge
END:VEVENT
BEGIN:VEVENT
DTSTART;VALUE=DATE:20190920
DTEND;VALUE=DATE:20190923
DTSTAMP:20260423T112338
CREATED:20180812T205435Z
LAST-MODIFIED:20180812T205435Z
UID:811-1568937600-1569196799@thewayoftheheart.com
SUMMARY:Level I - Vancouver\, BC
DESCRIPTION:
URL:https://thewayoftheheart.com/event/level-i-vancouver-bc/
LOCATION:Vancouver\, British Columbia\, CA
CATEGORIES:Foundation class
END:VEVENT
BEGIN:VEVENT
DTSTART;TZID=America/Los_Angeles:20190918T180000
DTEND;TZID=America/Los_Angeles:20190918T191500
DTSTAMP:20260423T112338
CREATED:20180811T214303Z
LAST-MODIFIED:20180811T214303Z
UID:749-1568829600-1568834100@thewayoftheheart.com
SUMMARY:The Reality of Dreams (Call #3)
DESCRIPTION:6:00 PM to 7:15 PM Pacific Time(7:00 PM – 8:15 PM Mountain; 8:00 PM – 9:15 PM Central; 9:00 PM – 10:15 PM pm Eastern; 10:00 PM – 11:15 PM Atlantic.)
URL:https://thewayoftheheart.com/event/the-reality-of-dreams-call-3/
LOCATION:Telebridge
CATEGORIES:Telebridge
END:VEVENT
BEGIN:VEVENT
DTSTART;TZID=America/Los_Angeles:20190911T180000
DTEND;TZID=America/Los_Angeles:20190911T191500
DTSTAMP:20260423T112338
CREATED:20180811T214303Z
LAST-MODIFIED:20180811T214303Z
UID:748-1568224800-1568229300@thewayoftheheart.com
SUMMARY:The Reality of Dreams (Call #2)
DESCRIPTION:6:00 PM to 7:15 PM Pacific Time(7:00 PM – 8:15 PM Mountain; 8:00 PM – 9:15 PM Central; 9:00 PM – 10:15 PM pm Eastern; 10:00 PM – 11:15 PM Atlantic.)
URL:https://thewayoftheheart.com/event/the-reality-of-dreams-call-2/
LOCATION:Telebridge
CATEGORIES:Telebridge
END:VEVENT
BEGIN:VEVENT
DTSTART;TZID=America/Los_Angeles:20190904T180000
DTEND;TZID=America/Los_Angeles:20190904T191500
DTSTAMP:20260423T112338
CREATED:20180811T214303Z
LAST-MODIFIED:20180811T214303Z
UID:747-1567620000-1567624500@thewayoftheheart.com
SUMMARY:The Reality of Dreams (Call #1)
DESCRIPTION:6:00 PM to 7:15 PM Pacific Time(7:00 PM – 8:15 PM Mountain; 8:00 PM – 9:15 PM Central; 9:00 PM – 10:15 PM pm Eastern; 10:00 PM – 11:15 PM Atlantic.)
URL:https://thewayoftheheart.com/event/the-reality-of-dreams-call-1/
LOCATION:Telebridge
CATEGORIES:Telebridge
END:VEVENT
BEGIN:VEVENT
DTSTART;VALUE=DATE:20190825
DTEND;VALUE=DATE:20190829
DTSTAMP:20260423T112338
CREATED:20180811T230322Z
LAST-MODIFIED:20180812T154854Z
UID:782-1566691200-1567036799@thewayoftheheart.com
SUMMARY:Inner Presence Alchemical Retreat
DESCRIPTION:
URL:https://thewayoftheheart.com/event/inner-presence-alchemical-retreat/
LOCATION:Prescott\, Arizona\, US
CATEGORIES:Advanced class
END:VEVENT
BEGIN:VEVENT
DTSTART;TZID=America/Los_Angeles:20190814T180000
DTEND;TZID=America/Los_Angeles:20190814T191500
DTSTAMP:20260423T112338
CREATED:20180811T213354Z
LAST-MODIFIED:20180811T213354Z
UID:744-1565805600-1565810100@thewayoftheheart.com
SUMMARY:The New Life Mission Operating System (Call #6)
DESCRIPTION:6:00 PM to 7:15 PM Pacific Time(7:00 PM – 8:15 PM Mountain; 8:00 PM – 9:15 PM Central; 9:00 PM – 10:15 PM pm Eastern; 10:00 PM – 11:15 PM Atlantic.)
URL:https://thewayoftheheart.com/event/the-new-life-mission-operating-system-call-6/
LOCATION:Telebridge
CATEGORIES:Telebridge
END:VEVENT
BEGIN:VEVENT
DTSTART;TZID=America/Los_Angeles:20190807T180000
DTEND;TZID=America/Los_Angeles:20190807T191500
DTSTAMP:20260423T112338
CREATED:20180811T213351Z
LAST-MODIFIED:20180811T213351Z
UID:743-1565200800-1565205300@thewayoftheheart.com
SUMMARY:The New Life Mission Operating System (Call #5)
DESCRIPTION:6:00 PM to 7:15 PM Pacific Time(7:00 PM – 8:15 PM Mountain; 8:00 PM – 9:15 PM Central; 9:00 PM – 10:15 PM pm Eastern; 10:00 PM – 11:15 PM Atlantic.)
URL:https://thewayoftheheart.com/event/the-new-life-mission-operating-system-call-5/
LOCATION:Telebridge
CATEGORIES:Telebridge
END:VEVENT
BEGIN:VEVENT
DTSTART;TZID=America/Los_Angeles:20190731T180000
DTEND;TZID=America/Los_Angeles:20190731T191500
DTSTAMP:20260423T112338
CREATED:20180811T213351Z
LAST-MODIFIED:20180811T213351Z
UID:742-1564596000-1564600500@thewayoftheheart.com
SUMMARY:The New Life Mission Operating System (Call #4)
DESCRIPTION:6:00 PM to 7:15 PM Pacific Time(7:00 PM – 8:15 PM Mountain; 8:00 PM – 9:15 PM Central; 9:00 PM – 10:15 PM pm Eastern; 10:00 PM – 11:15 PM Atlantic.)
URL:https://thewayoftheheart.com/event/the-new-life-mission-operating-system-call-4/
LOCATION:Telebridge
CATEGORIES:Telebridge
END:VEVENT
BEGIN:VEVENT
DTSTART;TZID=America/Los_Angeles:20190724T180000
DTEND;TZID=America/Los_Angeles:20190724T191500
DTSTAMP:20260423T112338
CREATED:20180811T213351Z
LAST-MODIFIED:20180811T213351Z
UID:741-1563991200-1563995700@thewayoftheheart.com
SUMMARY:The New Life Mission Operating System (Call #3)
DESCRIPTION:6:00 PM to 7:15 PM Pacific Time(7:00 PM – 8:15 PM Mountain; 8:00 PM – 9:15 PM Central; 9:00 PM – 10:15 PM pm Eastern; 10:00 PM – 11:15 PM Atlantic.)
URL:https://thewayoftheheart.com/event/the-new-life-mission-operating-system-call-3/
LOCATION:Telebridge
CATEGORIES:Telebridge
END:VEVENT
BEGIN:VEVENT
DTSTART;VALUE=DATE:20190719
DTEND;VALUE=DATE:20190722
DTSTAMP:20260423T112338
CREATED:20180812T205435Z
LAST-MODIFIED:20180812T205435Z
UID:810-1563494400-1563753599@thewayoftheheart.com
SUMMARY:Level II - Winnipeg\, MB
DESCRIPTION:
URL:https://thewayoftheheart.com/event/level-ii-winnipeg-mb/
LOCATION:Winnipeg\, Manitoba\, Canada
CATEGORIES:Foundation class
END:VEVENT
BEGIN:VEVENT
DTSTART;TZID=America/Los_Angeles:20190717T180000
DTEND;TZID=America/Los_Angeles:20190717T191500
DTSTAMP:20260423T112338
CREATED:20180811T213350Z
LAST-MODIFIED:20180811T213350Z
UID:740-1563386400-1563390900@thewayoftheheart.com
SUMMARY:The New Life Mission Operating System (Call #2)
DESCRIPTION:6:00 PM to 7:15 PM Pacific Time(7:00 PM – 8:15 PM Mountain; 8:00 PM – 9:15 PM Central; 9:00 PM – 10:15 PM pm Eastern; 10:00 PM – 11:15 PM Atlantic.)
URL:https://thewayoftheheart.com/event/the-new-life-mission-operating-system-call-2/
LOCATION:Telebridge
CATEGORIES:Telebridge
END:VEVENT
BEGIN:VEVENT
DTSTART;VALUE=DATE:20190712
DTEND;VALUE=DATE:20190715
DTSTAMP:20260423T112338
CREATED:20180812T205434Z
LAST-MODIFIED:20180812T205434Z
UID:809-1562889600-1563148799@thewayoftheheart.com
SUMMARY:Level I - Winnipeg\, MB
DESCRIPTION:
URL:https://thewayoftheheart.com/event/level-i-winnipeg-mb/
LOCATION:Winnipeg\, Manitoba\, Canada
CATEGORIES:Foundation class
END:VEVENT
END:VCALENDAR