BEGIN:VCALENDAR
VERSION:2.0
PRODID:-//The Way of the Heart - ECPv6.15.20//NONSGML v1.0//EN
CALSCALE:GREGORIAN
METHOD:PUBLISH
X-WR-CALNAME:The Way of the Heart
X-ORIGINAL-URL:https://thewayoftheheart.com
X-WR-CALDESC:Events for The Way of the Heart
REFRESH-INTERVAL;VALUE=DURATION:PT1H
X-Robots-Tag:noindex
X-PUBLISHED-TTL:PT1H
BEGIN:VTIMEZONE
TZID:America/Los_Angeles
BEGIN:DAYLIGHT
TZOFFSETFROM:-0800
TZOFFSETTO:-0700
TZNAME:PDT
DTSTART:20220313T100000
END:DAYLIGHT
BEGIN:STANDARD
TZOFFSETFROM:-0700
TZOFFSETTO:-0800
TZNAME:PST
DTSTART:20221106T090000
END:STANDARD
BEGIN:DAYLIGHT
TZOFFSETFROM:-0800
TZOFFSETTO:-0700
TZNAME:PDT
DTSTART:20230312T100000
END:DAYLIGHT
BEGIN:STANDARD
TZOFFSETFROM:-0700
TZOFFSETTO:-0800
TZNAME:PST
DTSTART:20231105T090000
END:STANDARD
BEGIN:DAYLIGHT
TZOFFSETFROM:-0800
TZOFFSETTO:-0700
TZNAME:PDT
DTSTART:20240310T100000
END:DAYLIGHT
BEGIN:STANDARD
TZOFFSETFROM:-0700
TZOFFSETTO:-0800
TZNAME:PST
DTSTART:20241103T090000
END:STANDARD
END:VTIMEZONE
BEGIN:VTIMEZONE
TZID:America/Denver
BEGIN:DAYLIGHT
TZOFFSETFROM:-0700
TZOFFSETTO:-0600
TZNAME:MDT
DTSTART:20220313T090000
END:DAYLIGHT
BEGIN:STANDARD
TZOFFSETFROM:-0600
TZOFFSETTO:-0700
TZNAME:MST
DTSTART:20221106T080000
END:STANDARD
BEGIN:DAYLIGHT
TZOFFSETFROM:-0700
TZOFFSETTO:-0600
TZNAME:MDT
DTSTART:20230312T090000
END:DAYLIGHT
BEGIN:STANDARD
TZOFFSETFROM:-0600
TZOFFSETTO:-0700
TZNAME:MST
DTSTART:20231105T080000
END:STANDARD
BEGIN:DAYLIGHT
TZOFFSETFROM:-0700
TZOFFSETTO:-0600
TZNAME:MDT
DTSTART:20240310T090000
END:DAYLIGHT
BEGIN:STANDARD
TZOFFSETFROM:-0600
TZOFFSETTO:-0700
TZNAME:MST
DTSTART:20241103T080000
END:STANDARD
END:VTIMEZONE
BEGIN:VEVENT
DTSTART;TZID=America/Los_Angeles:20230813T170000
DTEND;TZID=America/Los_Angeles:20230813T181500
DTSTAMP:20260419T182742
CREATED:20230114T211623Z
LAST-MODIFIED:20230114T211623Z
UID:1588-1691946000-1691950500@thewayoftheheart.com
SUMMARY:Inner Life Mission Immersion (Call #25)
DESCRIPTION:5:00 PM to 6:15 PM Pacific Time(6:00 PM – 7:15 PM Mountain; 7:00 PM – 8:15 PM Central; 8:00 PM – 9:15 PM pm Eastern; 9:00 PM – 10:15 PM Atlantic.)
URL:https://thewayoftheheart.com/event/inner-life-mission-immersion-call-25-3/
LOCATION:Telebridge
CATEGORIES:Telebridge
END:VEVENT
BEGIN:VEVENT
DTSTART;VALUE=DATE:20230811
DTEND;VALUE=DATE:20230815
DTSTAMP:20260419T182742
CREATED:20230114T211154Z
LAST-MODIFIED:20230114T211154Z
UID:1540-1691712000-1692057599@thewayoftheheart.com
SUMMARY:Inner Life Mission Alchemical Retreat
DESCRIPTION:
URL:https://thewayoftheheart.com/event/inner-life-mission-alchemical-retreat-2/
CATEGORIES:Advanced class
END:VEVENT
BEGIN:VEVENT
DTSTART;TZID=America/Los_Angeles:20230809T180000
DTEND;TZID=America/Los_Angeles:20230809T191500
DTSTAMP:20260419T182742
CREATED:20230114T211422Z
LAST-MODIFIED:20230114T211422Z
UID:1553-1691604000-1691608500@thewayoftheheart.com
SUMMARY:Alchemical Healing (Call #6)
DESCRIPTION:6:00 PM to 7:15 PM Pacific Time(7:00 PM – 8:15 PM Mountain; 8:00 PM – 9:15 PM Central; 9:00 PM – 10:15 PM pm Eastern; 10:00 PM – 11:15 PM Atlantic.)
URL:https://thewayoftheheart.com/event/alchemical-healing-call-6-3/
LOCATION:Telebridge
CATEGORIES:Telebridge
END:VEVENT
BEGIN:VEVENT
DTSTART;TZID=America/Los_Angeles:20230806T170000
DTEND;TZID=America/Los_Angeles:20230806T181500
DTSTAMP:20260419T182742
CREATED:20230114T211623Z
LAST-MODIFIED:20230114T211623Z
UID:1587-1691341200-1691345700@thewayoftheheart.com
SUMMARY:Inner Life Mission Immersion (Call #24)
DESCRIPTION:5:00 PM to 6:15 PM Pacific Time(6:00 PM – 7:15 PM Mountain; 7:00 PM – 8:15 PM Central; 8:00 PM – 9:15 PM pm Eastern; 9:00 PM – 10:15 PM Atlantic.)
URL:https://thewayoftheheart.com/event/inner-life-mission-immersion-call-24-3/
LOCATION:Telebridge
CATEGORIES:Telebridge
END:VEVENT
BEGIN:VEVENT
DTSTART;TZID=America/Denver:20230806T120000
DTEND;TZID=America/Denver:20230806T153000
DTSTAMP:20260419T182742
CREATED:20230721T195340Z
LAST-MODIFIED:20230721T195511Z
UID:1678-1691323200-1691335800@thewayoftheheart.com
SUMMARY:Gateway on Zoom
DESCRIPTION:(12-3:30pm Pacific / 1-4:30pm Mountain / 2-5:30pm Central / 3-6:30pm Eastern / 4-7:30pm Atlantic)
URL:https://thewayoftheheart.com/event/gateway-on-zoom-2023-08-06/
LOCATION:Zoom
END:VEVENT
BEGIN:VEVENT
DTSTART;TZID=America/Los_Angeles:20230802T180000
DTEND;TZID=America/Los_Angeles:20230802T191500
DTSTAMP:20260419T182742
CREATED:20230114T211421Z
LAST-MODIFIED:20230114T211421Z
UID:1552-1690999200-1691003700@thewayoftheheart.com
SUMMARY:Alchemical Healing (Call #5)
DESCRIPTION:6:00 PM to 7:15 PM Pacific Time(7:00 PM – 8:15 PM Mountain; 8:00 PM – 9:15 PM Central; 9:00 PM – 10:15 PM pm Eastern; 10:00 PM – 11:15 PM Atlantic.)
URL:https://thewayoftheheart.com/event/alchemical-healing-call-5-3/
LOCATION:Telebridge
CATEGORIES:Telebridge
END:VEVENT
BEGIN:VEVENT
DTSTART;TZID=America/Los_Angeles:20230730T170000
DTEND;TZID=America/Los_Angeles:20230730T181500
DTSTAMP:20260419T182742
CREATED:20230114T211623Z
LAST-MODIFIED:20230114T211623Z
UID:1586-1690736400-1690740900@thewayoftheheart.com
SUMMARY:Inner Life Mission Immersion (Call #23)
DESCRIPTION:5:00 PM to 6:15 PM Pacific Time(6:00 PM – 7:15 PM Mountain; 7:00 PM – 8:15 PM Central; 8:00 PM – 9:15 PM pm Eastern; 9:00 PM – 10:15 PM Atlantic.)
URL:https://thewayoftheheart.com/event/inner-life-mission-immersion-call-23-3/
LOCATION:Telebridge
CATEGORIES:Telebridge
END:VEVENT
BEGIN:VEVENT
DTSTART;TZID=America/Los_Angeles:20230727T180000
DTEND;TZID=America/Los_Angeles:20230727T193000
DTSTAMP:20260419T182742
CREATED:20230114T211828Z
LAST-MODIFIED:20230114T211828Z
UID:1628-1690480800-1690486200@thewayoftheheart.com
SUMMARY:Life Mission: Masterclass to Mastermind (Call #15)
DESCRIPTION:6:00 PM to 7:30 PM Pacific Time(7:00 PM – 8:30 PM Mountain; 8:00 PM – 9:30 PM Central; 9:00 PM – 10:30 PM pm Eastern; 10:00 PM – 11:30 PM Atlantic.)
URL:https://thewayoftheheart.com/event/life-mission-masterclass-to-mastermind-call-15/
LOCATION:Zoom
CATEGORIES:Telebridge
END:VEVENT
BEGIN:VEVENT
DTSTART;TZID=America/Los_Angeles:20230726T180000
DTEND;TZID=America/Los_Angeles:20230726T191500
DTSTAMP:20260419T182742
CREATED:20230114T211421Z
LAST-MODIFIED:20230114T211421Z
UID:1551-1690394400-1690398900@thewayoftheheart.com
SUMMARY:Alchemical Healing (Call #4)
DESCRIPTION:6:00 PM to 7:15 PM Pacific Time(7:00 PM – 8:15 PM Mountain; 8:00 PM – 9:15 PM Central; 9:00 PM – 10:15 PM pm Eastern; 10:00 PM – 11:15 PM Atlantic.)
URL:https://thewayoftheheart.com/event/alchemical-healing-call-4-3/
LOCATION:Telebridge
CATEGORIES:Telebridge
END:VEVENT
BEGIN:VEVENT
DTSTART;TZID=America/Los_Angeles:20230723T170000
DTEND;TZID=America/Los_Angeles:20230723T181500
DTSTAMP:20260419T182742
CREATED:20230114T211623Z
LAST-MODIFIED:20230114T211623Z
UID:1585-1690131600-1690136100@thewayoftheheart.com
SUMMARY:Inner Life Mission Immersion (Call #22)
DESCRIPTION:5:00 PM to 6:15 PM Pacific Time(6:00 PM – 7:15 PM Mountain; 7:00 PM – 8:15 PM Central; 8:00 PM – 9:15 PM pm Eastern; 9:00 PM – 10:15 PM Atlantic.)
URL:https://thewayoftheheart.com/event/inner-life-mission-immersion-call-22-3/
LOCATION:Telebridge
CATEGORIES:Telebridge
END:VEVENT
BEGIN:VEVENT
DTSTART;TZID=America/Los_Angeles:20230719T180000
DTEND;TZID=America/Los_Angeles:20230719T191500
DTSTAMP:20260419T182742
CREATED:20230114T211421Z
LAST-MODIFIED:20230114T211421Z
UID:1550-1689789600-1689794100@thewayoftheheart.com
SUMMARY:Alchemical Healing (Call #3)
DESCRIPTION:6:00 PM to 7:15 PM Pacific Time(7:00 PM – 8:15 PM Mountain; 8:00 PM – 9:15 PM Central; 9:00 PM – 10:15 PM pm Eastern; 10:00 PM – 11:15 PM Atlantic.)
URL:https://thewayoftheheart.com/event/alchemical-healing-call-3-3/
LOCATION:Telebridge
CATEGORIES:Telebridge
END:VEVENT
BEGIN:VEVENT
DTSTART;TZID=America/Los_Angeles:20230716T170000
DTEND;TZID=America/Los_Angeles:20230716T181500
DTSTAMP:20260419T182742
CREATED:20230114T211623Z
LAST-MODIFIED:20230114T211623Z
UID:1584-1689526800-1689531300@thewayoftheheart.com
SUMMARY:Inner Life Mission Immersion (Call #21)
DESCRIPTION:5:00 PM to 6:15 PM Pacific Time(6:00 PM – 7:15 PM Mountain; 7:00 PM – 8:15 PM Central; 8:00 PM – 9:15 PM pm Eastern; 9:00 PM – 10:15 PM Atlantic.)
URL:https://thewayoftheheart.com/event/inner-life-mission-immersion-call-21-3/
LOCATION:Telebridge
CATEGORIES:Telebridge
END:VEVENT
BEGIN:VEVENT
DTSTART;TZID=America/Los_Angeles:20230713T180000
DTEND;TZID=America/Los_Angeles:20230713T193000
DTSTAMP:20260419T182742
CREATED:20230114T211828Z
LAST-MODIFIED:20230114T211828Z
UID:1627-1689271200-1689276600@thewayoftheheart.com
SUMMARY:Life Mission: Masterclass to Mastermind (Call #14)
DESCRIPTION:6:00 PM to 7:30 PM Pacific Time(7:00 PM – 8:30 PM Mountain; 8:00 PM – 9:30 PM Central; 9:00 PM – 10:30 PM pm Eastern; 10:00 PM – 11:30 PM Atlantic.)
URL:https://thewayoftheheart.com/event/life-mission-masterclass-to-mastermind-call-14/
LOCATION:Zoom
CATEGORIES:Telebridge
END:VEVENT
BEGIN:VEVENT
DTSTART;TZID=America/Los_Angeles:20230712T180000
DTEND;TZID=America/Los_Angeles:20230712T191500
DTSTAMP:20260419T182742
CREATED:20230114T211421Z
LAST-MODIFIED:20230114T211421Z
UID:1549-1689184800-1689189300@thewayoftheheart.com
SUMMARY:Alchemical Healing (Call #2)
DESCRIPTION:6:00 PM to 7:15 PM Pacific Time(7:00 PM – 8:15 PM Mountain; 8:00 PM – 9:15 PM Central; 9:00 PM – 10:15 PM pm Eastern; 10:00 PM – 11:15 PM Atlantic.)
URL:https://thewayoftheheart.com/event/alchemical-healing-call-2-3/
LOCATION:Telebridge
CATEGORIES:Telebridge
END:VEVENT
BEGIN:VEVENT
DTSTART;TZID=America/Los_Angeles:20230709T170000
DTEND;TZID=America/Los_Angeles:20230709T181500
DTSTAMP:20260419T182742
CREATED:20230114T211608Z
LAST-MODIFIED:20230114T211608Z
UID:1583-1688922000-1688926500@thewayoftheheart.com
SUMMARY:Inner Life Mission Immersion (Call #20)
DESCRIPTION:5:00 PM to 6:15 PM Pacific Time(6:00 PM – 7:15 PM Mountain; 7:00 PM – 8:15 PM Central; 8:00 PM – 9:15 PM pm Eastern; 9:00 PM – 10:15 PM Atlantic.)
URL:https://thewayoftheheart.com/event/inner-life-mission-immersion-call-20-3/
LOCATION:Telebridge
CATEGORIES:Telebridge
END:VEVENT
BEGIN:VEVENT
DTSTART;TZID=America/Los_Angeles:20230705T180000
DTEND;TZID=America/Los_Angeles:20230705T191500
DTSTAMP:20260419T182742
CREATED:20230114T211421Z
LAST-MODIFIED:20230114T211421Z
UID:1548-1688580000-1688584500@thewayoftheheart.com
SUMMARY:Alchemical Healing (Call #1)
DESCRIPTION:6:00 PM to 7:15 PM Pacific Time(7:00 PM – 8:15 PM Mountain; 8:00 PM – 9:15 PM Central; 9:00 PM – 10:15 PM pm Eastern; 10:00 PM – 11:15 PM Atlantic.)
URL:https://thewayoftheheart.com/event/alchemical-healing-call-1-3/
LOCATION:Telebridge
CATEGORIES:Telebridge
END:VEVENT
BEGIN:VEVENT
DTSTART;TZID=America/Los_Angeles:20230702T170000
DTEND;TZID=America/Los_Angeles:20230702T181500
DTSTAMP:20260419T182742
CREATED:20230114T211608Z
LAST-MODIFIED:20230114T211608Z
UID:1582-1688317200-1688321700@thewayoftheheart.com
SUMMARY:Inner Life Mission Immersion (Call #19)
DESCRIPTION:5:00 PM to 6:15 PM Pacific Time(6:00 PM – 7:15 PM Mountain; 7:00 PM – 8:15 PM Central; 8:00 PM – 9:15 PM pm Eastern; 9:00 PM – 10:15 PM Atlantic.)
URL:https://thewayoftheheart.com/event/inner-life-mission-immersion-call-19-3/
LOCATION:Telebridge
CATEGORIES:Telebridge
END:VEVENT
BEGIN:VEVENT
DTSTART;TZID=America/Los_Angeles:20230629T180000
DTEND;TZID=America/Los_Angeles:20230629T193000
DTSTAMP:20260419T182742
CREATED:20230114T211827Z
LAST-MODIFIED:20230114T211827Z
UID:1626-1688061600-1688067000@thewayoftheheart.com
SUMMARY:Life Mission: Masterclass to Mastermind (Call #13)
DESCRIPTION:6:00 PM to 7:30 PM Pacific Time(7:00 PM – 8:30 PM Mountain; 8:00 PM – 9:30 PM Central; 9:00 PM – 10:30 PM pm Eastern; 10:00 PM – 11:30 PM Atlantic.)
URL:https://thewayoftheheart.com/event/life-mission-masterclass-to-mastermind-call-13/
LOCATION:Zoom
CATEGORIES:Telebridge
END:VEVENT
BEGIN:VEVENT
DTSTART;TZID=America/Los_Angeles:20230625T170000
DTEND;TZID=America/Los_Angeles:20230625T181500
DTSTAMP:20260419T182742
CREATED:20230114T211608Z
LAST-MODIFIED:20230114T211608Z
UID:1581-1687712400-1687716900@thewayoftheheart.com
SUMMARY:Inner Life Mission Immersion (Call #18)
DESCRIPTION:5:00 PM to 6:15 PM Pacific Time(6:00 PM – 7:15 PM Mountain; 7:00 PM – 8:15 PM Central; 8:00 PM – 9:15 PM pm Eastern; 9:00 PM – 10:15 PM Atlantic.)
URL:https://thewayoftheheart.com/event/inner-life-mission-immersion-call-18-3/
LOCATION:Telebridge
CATEGORIES:Telebridge
END:VEVENT
BEGIN:VEVENT
DTSTART;TZID=America/Los_Angeles:20230618T170000
DTEND;TZID=America/Los_Angeles:20230618T181500
DTSTAMP:20260419T182742
CREATED:20230114T211608Z
LAST-MODIFIED:20230114T211608Z
UID:1580-1687107600-1687112100@thewayoftheheart.com
SUMMARY:Inner Life Mission Immersion (Call #17)
DESCRIPTION:5:00 PM to 6:15 PM Pacific Time(6:00 PM – 7:15 PM Mountain; 7:00 PM – 8:15 PM Central; 8:00 PM – 9:15 PM pm Eastern; 9:00 PM – 10:15 PM Atlantic.)
URL:https://thewayoftheheart.com/event/inner-life-mission-immersion-call-17-3/
LOCATION:Telebridge
CATEGORIES:Telebridge
END:VEVENT
BEGIN:VEVENT
DTSTART;TZID=America/Los_Angeles:20230615T180000
DTEND;TZID=America/Los_Angeles:20230615T193000
DTSTAMP:20260419T182742
CREATED:20230114T211827Z
LAST-MODIFIED:20230114T211827Z
UID:1625-1686852000-1686857400@thewayoftheheart.com
SUMMARY:Life Mission: Masterclass to Mastermind (Call #12)
DESCRIPTION:6:00 PM to 7:30 PM Pacific Time(7:00 PM – 8:30 PM Mountain; 8:00 PM – 9:30 PM Central; 9:00 PM – 10:30 PM pm Eastern; 10:00 PM – 11:30 PM Atlantic.)
URL:https://thewayoftheheart.com/event/life-mission-masterclass-to-mastermind-call-12/
LOCATION:Zoom
CATEGORIES:Telebridge
END:VEVENT
BEGIN:VEVENT
DTSTART;TZID=America/Los_Angeles:20230613T170000
DTEND;TZID=America/Los_Angeles:20230613T181500
DTSTAMP:20260419T182742
CREATED:20230114T211927Z
LAST-MODIFIED:20230114T211927Z
UID:1645-1686675600-1686680100@thewayoftheheart.com
SUMMARY:Making God a Reality & Friend (Call #6)
DESCRIPTION:5:00 PM to 6:15 PM Pacific Time(6:00 PM – 7:15 PM Mountain; 7:00 PM – 8:15 PM Central; 8:00 PM – 9:15 PM pm Eastern; 9:00 PM – 10:15 PM Atlantic.)
URL:https://thewayoftheheart.com/event/making-god-a-reality-friend-call-6/
LOCATION:Telebridge
CATEGORIES:Telebridge
END:VEVENT
BEGIN:VEVENT
DTSTART;TZID=America/Los_Angeles:20230611T170000
DTEND;TZID=America/Los_Angeles:20230611T181500
DTSTAMP:20260419T182742
CREATED:20230114T211608Z
LAST-MODIFIED:20230114T211608Z
UID:1579-1686502800-1686507300@thewayoftheheart.com
SUMMARY:Inner Life Mission Immersion (Call #16)
DESCRIPTION:5:00 PM to 6:15 PM Pacific Time(6:00 PM – 7:15 PM Mountain; 7:00 PM – 8:15 PM Central; 8:00 PM – 9:15 PM pm Eastern; 9:00 PM – 10:15 PM Atlantic.)
URL:https://thewayoftheheart.com/event/inner-life-mission-immersion-call-16-3/
LOCATION:Telebridge
CATEGORIES:Telebridge
END:VEVENT
BEGIN:VEVENT
DTSTART;VALUE=DATE:20230609
DTEND;VALUE=DATE:20230612
DTSTAMP:20260419T182742
CREATED:20230114T211154Z
LAST-MODIFIED:20230114T211154Z
UID:1539-1686268800-1686527999@thewayoftheheart.com
SUMMARY:Life Mission I
DESCRIPTION:
URL:https://thewayoftheheart.com/event/life-mission-i/
LOCATION:Online via Zoom
CATEGORIES:Advanced class
END:VEVENT
BEGIN:VEVENT
DTSTART;TZID=America/Los_Angeles:20230606T170000
DTEND;TZID=America/Los_Angeles:20230606T181500
DTSTAMP:20260419T182742
CREATED:20230114T211927Z
LAST-MODIFIED:20230114T211927Z
UID:1644-1686070800-1686075300@thewayoftheheart.com
SUMMARY:Making God a Reality & Friend (Call #5)
DESCRIPTION:5:00 PM to 6:15 PM Pacific Time(6:00 PM – 7:15 PM Mountain; 7:00 PM – 8:15 PM Central; 8:00 PM – 9:15 PM pm Eastern; 9:00 PM – 10:15 PM Atlantic.)
URL:https://thewayoftheheart.com/event/making-god-a-reality-friend-call-5/
LOCATION:Telebridge
CATEGORIES:Telebridge
END:VEVENT
BEGIN:VEVENT
DTSTART;TZID=America/Los_Angeles:20230604T170000
DTEND;TZID=America/Los_Angeles:20230604T181500
DTSTAMP:20260419T182742
CREATED:20230114T211553Z
LAST-MODIFIED:20230114T211553Z
UID:1578-1685898000-1685902500@thewayoftheheart.com
SUMMARY:Inner Life Mission Immersion (Call #15)
DESCRIPTION:5:00 PM to 6:15 PM Pacific Time(6:00 PM – 7:15 PM Mountain; 7:00 PM – 8:15 PM Central; 8:00 PM – 9:15 PM pm Eastern; 9:00 PM – 10:15 PM Atlantic.)
URL:https://thewayoftheheart.com/event/inner-life-mission-immersion-call-15-3/
LOCATION:Telebridge
CATEGORIES:Telebridge
END:VEVENT
BEGIN:VEVENT
DTSTART;TZID=America/Los_Angeles:20230601T180000
DTEND;TZID=America/Los_Angeles:20230601T193000
DTSTAMP:20260419T182742
CREATED:20230114T211827Z
LAST-MODIFIED:20230114T211827Z
UID:1624-1685642400-1685647800@thewayoftheheart.com
SUMMARY:Life Mission: Masterclass to Mastermind (Call #11)
DESCRIPTION:6:00 PM to 7:30 PM Pacific Time(7:00 PM – 8:30 PM Mountain; 8:00 PM – 9:30 PM Central; 9:00 PM – 10:30 PM pm Eastern; 10:00 PM – 11:30 PM Atlantic.)
URL:https://thewayoftheheart.com/event/life-mission-masterclass-to-mastermind-call-11/
LOCATION:Zoom
CATEGORIES:Telebridge
END:VEVENT
BEGIN:VEVENT
DTSTART;TZID=America/Los_Angeles:20230530T170000
DTEND;TZID=America/Los_Angeles:20230530T181500
DTSTAMP:20260419T182742
CREATED:20230114T211927Z
LAST-MODIFIED:20230114T211927Z
UID:1643-1685466000-1685470500@thewayoftheheart.com
SUMMARY:Making God a Reality & Friend (Call #4)
DESCRIPTION:5:00 PM to 6:15 PM Pacific Time(6:00 PM – 7:15 PM Mountain; 7:00 PM – 8:15 PM Central; 8:00 PM – 9:15 PM pm Eastern; 9:00 PM – 10:15 PM Atlantic.)
URL:https://thewayoftheheart.com/event/making-god-a-reality-friend-call-4/
LOCATION:Telebridge
CATEGORIES:Telebridge
END:VEVENT
BEGIN:VEVENT
DTSTART;TZID=America/Los_Angeles:20230528T170000
DTEND;TZID=America/Los_Angeles:20230528T181500
DTSTAMP:20260419T182742
CREATED:20230114T211553Z
LAST-MODIFIED:20230114T211553Z
UID:1577-1685293200-1685297700@thewayoftheheart.com
SUMMARY:Inner Life Mission Immersion (Call #14)
DESCRIPTION:5:00 PM to 6:15 PM Pacific Time(6:00 PM – 7:15 PM Mountain; 7:00 PM – 8:15 PM Central; 8:00 PM – 9:15 PM pm Eastern; 9:00 PM – 10:15 PM Atlantic.)
URL:https://thewayoftheheart.com/event/inner-life-mission-immersion-call-14-3/
LOCATION:Telebridge
CATEGORIES:Telebridge
END:VEVENT
BEGIN:VEVENT
DTSTART;TZID=America/Los_Angeles:20230523T170000
DTEND;TZID=America/Los_Angeles:20230523T181500
DTSTAMP:20260419T182742
CREATED:20230114T211926Z
LAST-MODIFIED:20230114T211926Z
UID:1642-1684861200-1684865700@thewayoftheheart.com
SUMMARY:Making God a Reality & Friend (Call #3)
DESCRIPTION:5:00 PM to 6:15 PM Pacific Time(6:00 PM – 7:15 PM Mountain; 7:00 PM – 8:15 PM Central; 8:00 PM – 9:15 PM pm Eastern; 9:00 PM – 10:15 PM Atlantic.)
URL:https://thewayoftheheart.com/event/making-god-a-reality-friend-call-3/
LOCATION:Telebridge
CATEGORIES:Telebridge
END:VEVENT
END:VCALENDAR