BEGIN:VCALENDAR
VERSION:2.0
PRODID:-//The Way of the Heart - ECPv6.15.20//NONSGML v1.0//EN
CALSCALE:GREGORIAN
METHOD:PUBLISH
X-WR-CALNAME:The Way of the Heart
X-ORIGINAL-URL:https://thewayoftheheart.com
X-WR-CALDESC:Events for The Way of the Heart
REFRESH-INTERVAL;VALUE=DURATION:PT1H
X-Robots-Tag:noindex
X-PUBLISHED-TTL:PT1H
BEGIN:VTIMEZONE
TZID:UTC
BEGIN:STANDARD
TZOFFSETFROM:+0000
TZOFFSETTO:+0000
TZNAME:UTC
DTSTART:20240101T000000
END:STANDARD
END:VTIMEZONE
BEGIN:VTIMEZONE
TZID:America/Los_Angeles
BEGIN:DAYLIGHT
TZOFFSETFROM:-0800
TZOFFSETTO:-0700
TZNAME:PDT
DTSTART:20240310T100000
END:DAYLIGHT
BEGIN:STANDARD
TZOFFSETFROM:-0700
TZOFFSETTO:-0800
TZNAME:PST
DTSTART:20241103T090000
END:STANDARD
BEGIN:DAYLIGHT
TZOFFSETFROM:-0800
TZOFFSETTO:-0700
TZNAME:PDT
DTSTART:20250309T100000
END:DAYLIGHT
BEGIN:STANDARD
TZOFFSETFROM:-0700
TZOFFSETTO:-0800
TZNAME:PST
DTSTART:20251102T090000
END:STANDARD
BEGIN:DAYLIGHT
TZOFFSETFROM:-0800
TZOFFSETTO:-0700
TZNAME:PDT
DTSTART:20260308T100000
END:DAYLIGHT
BEGIN:STANDARD
TZOFFSETFROM:-0700
TZOFFSETTO:-0800
TZNAME:PST
DTSTART:20261101T090000
END:STANDARD
END:VTIMEZONE
BEGIN:VEVENT
DTSTART;TZID=UTC:20250907T170000
DTEND;TZID=UTC:20250907T181500
DTSTAMP:20260420T054925
CREATED:20250213T191501Z
LAST-MODIFIED:20250213T191501Z
UID:1877-1757264400-1757268900@thewayoftheheart.com
SUMMARY:Call to Love - Inner Life Mission Immersion (Call #29)
DESCRIPTION:5:00 PM to 6:15 PM Pacific Time(6:00 PM – 7:15 PM Mountain; 7:00 PM – 8:15 PM Central; 8:00 PM – 9:15 PM pm Eastern; 9:00 PM – 10:15 PM Atlantic.)
URL:https://thewayoftheheart.com/event/call-to-love-inner-life-mission-immersion-call-29/
CATEGORIES:Telebridge
END:VEVENT
BEGIN:VEVENT
DTSTART;TZID=UTC:20250831T170000
DTEND;TZID=UTC:20250831T181500
DTSTAMP:20260420T054925
CREATED:20250213T191501Z
LAST-MODIFIED:20250213T191501Z
UID:1876-1756659600-1756664100@thewayoftheheart.com
SUMMARY:Call to Love - Inner Life Mission Immersion (Call #28)
DESCRIPTION:5:00 PM to 6:15 PM Pacific Time(6:00 PM – 7:15 PM Mountain; 7:00 PM – 8:15 PM Central; 8:00 PM – 9:15 PM pm Eastern; 9:00 PM – 10:15 PM Atlantic.)
URL:https://thewayoftheheart.com/event/call-to-love-inner-life-mission-immersion-call-28/
CATEGORIES:Telebridge
END:VEVENT
BEGIN:VEVENT
DTSTART;TZID=UTC:20250828T180000
DTEND;TZID=UTC:20250828T193000
DTSTAMP:20260420T054925
CREATED:20250213T192348Z
LAST-MODIFIED:20250213T192348Z
UID:1921-1756404000-1756409400@thewayoftheheart.com
SUMMARY:Life Mission: Masterclass to Mastermind (Call #17)
DESCRIPTION:6:00 PM to 7:30 PM Pacific Time(7:00 PM – 8:30 PM Mountain; 8:00 PM – 9:30 PM Central; 9:00 PM – 10:30 PM pm Eastern; 10:00 PM – 11:30 PM Atlantic.)
URL:https://thewayoftheheart.com/event/life-mission-masterclass-to-mastermind-call-17-3/
CATEGORIES:Telebridge
END:VEVENT
BEGIN:VEVENT
DTSTART;VALUE=DATE:20250826
DTEND;VALUE=DATE:20250829
DTSTAMP:20260420T054925
CREATED:20250213T190757Z
LAST-MODIFIED:20250213T190757Z
UID:1843-1756166400-1756425599@thewayoftheheart.com
SUMMARY:Women's Alchemical Healing Retreat
DESCRIPTION:
URL:https://thewayoftheheart.com/event/womens-alchemical-healing-retreat-3/
CATEGORIES:Advanced class
END:VEVENT
BEGIN:VEVENT
DTSTART;TZID=UTC:20250824T170000
DTEND;TZID=UTC:20250824T181500
DTSTAMP:20260420T054925
CREATED:20250213T191501Z
LAST-MODIFIED:20250213T191501Z
UID:1875-1756054800-1756059300@thewayoftheheart.com
SUMMARY:Call to Love - Inner Life Mission Immersion (Call #27)
DESCRIPTION:5:00 PM to 6:15 PM Pacific Time(6:00 PM – 7:15 PM Mountain; 7:00 PM – 8:15 PM Central; 8:00 PM – 9:15 PM pm Eastern; 9:00 PM – 10:15 PM Atlantic.)
URL:https://thewayoftheheart.com/event/call-to-love-inner-life-mission-immersion-call-27/
CATEGORIES:Telebridge
END:VEVENT
BEGIN:VEVENT
DTSTART;VALUE=DATE:20250823
DTEND;VALUE=DATE:20250826
DTSTAMP:20260420T054925
CREATED:20250213T190757Z
LAST-MODIFIED:20250213T190757Z
UID:1842-1755907200-1756166399@thewayoftheheart.com
SUMMARY:Awakening the Inner Life Alchemical Retreat
DESCRIPTION:
URL:https://thewayoftheheart.com/event/awakening-the-inner-life-alchemical-retreat/
CATEGORIES:Advanced class
END:VEVENT
BEGIN:VEVENT
DTSTART;TZID=UTC:20250817T170000
DTEND;TZID=UTC:20250817T181500
DTSTAMP:20260420T054925
CREATED:20250213T191500Z
LAST-MODIFIED:20250213T191500Z
UID:1874-1755450000-1755454500@thewayoftheheart.com
SUMMARY:Call to Love - Inner Life Mission Immersion (Call #26)
DESCRIPTION:5:00 PM to 6:15 PM Pacific Time(6:00 PM – 7:15 PM Mountain; 7:00 PM – 8:15 PM Central; 8:00 PM – 9:15 PM pm Eastern; 9:00 PM – 10:15 PM Atlantic.)
URL:https://thewayoftheheart.com/event/call-to-love-inner-life-mission-immersion-call-26/
CATEGORIES:Telebridge
END:VEVENT
BEGIN:VEVENT
DTSTART;TZID=UTC:20250814T180000
DTEND;TZID=UTC:20250814T193000
DTSTAMP:20260420T054925
CREATED:20250213T192347Z
LAST-MODIFIED:20250213T192347Z
UID:1920-1755194400-1755199800@thewayoftheheart.com
SUMMARY:Life Mission: Masterclass to Mastermind (Call #16)
DESCRIPTION:6:00 PM to 7:30 PM Pacific Time(7:00 PM – 8:30 PM Mountain; 8:00 PM – 9:30 PM Central; 9:00 PM – 10:30 PM pm Eastern; 10:00 PM – 11:30 PM Atlantic.)
URL:https://thewayoftheheart.com/event/life-mission-masterclass-to-mastermind-call-16-3/
CATEGORIES:Telebridge
END:VEVENT
BEGIN:VEVENT
DTSTART;TZID=UTC:20250813T180000
DTEND;TZID=UTC:20250813T190000
DTSTAMP:20260420T054925
CREATED:20250213T192620Z
LAST-MODIFIED:20250213T192620Z
UID:1945-1755108000-1755111600@thewayoftheheart.com
SUMMARY:Dreaming Ourselves Awake (Call #6)
DESCRIPTION:6:00 PM to 7:00 PM Pacific Time(7:00 PM – 8:00 PM Mountain; 8:00 PM – 9:00 PM Central; 9:00 PM – 10:00 PM Eastern; 10:00 PM – 11:00 PM Atlantic.)
URL:https://thewayoftheheart.com/event/dreaming-ourselves-awake-call-6-3/
CATEGORIES:Telebridge
END:VEVENT
BEGIN:VEVENT
DTSTART;TZID=UTC:20250810T170000
DTEND;TZID=UTC:20250810T181500
DTSTAMP:20260420T054925
CREATED:20250213T191302Z
LAST-MODIFIED:20250213T191302Z
UID:1873-1754845200-1754849700@thewayoftheheart.com
SUMMARY:Call to Love - Inner Life Mission Immersion (Call #25)
DESCRIPTION:5:00 PM to 6:15 PM Pacific Time(6:00 PM – 7:15 PM Mountain; 7:00 PM – 8:15 PM Central; 8:00 PM – 9:15 PM pm Eastern; 9:00 PM – 10:15 PM Atlantic.)
URL:https://thewayoftheheart.com/event/call-to-love-inner-life-mission-immersion-call-25-2/
CATEGORIES:Telebridge
END:VEVENT
BEGIN:VEVENT
DTSTART;TZID=UTC:20250806T180000
DTEND;TZID=UTC:20250806T190000
DTSTAMP:20260420T054925
CREATED:20250213T192619Z
LAST-MODIFIED:20250213T192619Z
UID:1944-1754503200-1754506800@thewayoftheheart.com
SUMMARY:Dreaming Ourselves Awake (Call #5)
DESCRIPTION:6:00 PM to 7:00 PM Pacific Time(7:00 PM – 8:00 PM Mountain; 8:00 PM – 9:00 PM Central; 9:00 PM – 10:00 PM Eastern; 10:00 PM – 11:00 PM Atlantic.)
URL:https://thewayoftheheart.com/event/dreaming-ourselves-awake-call-5-3/
CATEGORIES:Telebridge
END:VEVENT
BEGIN:VEVENT
DTSTART;TZID=UTC:20250803T170000
DTEND;TZID=UTC:20250803T181500
DTSTAMP:20260420T054925
CREATED:20250213T191301Z
LAST-MODIFIED:20250213T191301Z
UID:1872-1754240400-1754244900@thewayoftheheart.com
SUMMARY:Call to Love - Inner Life Mission Immersion (Call #24)
DESCRIPTION:5:00 PM to 6:15 PM Pacific Time(6:00 PM – 7:15 PM Mountain; 7:00 PM – 8:15 PM Central; 8:00 PM – 9:15 PM pm Eastern; 9:00 PM – 10:15 PM Atlantic.)
URL:https://thewayoftheheart.com/event/call-to-love-inner-life-mission-immersion-call-24-2/
CATEGORIES:Telebridge
END:VEVENT
BEGIN:VEVENT
DTSTART;TZID=UTC:20250731T180000
DTEND;TZID=UTC:20250731T193000
DTSTAMP:20260420T054925
CREATED:20250213T192333Z
LAST-MODIFIED:20250213T192333Z
UID:1919-1753984800-1753990200@thewayoftheheart.com
SUMMARY:Life Mission: Masterclass to Mastermind (Call #15)
DESCRIPTION:6:00 PM to 7:30 PM Pacific Time(7:00 PM – 8:30 PM Mountain; 8:00 PM – 9:30 PM Central; 9:00 PM – 10:30 PM pm Eastern; 10:00 PM – 11:30 PM Atlantic.)
URL:https://thewayoftheheart.com/event/life-mission-masterclass-to-mastermind-call-15-3/
CATEGORIES:Telebridge
END:VEVENT
BEGIN:VEVENT
DTSTART;TZID=UTC:20250730T180000
DTEND;TZID=UTC:20250730T190000
DTSTAMP:20260420T054925
CREATED:20250213T192619Z
LAST-MODIFIED:20250213T192619Z
UID:1943-1753898400-1753902000@thewayoftheheart.com
SUMMARY:Dreaming Ourselves Awake (Call #4)
DESCRIPTION:6:00 PM to 7:00 PM Pacific Time(7:00 PM – 8:00 PM Mountain; 8:00 PM – 9:00 PM Central; 9:00 PM – 10:00 PM Eastern; 10:00 PM – 11:00 PM Atlantic.)
URL:https://thewayoftheheart.com/event/dreaming-ourselves-awake-call-4-3/
CATEGORIES:Telebridge
END:VEVENT
BEGIN:VEVENT
DTSTART;TZID=UTC:20250727T170000
DTEND;TZID=UTC:20250727T181500
DTSTAMP:20260420T054925
CREATED:20250213T191301Z
LAST-MODIFIED:20250213T191301Z
UID:1871-1753635600-1753640100@thewayoftheheart.com
SUMMARY:Call to Love - Inner Life Mission Immersion (Call #23)
DESCRIPTION:5:00 PM to 6:15 PM Pacific Time(6:00 PM – 7:15 PM Mountain; 7:00 PM – 8:15 PM Central; 8:00 PM – 9:15 PM pm Eastern; 9:00 PM – 10:15 PM Atlantic.)
URL:https://thewayoftheheart.com/event/call-to-love-inner-life-mission-immersion-call-23-2/
CATEGORIES:Telebridge
END:VEVENT
BEGIN:VEVENT
DTSTART;VALUE=DATE:20250727
DTEND;VALUE=DATE:20250728
DTSTAMP:20260420T054925
CREATED:20250213T190757Z
LAST-MODIFIED:20250213T190757Z
UID:1841-1753574400-1753660799@thewayoftheheart.com
SUMMARY:Inner Life Mission Alchemical Retreat Gateway
DESCRIPTION:
URL:https://thewayoftheheart.com/event/inner-life-mission-alchemical-retreat-gateway/
LOCATION:Zoom Retreat w/ Kimberly
CATEGORIES:Advanced class
END:VEVENT
BEGIN:VEVENT
DTSTART;TZID=UTC:20250723T180000
DTEND;TZID=UTC:20250723T190000
DTSTAMP:20260420T054925
CREATED:20250213T192619Z
LAST-MODIFIED:20250213T192619Z
UID:1942-1753293600-1753297200@thewayoftheheart.com
SUMMARY:Dreaming Ourselves Awake (Call #3)
DESCRIPTION:6:00 PM to 7:00 PM Pacific Time(7:00 PM – 8:00 PM Mountain; 8:00 PM – 9:00 PM Central; 9:00 PM – 10:00 PM Eastern; 10:00 PM – 11:00 PM Atlantic.)
URL:https://thewayoftheheart.com/event/dreaming-ourselves-awake-call-3-3/
CATEGORIES:Telebridge
END:VEVENT
BEGIN:VEVENT
DTSTART;TZID=UTC:20250720T170000
DTEND;TZID=UTC:20250720T181500
DTSTAMP:20260420T054925
CREATED:20250213T191301Z
LAST-MODIFIED:20250213T191301Z
UID:1870-1753030800-1753035300@thewayoftheheart.com
SUMMARY:Call to Love - Inner Life Mission Immersion (Call #22)
DESCRIPTION:5:00 PM to 6:15 PM Pacific Time(6:00 PM – 7:15 PM Mountain; 7:00 PM – 8:15 PM Central; 8:00 PM – 9:15 PM pm Eastern; 9:00 PM – 10:15 PM Atlantic.)
URL:https://thewayoftheheart.com/event/call-to-love-inner-life-mission-immersion-call-22-2/
CATEGORIES:Telebridge
END:VEVENT
BEGIN:VEVENT
DTSTART;TZID=UTC:20250717T180000
DTEND;TZID=UTC:20250717T193000
DTSTAMP:20260420T054925
CREATED:20250213T192333Z
LAST-MODIFIED:20250213T192333Z
UID:1918-1752775200-1752780600@thewayoftheheart.com
SUMMARY:Life Mission: Masterclass to Mastermind (Call #14)
DESCRIPTION:6:00 PM to 7:30 PM Pacific Time(7:00 PM – 8:30 PM Mountain; 8:00 PM – 9:30 PM Central; 9:00 PM – 10:30 PM pm Eastern; 10:00 PM – 11:30 PM Atlantic.)
URL:https://thewayoftheheart.com/event/life-mission-masterclass-to-mastermind-call-14-3/
CATEGORIES:Telebridge
END:VEVENT
BEGIN:VEVENT
DTSTART;TZID=UTC:20250716T180000
DTEND;TZID=UTC:20250716T190000
DTSTAMP:20260420T054925
CREATED:20250213T192619Z
LAST-MODIFIED:20250213T192619Z
UID:1941-1752688800-1752692400@thewayoftheheart.com
SUMMARY:Dreaming Ourselves Awake (Call #2)
DESCRIPTION:6:00 PM to 7:00 PM Pacific Time(7:00 PM – 8:00 PM Mountain; 8:00 PM – 9:00 PM Central; 9:00 PM – 10:00 PM Eastern; 10:00 PM – 11:00 PM Atlantic.)
URL:https://thewayoftheheart.com/event/dreaming-ourselves-awake-call-2-3/
CATEGORIES:Telebridge
END:VEVENT
BEGIN:VEVENT
DTSTART;TZID=UTC:20250713T170000
DTEND;TZID=UTC:20250713T181500
DTSTAMP:20260420T054925
CREATED:20250213T191300Z
LAST-MODIFIED:20250213T191300Z
UID:1869-1752426000-1752430500@thewayoftheheart.com
SUMMARY:Call to Love - Inner Life Mission Immersion (Call #21)
DESCRIPTION:5:00 PM to 6:15 PM Pacific Time(6:00 PM – 7:15 PM Mountain; 7:00 PM – 8:15 PM Central; 8:00 PM – 9:15 PM pm Eastern; 9:00 PM – 10:15 PM Atlantic.)
URL:https://thewayoftheheart.com/event/call-to-love-inner-life-mission-immersion-call-21-2/
CATEGORIES:Telebridge
END:VEVENT
BEGIN:VEVENT
DTSTART;TZID=UTC:20250709T180000
DTEND;TZID=UTC:20250709T190000
DTSTAMP:20260420T054925
CREATED:20250213T192618Z
LAST-MODIFIED:20250213T192618Z
UID:1940-1752084000-1752087600@thewayoftheheart.com
SUMMARY:Dreaming Ourselves Awake (Call #1)
DESCRIPTION:6:00 PM to 7:00 PM Pacific Time(7:00 PM – 8:00 PM Mountain; 8:00 PM – 9:00 PM Central; 9:00 PM – 10:00 PM Eastern; 10:00 PM – 11:00 PM Atlantic.)
URL:https://thewayoftheheart.com/event/dreaming-ourselves-awake-call-1-3/
CATEGORIES:Telebridge
END:VEVENT
BEGIN:VEVENT
DTSTART;TZID=UTC:20250706T170000
DTEND;TZID=UTC:20250706T181500
DTSTAMP:20260420T054925
CREATED:20250213T191101Z
LAST-MODIFIED:20250213T191101Z
UID:1868-1751821200-1751825700@thewayoftheheart.com
SUMMARY:Call to Love - Inner Life Mission Immersion (Call #20)
DESCRIPTION:5:00 PM to 6:15 PM Pacific Time(6:00 PM – 7:15 PM Mountain; 7:00 PM – 8:15 PM Central; 8:00 PM – 9:15 PM pm Eastern; 9:00 PM – 10:15 PM Atlantic.)
URL:https://thewayoftheheart.com/event/call-to-love-inner-life-mission-immersion-call-20-2/
CATEGORIES:Telebridge
END:VEVENT
BEGIN:VEVENT
DTSTART;TZID=UTC:20250703T180000
DTEND;TZID=UTC:20250703T193000
DTSTAMP:20260420T054925
CREATED:20250213T192333Z
LAST-MODIFIED:20250213T192333Z
UID:1917-1751565600-1751571000@thewayoftheheart.com
SUMMARY:Life Mission: Masterclass to Mastermind (Call #13)
DESCRIPTION:6:00 PM to 7:30 PM Pacific Time(7:00 PM – 8:30 PM Mountain; 8:00 PM – 9:30 PM Central; 9:00 PM – 10:30 PM pm Eastern; 10:00 PM – 11:30 PM Atlantic.)
URL:https://thewayoftheheart.com/event/life-mission-masterclass-to-mastermind-call-13-3/
CATEGORIES:Telebridge
END:VEVENT
BEGIN:VEVENT
DTSTART;TZID=UTC:20250629T170000
DTEND;TZID=UTC:20250629T181500
DTSTAMP:20260420T054925
CREATED:20250213T191101Z
LAST-MODIFIED:20250213T191101Z
UID:1867-1751216400-1751220900@thewayoftheheart.com
SUMMARY:Call to Love - Inner Life Mission Immersion (Call #19)
DESCRIPTION:5:00 PM to 6:15 PM Pacific Time(6:00 PM – 7:15 PM Mountain; 7:00 PM – 8:15 PM Central; 8:00 PM – 9:15 PM pm Eastern; 9:00 PM – 10:15 PM Atlantic.)
URL:https://thewayoftheheart.com/event/call-to-love-inner-life-mission-immersion-call-19-2/
CATEGORIES:Telebridge
END:VEVENT
BEGIN:VEVENT
DTSTART;TZID=UTC:20250622T170000
DTEND;TZID=UTC:20250622T181500
DTSTAMP:20260420T054925
CREATED:20250213T191101Z
LAST-MODIFIED:20250213T191101Z
UID:1866-1750611600-1750616100@thewayoftheheart.com
SUMMARY:Call to Love - Inner Life Mission Immersion (Call #18)
DESCRIPTION:5:00 PM to 6:15 PM Pacific Time(6:00 PM – 7:15 PM Mountain; 7:00 PM – 8:15 PM Central; 8:00 PM – 9:15 PM pm Eastern; 9:00 PM – 10:15 PM Atlantic.)
URL:https://thewayoftheheart.com/event/call-to-love-inner-life-mission-immersion-call-18-2/
CATEGORIES:Telebridge
END:VEVENT
BEGIN:VEVENT
DTSTART;VALUE=DATE:20250621
DTEND;VALUE=DATE:20250623
DTSTAMP:20260420T054925
CREATED:20250213T190756Z
LAST-MODIFIED:20250213T190756Z
UID:1840-1750464000-1750636799@thewayoftheheart.com
SUMMARY:Universal / Galactic Self-Healing Integration
DESCRIPTION:
URL:https://thewayoftheheart.com/event/universal-galactic-self-healing-integration/
LOCATION:Online via Zoom
CATEGORIES:Advanced class
END:VEVENT
BEGIN:VEVENT
DTSTART;VALUE=DATE:20250620
DTEND;VALUE=DATE:20250621
DTSTAMP:20260420T054925
CREATED:20250213T190756Z
LAST-MODIFIED:20250213T190756Z
UID:1839-1750377600-1750463999@thewayoftheheart.com
SUMMARY:Planetary Self-Healing Integration
DESCRIPTION:
URL:https://thewayoftheheart.com/event/planetary-self-healing-integration/
LOCATION:Online via Zoom
CATEGORIES:Advanced class
END:VEVENT
BEGIN:VEVENT
DTSTART;TZID=UTC:20250619T180000
DTEND;TZID=UTC:20250619T193000
DTSTAMP:20260420T054925
CREATED:20250213T192332Z
LAST-MODIFIED:20250213T192332Z
UID:1916-1750356000-1750361400@thewayoftheheart.com
SUMMARY:Life Mission: Masterclass to Mastermind (Call #12)
DESCRIPTION:6:00 PM to 7:30 PM Pacific Time(7:00 PM – 8:30 PM Mountain; 8:00 PM – 9:30 PM Central; 9:00 PM – 10:30 PM pm Eastern; 10:00 PM – 11:30 PM Atlantic.)
URL:https://thewayoftheheart.com/event/life-mission-masterclass-to-mastermind-call-12-3/
CATEGORIES:Telebridge
END:VEVENT
BEGIN:VEVENT
DTSTART;TZID=UTC:20250617T170000
DTEND;TZID=UTC:20250617T181500
DTSTAMP:20260420T054925
CREATED:20250213T192708Z
LAST-MODIFIED:20250213T192708Z
UID:1954-1750179600-1750184100@thewayoftheheart.com
SUMMARY:Making God a Reality (Call #6)
DESCRIPTION:5:00 PM to 6:15 PM Pacific Time(6:00 PM – 7:15 PM Mountain; 7:00 PM – 8:15 PM Central; 8:00 PM – 9:15 PM Eastern; 9:00 PM – 10:15 PM Atlantic.)
URL:https://thewayoftheheart.com/event/making-god-a-reality-call-6-3/
CATEGORIES:Telebridge
END:VEVENT
END:VCALENDAR