BEGIN:VCALENDAR
VERSION:2.0
PRODID:-//The Way of the Heart - ECPv6.15.20//NONSGML v1.0//EN
CALSCALE:GREGORIAN
METHOD:PUBLISH
X-WR-CALNAME:The Way of the Heart
X-ORIGINAL-URL:https://thewayoftheheart.com
X-WR-CALDESC:Events for The Way of the Heart
REFRESH-INTERVAL;VALUE=DURATION:PT1H
X-Robots-Tag:noindex
X-PUBLISHED-TTL:PT1H
BEGIN:VTIMEZONE
TZID:UTC
BEGIN:STANDARD
TZOFFSETFROM:+0000
TZOFFSETTO:+0000
TZNAME:UTC
DTSTART:20240101T000000
END:STANDARD
END:VTIMEZONE
BEGIN:VTIMEZONE
TZID:America/Los_Angeles
BEGIN:DAYLIGHT
TZOFFSETFROM:-0800
TZOFFSETTO:-0700
TZNAME:PDT
DTSTART:20240310T100000
END:DAYLIGHT
BEGIN:STANDARD
TZOFFSETFROM:-0700
TZOFFSETTO:-0800
TZNAME:PST
DTSTART:20241103T090000
END:STANDARD
BEGIN:DAYLIGHT
TZOFFSETFROM:-0800
TZOFFSETTO:-0700
TZNAME:PDT
DTSTART:20250309T100000
END:DAYLIGHT
BEGIN:STANDARD
TZOFFSETFROM:-0700
TZOFFSETTO:-0800
TZNAME:PST
DTSTART:20251102T090000
END:STANDARD
BEGIN:DAYLIGHT
TZOFFSETFROM:-0800
TZOFFSETTO:-0700
TZNAME:PDT
DTSTART:20260308T100000
END:DAYLIGHT
BEGIN:STANDARD
TZOFFSETFROM:-0700
TZOFFSETTO:-0800
TZNAME:PST
DTSTART:20261101T090000
END:STANDARD
END:VTIMEZONE
BEGIN:VEVENT
DTSTART;TZID=UTC:20251111T170000
DTEND;TZID=UTC:20251111T181500
DTSTAMP:20260420T040942
CREATED:20250213T192751Z
LAST-MODIFIED:20250213T192751Z
UID:1963-1762880400-1762884900@thewayoftheheart.com
SUMMARY:Transforming Grief & Shadow (Call #6)
DESCRIPTION:5:00 PM to 6:15 PM Pacific Time(6:00 PM – 7:15 PM Mountain; 7:00 PM – 8:15 PM Central; 8:00 PM – 9:15 PM Eastern; 9:00 PM – 10:15 PM Atlantic.)
URL:https://thewayoftheheart.com/event/transforming-grief-shadow-call-6-6/
CATEGORIES:Telebridge
END:VEVENT
BEGIN:VEVENT
DTSTART;TZID=UTC:20251109T170000
DTEND;TZID=UTC:20251109T181500
DTSTAMP:20260420T040942
CREATED:20250213T191825Z
LAST-MODIFIED:20250213T191825Z
UID:1886-1762707600-1762712100@thewayoftheheart.com
SUMMARY:Call to Love - Inner Life Mission Immersion (Call #38)
DESCRIPTION:5:00 PM to 6:15 PM Pacific Time(6:00 PM – 7:15 PM Mountain; 7:00 PM – 8:15 PM Central; 8:00 PM – 9:15 PM pm Eastern; 9:00 PM – 10:15 PM Atlantic.)
URL:https://thewayoftheheart.com/event/call-to-love-inner-life-mission-immersion-call-38/
CATEGORIES:Telebridge
END:VEVENT
BEGIN:VEVENT
DTSTART;TZID=UTC:20251106T180000
DTEND;TZID=UTC:20251106T193000
DTSTAMP:20260420T040942
CREATED:20250213T192403Z
LAST-MODIFIED:20250213T192403Z
UID:1926-1762452000-1762457400@thewayoftheheart.com
SUMMARY:Life Mission: Masterclass to Mastermind (Call #22)
DESCRIPTION:6:00 PM to 7:30 PM Pacific Time(7:00 PM – 8:30 PM Mountain; 8:00 PM – 9:30 PM Central; 9:00 PM – 10:30 PM pm Eastern; 10:00 PM – 11:30 PM Atlantic.)
URL:https://thewayoftheheart.com/event/life-mission-masterclass-to-mastermind-call-22-2/
CATEGORIES:Telebridge
END:VEVENT
BEGIN:VEVENT
DTSTART;TZID=UTC:20251104T170000
DTEND;TZID=UTC:20251104T181500
DTSTAMP:20260420T040942
CREATED:20250213T192751Z
LAST-MODIFIED:20250213T192751Z
UID:1962-1762275600-1762280100@thewayoftheheart.com
SUMMARY:Transforming Grief & Shadow (Call #5)
DESCRIPTION:5:00 PM to 6:15 PM Pacific Time(6:00 PM – 7:15 PM Mountain; 7:00 PM – 8:15 PM Central; 8:00 PM – 9:15 PM Eastern; 9:00 PM – 10:15 PM Atlantic.)
URL:https://thewayoftheheart.com/event/transforming-grief-shadow-call-5-6/
CATEGORIES:Telebridge
END:VEVENT
BEGIN:VEVENT
DTSTART;TZID=UTC:20251102T170000
DTEND;TZID=UTC:20251102T181500
DTSTAMP:20260420T040942
CREATED:20250213T191825Z
LAST-MODIFIED:20250213T191825Z
UID:1885-1762102800-1762107300@thewayoftheheart.com
SUMMARY:Call to Love - Inner Life Mission Immersion (Call #37)
DESCRIPTION:5:00 PM to 6:15 PM Pacific Time(6:00 PM – 7:15 PM Mountain; 7:00 PM – 8:15 PM Central; 8:00 PM – 9:15 PM pm Eastern; 9:00 PM – 10:15 PM Atlantic.)
URL:https://thewayoftheheart.com/event/call-to-love-inner-life-mission-immersion-call-37/
CATEGORIES:Telebridge
END:VEVENT
BEGIN:VEVENT
DTSTART;TZID=UTC:20251028T170000
DTEND;TZID=UTC:20251028T181500
DTSTAMP:20260420T040942
CREATED:20250213T192750Z
LAST-MODIFIED:20250213T192750Z
UID:1961-1761670800-1761675300@thewayoftheheart.com
SUMMARY:Transforming Grief & Shadow (Call #4)
DESCRIPTION:5:00 PM to 6:15 PM Pacific Time(6:00 PM – 7:15 PM Mountain; 7:00 PM – 8:15 PM Central; 8:00 PM – 9:15 PM Eastern; 9:00 PM – 10:15 PM Atlantic.)
URL:https://thewayoftheheart.com/event/transforming-grief-shadow-call-4-6/
CATEGORIES:Telebridge
END:VEVENT
BEGIN:VEVENT
DTSTART;TZID=UTC:20251026T170000
DTEND;TZID=UTC:20251026T181500
DTSTAMP:20260420T040942
CREATED:20250213T191825Z
LAST-MODIFIED:20250213T191825Z
UID:1884-1761498000-1761502500@thewayoftheheart.com
SUMMARY:Call to Love - Inner Life Mission Immersion (Call #36)
DESCRIPTION:5:00 PM to 6:15 PM Pacific Time(6:00 PM – 7:15 PM Mountain; 7:00 PM – 8:15 PM Central; 8:00 PM – 9:15 PM pm Eastern; 9:00 PM – 10:15 PM Atlantic.)
URL:https://thewayoftheheart.com/event/call-to-love-inner-life-mission-immersion-call-36/
CATEGORIES:Telebridge
END:VEVENT
BEGIN:VEVENT
DTSTART;TZID=UTC:20251023T180000
DTEND;TZID=UTC:20251023T193000
DTSTAMP:20260420T040942
CREATED:20250213T192403Z
LAST-MODIFIED:20250213T192403Z
UID:1925-1761242400-1761247800@thewayoftheheart.com
SUMMARY:Life Mission: Masterclass to Mastermind (Call #21)
DESCRIPTION:6:00 PM to 7:30 PM Pacific Time(7:00 PM – 8:30 PM Mountain; 8:00 PM – 9:30 PM Central; 9:00 PM – 10:30 PM pm Eastern; 10:00 PM – 11:30 PM Atlantic.)
URL:https://thewayoftheheart.com/event/life-mission-masterclass-to-mastermind-call-21-2/
CATEGORIES:Telebridge
END:VEVENT
BEGIN:VEVENT
DTSTART;TZID=UTC:20251021T170000
DTEND;TZID=UTC:20251021T181500
DTSTAMP:20260420T040942
CREATED:20250213T192750Z
LAST-MODIFIED:20250213T192750Z
UID:1960-1761066000-1761070500@thewayoftheheart.com
SUMMARY:Transforming Grief & Shadow (Call #3)
DESCRIPTION:5:00 PM to 6:15 PM Pacific Time(6:00 PM – 7:15 PM Mountain; 7:00 PM – 8:15 PM Central; 8:00 PM – 9:15 PM Eastern; 9:00 PM – 10:15 PM Atlantic.)
URL:https://thewayoftheheart.com/event/transforming-grief-shadow-call-3-6/
CATEGORIES:Telebridge
END:VEVENT
BEGIN:VEVENT
DTSTART;TZID=UTC:20251019T170000
DTEND;TZID=UTC:20251019T181500
DTSTAMP:20260420T040942
CREATED:20250213T191701Z
LAST-MODIFIED:20250213T191701Z
UID:1883-1760893200-1760897700@thewayoftheheart.com
SUMMARY:Call to Love - Inner Life Mission Immersion (Call #35)
DESCRIPTION:5:00 PM to 6:15 PM Pacific Time(6:00 PM – 7:15 PM Mountain; 7:00 PM – 8:15 PM Central; 8:00 PM – 9:15 PM pm Eastern; 9:00 PM – 10:15 PM Atlantic.)
URL:https://thewayoftheheart.com/event/call-to-love-inner-life-mission-immersion-call-35/
CATEGORIES:Telebridge
END:VEVENT
BEGIN:VEVENT
DTSTART;VALUE=DATE:20251018
DTEND;VALUE=DATE:20251019
DTSTAMP:20260420T040942
CREATED:20250213T190758Z
LAST-MODIFIED:20250611T133445Z
UID:1844-1760745600-1760831999@thewayoftheheart.com
SUMMARY:Exploring the Inner Life Alchemical Retreat Gateway
DESCRIPTION:
URL:https://thewayoftheheart.com/event/exploring-the-inner-life-alchemical-retreat-gateway-6/
LOCATION:Online training via Zoom
CATEGORIES:Advanced class
END:VEVENT
BEGIN:VEVENT
DTSTART;TZID=UTC:20251014T170000
DTEND;TZID=UTC:20251014T181500
DTSTAMP:20260420T040942
CREATED:20250213T192750Z
LAST-MODIFIED:20250213T192750Z
UID:1959-1760461200-1760465700@thewayoftheheart.com
SUMMARY:Transforming Grief & Shadow (Call #2)
DESCRIPTION:5:00 PM to 6:15 PM Pacific Time(6:00 PM – 7:15 PM Mountain; 7:00 PM – 8:15 PM Central; 8:00 PM – 9:15 PM Eastern; 9:00 PM – 10:15 PM Atlantic.)
URL:https://thewayoftheheart.com/event/transforming-grief-shadow-call-2-6/
CATEGORIES:Telebridge
END:VEVENT
BEGIN:VEVENT
DTSTART;TZID=UTC:20251012T170000
DTEND;TZID=UTC:20251012T181500
DTSTAMP:20260420T040942
CREATED:20250213T191701Z
LAST-MODIFIED:20250213T191701Z
UID:1882-1760288400-1760292900@thewayoftheheart.com
SUMMARY:Call to Love - Inner Life Mission Immersion (Call #34)
DESCRIPTION:5:00 PM to 6:15 PM Pacific Time(6:00 PM – 7:15 PM Mountain; 7:00 PM – 8:15 PM Central; 8:00 PM – 9:15 PM pm Eastern; 9:00 PM – 10:15 PM Atlantic.)
URL:https://thewayoftheheart.com/event/call-to-love-inner-life-mission-immersion-call-34/
CATEGORIES:Telebridge
END:VEVENT
BEGIN:VEVENT
DTSTART;TZID=UTC:20251009T180000
DTEND;TZID=UTC:20251009T193000
DTSTAMP:20260420T040942
CREATED:20250213T192348Z
LAST-MODIFIED:20250213T192348Z
UID:1924-1760032800-1760038200@thewayoftheheart.com
SUMMARY:Life Mission: Masterclass to Mastermind (Call #20)
DESCRIPTION:6:00 PM to 7:30 PM Pacific Time(7:00 PM – 8:30 PM Mountain; 8:00 PM – 9:30 PM Central; 9:00 PM – 10:30 PM pm Eastern; 10:00 PM – 11:30 PM Atlantic.)
URL:https://thewayoftheheart.com/event/life-mission-masterclass-to-mastermind-call-20-3/
CATEGORIES:Telebridge
END:VEVENT
BEGIN:VEVENT
DTSTART;TZID=UTC:20251007T170000
DTEND;TZID=UTC:20251007T181500
DTSTAMP:20260420T040942
CREATED:20250213T192750Z
LAST-MODIFIED:20250213T192750Z
UID:1958-1759856400-1759860900@thewayoftheheart.com
SUMMARY:Transforming Grief & Shadow (Call #1)
DESCRIPTION:5:00 PM to 6:15 PM Pacific Time(6:00 PM – 7:15 PM Mountain; 7:00 PM – 8:15 PM Central; 8:00 PM – 9:15 PM Eastern; 9:00 PM – 10:15 PM Atlantic.)
URL:https://thewayoftheheart.com/event/transforming-grief-shadow-call-1-6/
CATEGORIES:Telebridge
END:VEVENT
BEGIN:VEVENT
DTSTART;TZID=UTC:20251005T170000
DTEND;TZID=UTC:20251005T181500
DTSTAMP:20260420T040942
CREATED:20250213T191701Z
LAST-MODIFIED:20250213T191701Z
UID:1881-1759683600-1759688100@thewayoftheheart.com
SUMMARY:Call to Love - Inner Life Mission Immersion (Call #33)
DESCRIPTION:5:00 PM to 6:15 PM Pacific Time(6:00 PM – 7:15 PM Mountain; 7:00 PM – 8:15 PM Central; 8:00 PM – 9:15 PM pm Eastern; 9:00 PM – 10:15 PM Atlantic.)
URL:https://thewayoftheheart.com/event/call-to-love-inner-life-mission-immersion-call-33/
CATEGORIES:Telebridge
END:VEVENT
BEGIN:VEVENT
DTSTART;VALUE=DATE:20251003
DTEND;VALUE=DATE:20251006
DTSTAMP:20260420T040942
CREATED:20250213T190655Z
LAST-MODIFIED:20250213T190655Z
UID:1833-1759449600-1759708799@thewayoftheheart.com
SUMMARY:Level II Field Training
DESCRIPTION:
URL:https://thewayoftheheart.com/event/level-ii-field-training-10/
CATEGORIES:Foundation class
END:VEVENT
BEGIN:VEVENT
DTSTART;TZID=UTC:20250928T170000
DTEND;TZID=UTC:20250928T181500
DTSTAMP:20260420T040942
CREATED:20250213T191700Z
LAST-MODIFIED:20250213T191700Z
UID:1880-1759078800-1759083300@thewayoftheheart.com
SUMMARY:Call to Love - Inner Life Mission Immersion (Call #32)
DESCRIPTION:5:00 PM to 6:15 PM Pacific Time(6:00 PM – 7:15 PM Mountain; 7:00 PM – 8:15 PM Central; 8:00 PM – 9:15 PM pm Eastern; 9:00 PM – 10:15 PM Atlantic.)
URL:https://thewayoftheheart.com/event/call-to-love-inner-life-mission-immersion-call-32/
CATEGORIES:Telebridge
END:VEVENT
BEGIN:VEVENT
DTSTART;VALUE=DATE:20250926
DTEND;VALUE=DATE:20250929
DTSTAMP:20260420T040942
CREATED:20250213T190655Z
LAST-MODIFIED:20250213T190655Z
UID:1832-1758844800-1759103999@thewayoftheheart.com
SUMMARY:Level I Field Training
DESCRIPTION:
URL:https://thewayoftheheart.com/event/level-i-field-training-10/
CATEGORIES:Foundation class
END:VEVENT
BEGIN:VEVENT
DTSTART;TZID=UTC:20250925T180000
DTEND;TZID=UTC:20250925T193000
DTSTAMP:20260420T040942
CREATED:20250213T192348Z
LAST-MODIFIED:20250213T192348Z
UID:1923-1758823200-1758828600@thewayoftheheart.com
SUMMARY:Life Mission: Masterclass to Mastermind (Call #19)
DESCRIPTION:6:00 PM to 7:30 PM Pacific Time(7:00 PM – 8:30 PM Mountain; 8:00 PM – 9:30 PM Central; 9:00 PM – 10:30 PM pm Eastern; 10:00 PM – 11:30 PM Atlantic.)
URL:https://thewayoftheheart.com/event/life-mission-masterclass-to-mastermind-call-19-3/
CATEGORIES:Telebridge
END:VEVENT
BEGIN:VEVENT
DTSTART;TZID=UTC:20250921T170000
DTEND;TZID=UTC:20250921T181500
DTSTAMP:20260420T040942
CREATED:20250213T191700Z
LAST-MODIFIED:20250213T191700Z
UID:1879-1758474000-1758478500@thewayoftheheart.com
SUMMARY:Call to Love - Inner Life Mission Immersion (Call #31)
DESCRIPTION:5:00 PM to 6:15 PM Pacific Time(6:00 PM – 7:15 PM Mountain; 7:00 PM – 8:15 PM Central; 8:00 PM – 9:15 PM pm Eastern; 9:00 PM – 10:15 PM Atlantic.)
URL:https://thewayoftheheart.com/event/call-to-love-inner-life-mission-immersion-call-31/
CATEGORIES:Telebridge
END:VEVENT
BEGIN:VEVENT
DTSTART;TZID=UTC:20250914T170000
DTEND;TZID=UTC:20250914T181500
DTSTAMP:20260420T040942
CREATED:20250213T191501Z
LAST-MODIFIED:20250213T191501Z
UID:1878-1757869200-1757873700@thewayoftheheart.com
SUMMARY:Call to Love - Inner Life Mission Immersion (Call #30)
DESCRIPTION:5:00 PM to 6:15 PM Pacific Time(6:00 PM – 7:15 PM Mountain; 7:00 PM – 8:15 PM Central; 8:00 PM – 9:15 PM pm Eastern; 9:00 PM – 10:15 PM Atlantic.)
URL:https://thewayoftheheart.com/event/call-to-love-inner-life-mission-immersion-call-30/
CATEGORIES:Telebridge
END:VEVENT
BEGIN:VEVENT
DTSTART;TZID=UTC:20250911T180000
DTEND;TZID=UTC:20250911T193000
DTSTAMP:20260420T040942
CREATED:20250213T192348Z
LAST-MODIFIED:20250213T192348Z
UID:1922-1757613600-1757619000@thewayoftheheart.com
SUMMARY:Life Mission: Masterclass to Mastermind (Call #18)
DESCRIPTION:6:00 PM to 7:30 PM Pacific Time(7:00 PM – 8:30 PM Mountain; 8:00 PM – 9:30 PM Central; 9:00 PM – 10:30 PM pm Eastern; 10:00 PM – 11:30 PM Atlantic.)
URL:https://thewayoftheheart.com/event/life-mission-masterclass-to-mastermind-call-18-3/
CATEGORIES:Telebridge
END:VEVENT
BEGIN:VEVENT
DTSTART;TZID=UTC:20250907T170000
DTEND;TZID=UTC:20250907T181500
DTSTAMP:20260420T040942
CREATED:20250213T191501Z
LAST-MODIFIED:20250213T191501Z
UID:1877-1757264400-1757268900@thewayoftheheart.com
SUMMARY:Call to Love - Inner Life Mission Immersion (Call #29)
DESCRIPTION:5:00 PM to 6:15 PM Pacific Time(6:00 PM – 7:15 PM Mountain; 7:00 PM – 8:15 PM Central; 8:00 PM – 9:15 PM pm Eastern; 9:00 PM – 10:15 PM Atlantic.)
URL:https://thewayoftheheart.com/event/call-to-love-inner-life-mission-immersion-call-29/
CATEGORIES:Telebridge
END:VEVENT
BEGIN:VEVENT
DTSTART;TZID=UTC:20250831T170000
DTEND;TZID=UTC:20250831T181500
DTSTAMP:20260420T040942
CREATED:20250213T191501Z
LAST-MODIFIED:20250213T191501Z
UID:1876-1756659600-1756664100@thewayoftheheart.com
SUMMARY:Call to Love - Inner Life Mission Immersion (Call #28)
DESCRIPTION:5:00 PM to 6:15 PM Pacific Time(6:00 PM – 7:15 PM Mountain; 7:00 PM – 8:15 PM Central; 8:00 PM – 9:15 PM pm Eastern; 9:00 PM – 10:15 PM Atlantic.)
URL:https://thewayoftheheart.com/event/call-to-love-inner-life-mission-immersion-call-28/
CATEGORIES:Telebridge
END:VEVENT
BEGIN:VEVENT
DTSTART;TZID=UTC:20250828T180000
DTEND;TZID=UTC:20250828T193000
DTSTAMP:20260420T040942
CREATED:20250213T192348Z
LAST-MODIFIED:20250213T192348Z
UID:1921-1756404000-1756409400@thewayoftheheart.com
SUMMARY:Life Mission: Masterclass to Mastermind (Call #17)
DESCRIPTION:6:00 PM to 7:30 PM Pacific Time(7:00 PM – 8:30 PM Mountain; 8:00 PM – 9:30 PM Central; 9:00 PM – 10:30 PM pm Eastern; 10:00 PM – 11:30 PM Atlantic.)
URL:https://thewayoftheheart.com/event/life-mission-masterclass-to-mastermind-call-17-3/
CATEGORIES:Telebridge
END:VEVENT
BEGIN:VEVENT
DTSTART;VALUE=DATE:20250826
DTEND;VALUE=DATE:20250829
DTSTAMP:20260420T040942
CREATED:20250213T190757Z
LAST-MODIFIED:20250213T190757Z
UID:1843-1756166400-1756425599@thewayoftheheart.com
SUMMARY:Women's Alchemical Healing Retreat
DESCRIPTION:
URL:https://thewayoftheheart.com/event/womens-alchemical-healing-retreat-3/
CATEGORIES:Advanced class
END:VEVENT
BEGIN:VEVENT
DTSTART;TZID=UTC:20250824T170000
DTEND;TZID=UTC:20250824T181500
DTSTAMP:20260420T040942
CREATED:20250213T191501Z
LAST-MODIFIED:20250213T191501Z
UID:1875-1756054800-1756059300@thewayoftheheart.com
SUMMARY:Call to Love - Inner Life Mission Immersion (Call #27)
DESCRIPTION:5:00 PM to 6:15 PM Pacific Time(6:00 PM – 7:15 PM Mountain; 7:00 PM – 8:15 PM Central; 8:00 PM – 9:15 PM pm Eastern; 9:00 PM – 10:15 PM Atlantic.)
URL:https://thewayoftheheart.com/event/call-to-love-inner-life-mission-immersion-call-27/
CATEGORIES:Telebridge
END:VEVENT
BEGIN:VEVENT
DTSTART;VALUE=DATE:20250823
DTEND;VALUE=DATE:20250826
DTSTAMP:20260420T040942
CREATED:20250213T190757Z
LAST-MODIFIED:20250213T190757Z
UID:1842-1755907200-1756166399@thewayoftheheart.com
SUMMARY:Awakening the Inner Life Alchemical Retreat
DESCRIPTION:
URL:https://thewayoftheheart.com/event/awakening-the-inner-life-alchemical-retreat/
CATEGORIES:Advanced class
END:VEVENT
BEGIN:VEVENT
DTSTART;TZID=UTC:20250817T170000
DTEND;TZID=UTC:20250817T181500
DTSTAMP:20260420T040942
CREATED:20250213T191500Z
LAST-MODIFIED:20250213T191500Z
UID:1874-1755450000-1755454500@thewayoftheheart.com
SUMMARY:Call to Love - Inner Life Mission Immersion (Call #26)
DESCRIPTION:5:00 PM to 6:15 PM Pacific Time(6:00 PM – 7:15 PM Mountain; 7:00 PM – 8:15 PM Central; 8:00 PM – 9:15 PM pm Eastern; 9:00 PM – 10:15 PM Atlantic.)
URL:https://thewayoftheheart.com/event/call-to-love-inner-life-mission-immersion-call-26/
CATEGORIES:Telebridge
END:VEVENT
END:VCALENDAR