BEGIN:VCALENDAR
VERSION:2.0
PRODID:-//The Way of the Heart - ECPv6.15.20//NONSGML v1.0//EN
CALSCALE:GREGORIAN
METHOD:PUBLISH
X-WR-CALNAME:The Way of the Heart
X-ORIGINAL-URL:https://thewayoftheheart.com
X-WR-CALDESC:Events for The Way of the Heart
REFRESH-INTERVAL;VALUE=DURATION:PT1H
X-Robots-Tag:noindex
X-PUBLISHED-TTL:PT1H
BEGIN:VTIMEZONE
TZID:America/Los_Angeles
BEGIN:DAYLIGHT
TZOFFSETFROM:-0800
TZOFFSETTO:-0700
TZNAME:PDT
DTSTART:20250309T100000
END:DAYLIGHT
BEGIN:STANDARD
TZOFFSETFROM:-0700
TZOFFSETTO:-0800
TZNAME:PST
DTSTART:20251102T090000
END:STANDARD
BEGIN:DAYLIGHT
TZOFFSETFROM:-0800
TZOFFSETTO:-0700
TZNAME:PDT
DTSTART:20260308T100000
END:DAYLIGHT
BEGIN:STANDARD
TZOFFSETFROM:-0700
TZOFFSETTO:-0800
TZNAME:PST
DTSTART:20261101T090000
END:STANDARD
BEGIN:DAYLIGHT
TZOFFSETFROM:-0800
TZOFFSETTO:-0700
TZNAME:PDT
DTSTART:20270314T100000
END:DAYLIGHT
BEGIN:STANDARD
TZOFFSETFROM:-0700
TZOFFSETTO:-0800
TZNAME:PST
DTSTART:20271107T090000
END:STANDARD
END:VTIMEZONE
BEGIN:VTIMEZONE
TZID:UTC
BEGIN:STANDARD
TZOFFSETFROM:+0000
TZOFFSETTO:+0000
TZNAME:UTC
DTSTART:20250101T000000
END:STANDARD
END:VTIMEZONE
BEGIN:VEVENT
DTSTART;TZID=America/Los_Angeles:20260930T090000
DTEND;TZID=America/Los_Angeles:20260930T094000
DTSTAMP:20260420T070020
CREATED:20251125T191418Z
LAST-MODIFIED:20251125T191418Z
UID:2189-1790758800-1790761200@thewayoftheheart.com
SUMMARY:The Art of Being and Becoming 2026 (Call #32)
DESCRIPTION:9:00 AM to 9:40 AM Pacific Time(10:00 AM – 10:40 AM Mountain; 11:00 AM – 11:40 AM Central; 12:00 PM – 12:40 PM pm Eastern; 1:00 PM – 1:40 PM Atlantic.)
URL:https://thewayoftheheart.com/event/the-art-of-being-and-becoming-2026-call-32/
LOCATION:Telebridge
CATEGORIES:Telebridge
END:VEVENT
BEGIN:VEVENT
DTSTART;VALUE=DATE:20261002
DTEND;VALUE=DATE:20261005
DTSTAMP:20260420T070020
CREATED:20251125T153724Z
LAST-MODIFIED:20251125T154228Z
UID:1975-1790899200-1791158399@thewayoftheheart.com
SUMMARY:Level II Field Training
DESCRIPTION:
URL:https://thewayoftheheart.com/event/level-ii-field-training-12/
LOCATION:Vancouver\, British Columbia & via Zoom\, Canada
CATEGORIES:Foundation class
END:VEVENT
BEGIN:VEVENT
DTSTART;TZID=UTC:20261004T170000
DTEND;TZID=UTC:20261004T181500
DTSTAMP:20260420T070020
CREATED:20251202T190509Z
LAST-MODIFIED:20251202T190509Z
UID:2370-1791133200-1791137700@thewayoftheheart.com
SUMMARY:Call to Love - Inner Life Mission Immersion (Call #33)
DESCRIPTION:5:00 PM to 6:15 PM Pacific Time\n(6:00 PM – 7:15 PM Mountain; 7:00 PM – 8:15 PM Central; 8:00 PM – 9:15 PM pm Eastern; 9:00 PM – 10:15 PM Atlantic.)
URL:https://thewayoftheheart.com/event/call-to-love-inner-life-mission-immersion-call-33-2/
LOCATION:Telebridge
CATEGORIES:Telebridge
END:VEVENT
BEGIN:VEVENT
DTSTART;TZID=America/Los_Angeles:20261006T170000
DTEND;TZID=America/Los_Angeles:20261006T181500
DTSTAMP:20260420T070020
CREATED:20251125T191701Z
LAST-MODIFIED:20251125T191701Z
UID:2205-1791306000-1791310500@thewayoftheheart.com
SUMMARY:Transforming Grief & Shadow (Call #1)
DESCRIPTION:5:00 PM to 6:15 PM Pacific Time(6:00 PM – 7:15 PM Mountain; 7:00 PM – 8:15 PM Central; 8:00 PM – 9:15 PM pm Eastern; 9:00 PM – 10:15 PM Atlantic.)
URL:https://thewayoftheheart.com/event/transforming-grief-shadow-call-1-7/
LOCATION:Telebridge
CATEGORIES:Telebridge
END:VEVENT
BEGIN:VEVENT
DTSTART;TZID=America/Los_Angeles:20261007T090000
DTEND;TZID=America/Los_Angeles:20261007T094000
DTSTAMP:20260420T070020
CREATED:20251125T191418Z
LAST-MODIFIED:20251125T191418Z
UID:2190-1791363600-1791366000@thewayoftheheart.com
SUMMARY:The Art of Being and Becoming 2026 (Call #33)
DESCRIPTION:9:00 AM to 9:40 AM Pacific Time(10:00 AM – 10:40 AM Mountain; 11:00 AM – 11:40 AM Central; 12:00 PM – 12:40 PM pm Eastern; 1:00 PM – 1:40 PM Atlantic.)
URL:https://thewayoftheheart.com/event/the-art-of-being-and-becoming-2026-call-33/
LOCATION:Telebridge
CATEGORIES:Telebridge
END:VEVENT
BEGIN:VEVENT
DTSTART;TZID=America/Los_Angeles:20261008T180000
DTEND;TZID=America/Los_Angeles:20261008T193000
DTSTAMP:20260420T070020
CREATED:20251125T190949Z
LAST-MODIFIED:20251125T190949Z
UID:2146-1791482400-1791487800@thewayoftheheart.com
SUMMARY:Life Mission: Masterclass to Mastermind (Call #20)
DESCRIPTION:6:00 PM to 7:30 PM Pacific Time(7:00 PM – 8:30 PM Mountain; 8:00 PM – 9:30 PM Central; 9:00 PM – 10:30 PM pm Eastern; 10:00 PM – 11:30 PM Atlantic.)
URL:https://thewayoftheheart.com/event/life-mission-masterclass-to-mastermind-call-20-4/
LOCATION:Zoom
CATEGORIES:Telebridge
END:VEVENT
BEGIN:VEVENT
DTSTART;TZID=UTC:20261011T170000
DTEND;TZID=UTC:20261011T181500
DTSTAMP:20260420T070020
CREATED:20251125T160746Z
LAST-MODIFIED:20251202T185124Z
UID:2033-1791738000-1791742500@thewayoftheheart.com
SUMMARY:Call to Love - Inner Life Mission Immersion (Call #34)
DESCRIPTION:5:00 PM to 6:15 PM Pacific Time(6:00 PM – 7:15 PM Mountain; 7:00 PM – 8:15 PM Central; 8:00 PM – 9:15 PM pm Eastern; 9:00 PM – 10:15 PM Atlantic.)
URL:https://thewayoftheheart.com/event/call-to-love-inner-life-mission-immersion-call-34-2/
LOCATION:Telebridge
CATEGORIES:Telebridge
END:VEVENT
BEGIN:VEVENT
DTSTART;TZID=America/Los_Angeles:20261013T170000
DTEND;TZID=America/Los_Angeles:20261013T181500
DTSTAMP:20260420T070020
CREATED:20251125T191701Z
LAST-MODIFIED:20251125T191701Z
UID:2206-1791910800-1791915300@thewayoftheheart.com
SUMMARY:Transforming Grief & Shadow (Call #2)
DESCRIPTION:5:00 PM to 6:15 PM Pacific Time(6:00 PM – 7:15 PM Mountain; 7:00 PM – 8:15 PM Central; 8:00 PM – 9:15 PM pm Eastern; 9:00 PM – 10:15 PM Atlantic.)
URL:https://thewayoftheheart.com/event/transforming-grief-shadow-call-2-7/
LOCATION:Telebridge
CATEGORIES:Telebridge
END:VEVENT
BEGIN:VEVENT
DTSTART;TZID=America/Los_Angeles:20261014T090000
DTEND;TZID=America/Los_Angeles:20261014T094000
DTSTAMP:20260420T070020
CREATED:20251125T191418Z
LAST-MODIFIED:20251125T191418Z
UID:2191-1791968400-1791970800@thewayoftheheart.com
SUMMARY:The Art of Being and Becoming 2026 (Call #34)
DESCRIPTION:9:00 AM to 9:40 AM Pacific Time(10:00 AM – 10:40 AM Mountain; 11:00 AM – 11:40 AM Central; 12:00 PM – 12:40 PM pm Eastern; 1:00 PM – 1:40 PM Atlantic.)
URL:https://thewayoftheheart.com/event/the-art-of-being-and-becoming-2026-call-34/
LOCATION:Telebridge
CATEGORIES:Telebridge
END:VEVENT
BEGIN:VEVENT
DTSTART;TZID=UTC:20261018T170000
DTEND;TZID=UTC:20261018T181500
DTSTAMP:20260420T070020
CREATED:20251202T190854Z
LAST-MODIFIED:20251202T190854Z
UID:2372-1792342800-1792347300@thewayoftheheart.com
SUMMARY:Call to Love - Inner Life Mission Immersion (Call #35)
DESCRIPTION:5:00 PM to 6:15 PM Pacific Time\n(6:00 PM – 7:15 PM Mountain; 7:00 PM – 8:15 PM Central; 8:00 PM – 9:15 PM pm Eastern; 9:00 PM – 10:15 PM Atlantic.)
URL:https://thewayoftheheart.com/event/call-to-love-inner-life-mission-immersion-call-35-2026/
LOCATION:Telebridge
CATEGORIES:Telebridge
END:VEVENT
BEGIN:VEVENT
DTSTART;TZID=America/Los_Angeles:20261020T170000
DTEND;TZID=America/Los_Angeles:20261020T181500
DTSTAMP:20260420T070020
CREATED:20251125T191702Z
LAST-MODIFIED:20251125T191702Z
UID:2207-1792515600-1792520100@thewayoftheheart.com
SUMMARY:Transforming Grief & Shadow (Call #3)
DESCRIPTION:5:00 PM to 6:15 PM Pacific Time(6:00 PM – 7:15 PM Mountain; 7:00 PM – 8:15 PM Central; 8:00 PM – 9:15 PM pm Eastern; 9:00 PM – 10:15 PM Atlantic.)
URL:https://thewayoftheheart.com/event/transforming-grief-shadow-call-3-7/
LOCATION:Telebridge
CATEGORIES:Telebridge
END:VEVENT
BEGIN:VEVENT
DTSTART;TZID=America/Los_Angeles:20261021T090000
DTEND;TZID=America/Los_Angeles:20261021T094000
DTSTAMP:20260420T070020
CREATED:20251125T191418Z
LAST-MODIFIED:20251125T191418Z
UID:2192-1792573200-1792575600@thewayoftheheart.com
SUMMARY:The Art of Being and Becoming 2026 (Call #35)
DESCRIPTION:9:00 AM to 9:40 AM Pacific Time(10:00 AM – 10:40 AM Mountain; 11:00 AM – 11:40 AM Central; 12:00 PM – 12:40 PM pm Eastern; 1:00 PM – 1:40 PM Atlantic.)
URL:https://thewayoftheheart.com/event/the-art-of-being-and-becoming-2026-call-35/
LOCATION:Telebridge
CATEGORIES:Telebridge
END:VEVENT
BEGIN:VEVENT
DTSTART;TZID=America/Los_Angeles:20261022T180000
DTEND;TZID=America/Los_Angeles:20261022T193000
DTSTAMP:20260420T070020
CREATED:20251125T191039Z
LAST-MODIFIED:20251125T191039Z
UID:2147-1792692000-1792697400@thewayoftheheart.com
SUMMARY:Life Mission: Masterclass to Mastermind (Call #21)
DESCRIPTION:6:00 PM to 7:30 PM Pacific Time(7:00 PM – 8:30 PM Mountain; 8:00 PM – 9:30 PM Central; 9:00 PM – 10:30 PM pm Eastern; 10:00 PM – 11:30 PM Atlantic.)
URL:https://thewayoftheheart.com/event/life-mission-masterclass-to-mastermind-call-21-3/
LOCATION:Zoom
CATEGORIES:Telebridge
END:VEVENT
BEGIN:VEVENT
DTSTART;VALUE=DATE:20261025
DTEND;VALUE=DATE:20261026
DTSTAMP:20260420T070020
CREATED:20251125T153724Z
LAST-MODIFIED:20260304T163405Z
UID:1976-1792886400-1792972799@thewayoftheheart.com
SUMMARY:Exploring the Inner Life Gateway
DESCRIPTION:
URL:https://thewayoftheheart.com/event/exploring-the-inner-life-gateway/
LOCATION:Zoom Retreat w/ Kimberly
CATEGORIES:Foundation class
END:VEVENT
BEGIN:VEVENT
DTSTART;TZID=UTC:20261025T170000
DTEND;TZID=UTC:20261025T181500
DTSTAMP:20260420T070020
CREATED:20251125T160752Z
LAST-MODIFIED:20251202T185118Z
UID:2035-1792947600-1792952100@thewayoftheheart.com
SUMMARY:Call to Love - Inner Life Mission Immersion (Call #36)
DESCRIPTION:5:00 PM to 6:15 PM Pacific Time(6:00 PM – 7:15 PM Mountain; 7:00 PM – 8:15 PM Central; 8:00 PM – 9:15 PM pm Eastern; 9:00 PM – 10:15 PM Atlantic.)
URL:https://thewayoftheheart.com/event/call-to-love-inner-life-mission-immersion-call-36-2/
LOCATION:Telebridge
CATEGORIES:Telebridge
END:VEVENT
BEGIN:VEVENT
DTSTART;TZID=America/Los_Angeles:20261027T170000
DTEND;TZID=America/Los_Angeles:20261027T181500
DTSTAMP:20260420T070020
CREATED:20251125T191702Z
LAST-MODIFIED:20251125T191702Z
UID:2208-1793120400-1793124900@thewayoftheheart.com
SUMMARY:Transforming Grief & Shadow (Call #4)
DESCRIPTION:5:00 PM to 6:15 PM Pacific Time(6:00 PM – 7:15 PM Mountain; 7:00 PM – 8:15 PM Central; 8:00 PM – 9:15 PM pm Eastern; 9:00 PM – 10:15 PM Atlantic.)
URL:https://thewayoftheheart.com/event/transforming-grief-shadow-call-4-7/
LOCATION:Telebridge
CATEGORIES:Telebridge
END:VEVENT
BEGIN:VEVENT
DTSTART;TZID=America/Los_Angeles:20261028T090000
DTEND;TZID=America/Los_Angeles:20261028T094000
DTSTAMP:20260420T070020
CREATED:20251125T191432Z
LAST-MODIFIED:20251125T191432Z
UID:2193-1793178000-1793180400@thewayoftheheart.com
SUMMARY:The Art of Being and Becoming 2026 (Call #36)
DESCRIPTION:9:00 AM to 9:40 AM Pacific Time(10:00 AM – 10:40 AM Mountain; 11:00 AM – 11:40 AM Central; 12:00 PM – 12:40 PM pm Eastern; 1:00 PM – 1:40 PM Atlantic.)
URL:https://thewayoftheheart.com/event/the-art-of-being-and-becoming-2026-call-36/
LOCATION:Telebridge
CATEGORIES:Telebridge
END:VEVENT
BEGIN:VEVENT
DTSTART;TZID=UTC:20261101T170000
DTEND;TZID=UTC:20261101T181500
DTSTAMP:20260420T070020
CREATED:20251125T160752Z
LAST-MODIFIED:20251202T185113Z
UID:2036-1793552400-1793556900@thewayoftheheart.com
SUMMARY:Call to Love - Inner Life Mission Immersion (Call #37)
DESCRIPTION:5:00 PM to 6:15 PM Pacific Time(6:00 PM – 7:15 PM Mountain; 7:00 PM – 8:15 PM Central; 8:00 PM – 9:15 PM pm Eastern; 9:00 PM – 10:15 PM Atlantic.)
URL:https://thewayoftheheart.com/event/call-to-love-inner-life-mission-immersion-call-37-2/
LOCATION:Telebridge
CATEGORIES:Telebridge
END:VEVENT
BEGIN:VEVENT
DTSTART;TZID=America/Los_Angeles:20261103T170000
DTEND;TZID=America/Los_Angeles:20261103T181500
DTSTAMP:20260420T070020
CREATED:20251125T191703Z
LAST-MODIFIED:20251125T191703Z
UID:2209-1793725200-1793729700@thewayoftheheart.com
SUMMARY:Transforming Grief & Shadow (Call #5)
DESCRIPTION:5:00 PM to 6:15 PM Pacific Time(6:00 PM – 7:15 PM Mountain; 7:00 PM – 8:15 PM Central; 8:00 PM – 9:15 PM pm Eastern; 9:00 PM – 10:15 PM Atlantic.)
URL:https://thewayoftheheart.com/event/transforming-grief-shadow-call-5-7/
LOCATION:Telebridge
CATEGORIES:Telebridge
END:VEVENT
BEGIN:VEVENT
DTSTART;TZID=America/Los_Angeles:20261104T090000
DTEND;TZID=America/Los_Angeles:20261104T094000
DTSTAMP:20260420T070020
CREATED:20251125T191433Z
LAST-MODIFIED:20251125T191433Z
UID:2194-1793782800-1793785200@thewayoftheheart.com
SUMMARY:The Art of Being and Becoming 2026 (Call #37)
DESCRIPTION:9:00 AM to 9:40 AM Pacific Time(10:00 AM – 10:40 AM Mountain; 11:00 AM – 11:40 AM Central; 12:00 PM – 12:40 PM pm Eastern; 1:00 PM – 1:40 PM Atlantic.)
URL:https://thewayoftheheart.com/event/the-art-of-being-and-becoming-2026-call-37/
LOCATION:Telebridge
CATEGORIES:Telebridge
END:VEVENT
BEGIN:VEVENT
DTSTART;TZID=America/Los_Angeles:20261105T180000
DTEND;TZID=America/Los_Angeles:20261105T193000
DTSTAMP:20260420T070020
CREATED:20251125T191039Z
LAST-MODIFIED:20251125T191039Z
UID:2148-1793901600-1793907000@thewayoftheheart.com
SUMMARY:Life Mission: Masterclass to Mastermind (Call #22)
DESCRIPTION:6:00 PM to 7:30 PM Pacific Time(7:00 PM – 8:30 PM Mountain; 8:00 PM – 9:30 PM Central; 9:00 PM – 10:30 PM pm Eastern; 10:00 PM – 11:30 PM Atlantic.)
URL:https://thewayoftheheart.com/event/life-mission-masterclass-to-mastermind-call-22-3/
LOCATION:Zoom
CATEGORIES:Telebridge
END:VEVENT
BEGIN:VEVENT
DTSTART;TZID=UTC:20261108T170000
DTEND;TZID=UTC:20261108T181500
DTSTAMP:20260420T070020
CREATED:20251125T160752Z
LAST-MODIFIED:20251202T185133Z
UID:2037-1794157200-1794161700@thewayoftheheart.com
SUMMARY:Call to Love - Inner Life Mission Immersion (Call #38)
DESCRIPTION:5:00 PM to 6:15 PM Pacific Time(6:00 PM – 7:15 PM Mountain; 7:00 PM – 8:15 PM Central; 8:00 PM – 9:15 PM pm Eastern; 9:00 PM – 10:15 PM Atlantic.)
URL:https://thewayoftheheart.com/event/call-to-love-inner-life-mission-immersion-call-38-2/
LOCATION:Telebridge
CATEGORIES:Telebridge
END:VEVENT
BEGIN:VEVENT
DTSTART;TZID=America/Los_Angeles:20261110T170000
DTEND;TZID=America/Los_Angeles:20261110T181500
DTSTAMP:20260420T070020
CREATED:20251125T191704Z
LAST-MODIFIED:20251125T191704Z
UID:2210-1794330000-1794334500@thewayoftheheart.com
SUMMARY:Transforming Grief & Shadow (Call #6)
DESCRIPTION:5:00 PM to 6:15 PM Pacific Time(6:00 PM – 7:15 PM Mountain; 7:00 PM – 8:15 PM Central; 8:00 PM – 9:15 PM pm Eastern; 9:00 PM – 10:15 PM Atlantic.)
URL:https://thewayoftheheart.com/event/transforming-grief-shadow-call-6-7/
LOCATION:Telebridge
CATEGORIES:Telebridge
END:VEVENT
BEGIN:VEVENT
DTSTART;TZID=America/Los_Angeles:20261111T090000
DTEND;TZID=America/Los_Angeles:20261111T094000
DTSTAMP:20260420T070020
CREATED:20251125T191433Z
LAST-MODIFIED:20251125T191433Z
UID:2195-1794387600-1794390000@thewayoftheheart.com
SUMMARY:The Art of Being and Becoming 2026 (Call #38)
DESCRIPTION:9:00 AM to 9:40 AM Pacific Time(10:00 AM – 10:40 AM Mountain; 11:00 AM – 11:40 AM Central; 12:00 PM – 12:40 PM pm Eastern; 1:00 PM – 1:40 PM Atlantic.)
URL:https://thewayoftheheart.com/event/the-art-of-being-and-becoming-2026-call-38/
LOCATION:Telebridge
CATEGORIES:Telebridge
END:VEVENT
BEGIN:VEVENT
DTSTART;TZID=UTC:20261115T170000
DTEND;TZID=UTC:20261115T181500
DTSTAMP:20260420T070020
CREATED:20251125T160752Z
LAST-MODIFIED:20251202T185710Z
UID:2038-1794762000-1794766500@thewayoftheheart.com
SUMMARY:Call to Love - Inner Life Mission Immersion (Call #39)
DESCRIPTION:5:00 PM to 6:15 PM Pacific Time(6:00 PM – 7:15 PM Mountain; 7:00 PM – 8:15 PM Central; 8:00 PM – 9:15 PM pm Eastern; 9:00 PM – 10:15 PM Atlantic.)
URL:https://thewayoftheheart.com/event/call-to-love-inner-life-mission-immersion-call-39-2/
LOCATION:Telebridge
CATEGORIES:Telebridge
END:VEVENT
BEGIN:VEVENT
DTSTART;TZID=America/Los_Angeles:20261118T090000
DTEND;TZID=America/Los_Angeles:20261118T094000
DTSTAMP:20260420T070020
CREATED:20251125T191433Z
LAST-MODIFIED:20251125T191433Z
UID:2196-1794992400-1794994800@thewayoftheheart.com
SUMMARY:The Art of Being and Becoming 2026 (Call #39)
DESCRIPTION:9:00 AM to 9:40 AM Pacific Time(10:00 AM – 10:40 AM Mountain; 11:00 AM – 11:40 AM Central; 12:00 PM – 12:40 PM pm Eastern; 1:00 PM – 1:40 PM Atlantic.)
URL:https://thewayoftheheart.com/event/the-art-of-being-and-becoming-2026-call-39/
LOCATION:Telebridge
CATEGORIES:Telebridge
END:VEVENT
BEGIN:VEVENT
DTSTART;TZID=America/Los_Angeles:20261119T180000
DTEND;TZID=America/Los_Angeles:20261119T193000
DTSTAMP:20260420T070020
CREATED:20251125T191040Z
LAST-MODIFIED:20251125T191040Z
UID:2149-1795111200-1795116600@thewayoftheheart.com
SUMMARY:Life Mission: Masterclass to Mastermind (Call #23)
DESCRIPTION:6:00 PM to 7:30 PM Pacific Time(7:00 PM – 8:30 PM Mountain; 8:00 PM – 9:30 PM Central; 9:00 PM – 10:30 PM pm Eastern; 10:00 PM – 11:30 PM Atlantic.)
URL:https://thewayoftheheart.com/event/life-mission-masterclass-to-mastermind-call-23-3/
LOCATION:Zoom
CATEGORIES:Telebridge
END:VEVENT
BEGIN:VEVENT
DTSTART;VALUE=DATE:20261120
DTEND;VALUE=DATE:20261123
DTSTAMP:20260420T070020
CREATED:20251125T154931Z
LAST-MODIFIED:20251125T154931Z
UID:1988-1795132800-1795391999@thewayoftheheart.com
SUMMARY:Level IV Stewardship of the Heart Advanced Field Training
DESCRIPTION:
URL:https://thewayoftheheart.com/event/level-iv-stewardship-of-the-heart-advanced-field-training/
LOCATION:Online training via Zoom
CATEGORIES:Advanced class
END:VEVENT
BEGIN:VEVENT
DTSTART;TZID=UTC:20261122T170000
DTEND;TZID=UTC:20261122T181500
DTSTAMP:20260420T070020
CREATED:20251125T160753Z
LAST-MODIFIED:20251202T185706Z
UID:2039-1795366800-1795371300@thewayoftheheart.com
SUMMARY:Call to Love - Inner Life Mission Immersion (Call #40)
DESCRIPTION:5:00 PM to 6:15 PM Pacific Time(6:00 PM – 7:15 PM Mountain; 7:00 PM – 8:15 PM Central; 8:00 PM – 9:15 PM pm Eastern; 9:00 PM – 10:15 PM Atlantic.)
URL:https://thewayoftheheart.com/event/call-to-love-inner-life-mission-immersion-call-40-2/
LOCATION:Telebridge
CATEGORIES:Telebridge
END:VEVENT
BEGIN:VEVENT
DTSTART;TZID=America/Los_Angeles:20261125T090000
DTEND;TZID=America/Los_Angeles:20261125T094000
DTSTAMP:20260420T070020
CREATED:20251125T191433Z
LAST-MODIFIED:20251125T191433Z
UID:2197-1795597200-1795599600@thewayoftheheart.com
SUMMARY:The Art of Being and Becoming 2026 (Call #40)
DESCRIPTION:9:00 AM to 9:40 AM Pacific Time(10:00 AM – 10:40 AM Mountain; 11:00 AM – 11:40 AM Central; 12:00 PM – 12:40 PM pm Eastern; 1:00 PM – 1:40 PM Atlantic.)
URL:https://thewayoftheheart.com/event/the-art-of-being-and-becoming-2026-call-40/
LOCATION:Telebridge
CATEGORIES:Telebridge
END:VEVENT
END:VCALENDAR