BEGIN:VCALENDAR
VERSION:2.0
PRODID:-//The Way of the Heart - ECPv6.15.20//NONSGML v1.0//EN
CALSCALE:GREGORIAN
METHOD:PUBLISH
X-WR-CALNAME:The Way of the Heart
X-ORIGINAL-URL:https://thewayoftheheart.com
X-WR-CALDESC:Events for The Way of the Heart
REFRESH-INTERVAL;VALUE=DURATION:PT1H
X-Robots-Tag:noindex
X-PUBLISHED-TTL:PT1H
BEGIN:VTIMEZONE
TZID:America/Los_Angeles
BEGIN:DAYLIGHT
TZOFFSETFROM:-0800
TZOFFSETTO:-0700
TZNAME:PDT
DTSTART:20170312T100000
END:DAYLIGHT
BEGIN:STANDARD
TZOFFSETFROM:-0700
TZOFFSETTO:-0800
TZNAME:PST
DTSTART:20171105T090000
END:STANDARD
BEGIN:DAYLIGHT
TZOFFSETFROM:-0800
TZOFFSETTO:-0700
TZNAME:PDT
DTSTART:20180311T100000
END:DAYLIGHT
BEGIN:STANDARD
TZOFFSETFROM:-0700
TZOFFSETTO:-0800
TZNAME:PST
DTSTART:20181104T090000
END:STANDARD
BEGIN:DAYLIGHT
TZOFFSETFROM:-0800
TZOFFSETTO:-0700
TZNAME:PDT
DTSTART:20190310T100000
END:DAYLIGHT
BEGIN:STANDARD
TZOFFSETFROM:-0700
TZOFFSETTO:-0800
TZNAME:PST
DTSTART:20191103T090000
END:STANDARD
END:VTIMEZONE
BEGIN:VEVENT
DTSTART;TZID=America/Los_Angeles:20180919T180000
DTEND;TZID=America/Los_Angeles:20180919T190000
DTSTAMP:20260423T184941
CREATED:20180128T074619Z
LAST-MODIFIED:20180128T074722Z
UID:663-1537380000-1537383600@thewayoftheheart.com
SUMMARY:Deepening Inner Listening (Call #3)
DESCRIPTION:6:00 PM to 7:00 PM Pacific Time(7:00 PM – 8:00 PM Mountain; 8:00 PM – 9:00 PM Central; 9:00 PM – 10:00 PM pm Eastern; 10:00 PM – 11:00 PM Atlantic.)
URL:https://thewayoftheheart.com/event/deepening-inner-listening-2018-3-2/
LOCATION:Telebridge
CATEGORIES:Telebridge
END:VEVENT
BEGIN:VEVENT
DTSTART;VALUE=DATE:20180914
DTEND;VALUE=DATE:20180917
DTSTAMP:20260423T184941
CREATED:20180128T042022Z
LAST-MODIFIED:20180128T042022Z
UID:504-1536883200-1537142399@thewayoftheheart.com
SUMMARY:Level I - Vancouver\, BC
DESCRIPTION:
URL:https://thewayoftheheart.com/event/level-i-vancouver-bc-2018/
CATEGORIES:In Person class
END:VEVENT
BEGIN:VEVENT
DTSTART;TZID=America/Los_Angeles:20180912T180000
DTEND;TZID=America/Los_Angeles:20180912T190000
DTSTAMP:20260423T184941
CREATED:20180128T074619Z
LAST-MODIFIED:20180128T074736Z
UID:662-1536775200-1536778800@thewayoftheheart.com
SUMMARY:Deepening Inner Listening (Call #2)
DESCRIPTION:6:00 PM to 7:00 PM Pacific Time(7:00 PM – 8:00 PM Mountain; 8:00 PM – 9:00 PM Central; 9:00 PM – 10:00 PM pm Eastern; 10:00 PM – 11:00 PM Atlantic.)
URL:https://thewayoftheheart.com/event/deepening-inner-listening-2018-2-2/
LOCATION:Telebridge
CATEGORIES:Telebridge
END:VEVENT
BEGIN:VEVENT
DTSTART;TZID=America/Los_Angeles:20180905T180000
DTEND;TZID=America/Los_Angeles:20180905T190000
DTSTAMP:20260423T184941
CREATED:20180128T074619Z
LAST-MODIFIED:20180128T074744Z
UID:661-1536170400-1536174000@thewayoftheheart.com
SUMMARY:Deepening Inner Listening (Call #1)
DESCRIPTION:6:00 PM to 7:00 PM Pacific Time(7:00 PM – 8:00 PM Mountain; 8:00 PM – 9:00 PM Central; 9:00 PM – 10:00 PM pm Eastern; 10:00 PM – 11:00 PM Atlantic.)
URL:https://thewayoftheheart.com/event/deepening-inner-listening-2018-1-2/
LOCATION:Telebridge
CATEGORIES:Telebridge
END:VEVENT
BEGIN:VEVENT
DTSTART;TZID=America/Los_Angeles:20180829T180000
DTEND;TZID=America/Los_Angeles:20180829T191500
DTSTAMP:20260423T184941
CREATED:20180128T075631Z
LAST-MODIFIED:20180811T202615Z
UID:684-1535565600-1535570100@thewayoftheheart.com
SUMMARY:The New Life Mission Operating System (Call #6)
DESCRIPTION:6:00 PM to 7:15 PM Pacific Time\n(7:00 PM – 8:15 PM Mountain; 8:00 PM – 9:15 PM Central; 9:00 PM – 10:15 PM pm Eastern; 10:00 PM – 11:15 PM Atlantic.)
URL:https://thewayoftheheart.com/event/the-new-life-mission-operating-system-2018-6-2/
LOCATION:Telebridge
CATEGORIES:Telebridge
END:VEVENT
BEGIN:VEVENT
DTSTART;VALUE=DATE:20180826
DTEND;VALUE=DATE:20180830
DTSTAMP:20260423T184941
CREATED:20180128T054657Z
LAST-MODIFIED:20180128T055220Z
UID:551-1535241600-1535587199@thewayoftheheart.com
SUMMARY:Explore the Inner Life Alchemical Retreat - Prescott\, AZ
DESCRIPTION:
URL:https://thewayoftheheart.com/event/alchemical-retreat-2018/
LOCATION:Prescott\, Arizona\, US
CATEGORIES:Advanced class
END:VEVENT
BEGIN:VEVENT
DTSTART;TZID=America/Los_Angeles:20180822T180000
DTEND;TZID=America/Los_Angeles:20180822T191500
DTSTAMP:20260423T184941
CREATED:20180128T075628Z
LAST-MODIFIED:20180811T202651Z
UID:683-1534960800-1534965300@thewayoftheheart.com
SUMMARY:The New Life Mission Operating System (Call #5)
DESCRIPTION:6:00 PM to 7:15 PM Pacific Time(7:00 PM – 8:15 PM Mountain; 8:00 PM – 9:15 PM Central; 9:00 PM – 10:15 PM pm Eastern; 10:00 PM – 11:15 PM Atlantic.)
URL:https://thewayoftheheart.com/event/the-new-life-mission-operating-system-2018-5-2/
LOCATION:Telebridge
CATEGORIES:Telebridge
END:VEVENT
BEGIN:VEVENT
DTSTART;TZID=America/Los_Angeles:20180815T180000
DTEND;TZID=America/Los_Angeles:20180815T191500
DTSTAMP:20260423T184941
CREATED:20180128T075628Z
LAST-MODIFIED:20180811T203259Z
UID:682-1534356000-1534360500@thewayoftheheart.com
SUMMARY:The New Life Mission Operating System (Call #4)
DESCRIPTION:6:00 PM to 7:15 PM Pacific Time(7:00 PM – 8:15 PM Mountain; 8:00 PM – 9:15 PM Central; 9:00 PM – 10:15 PM pm Eastern; 10:00 PM – 11:15 PM Atlantic.)
URL:https://thewayoftheheart.com/event/the-new-life-mission-operating-system-2018-4-2/
LOCATION:Telebridge
CATEGORIES:Telebridge
END:VEVENT
BEGIN:VEVENT
DTSTART;TZID=America/Los_Angeles:20180808T180000
DTEND;TZID=America/Los_Angeles:20180808T191500
DTSTAMP:20260423T184941
CREATED:20180128T075628Z
LAST-MODIFIED:20180811T203442Z
UID:681-1533751200-1533755700@thewayoftheheart.com
SUMMARY:The New Life Mission Operating System (Call #3)
DESCRIPTION:6:00 PM to 7:15 PM Pacific Time(7:00 PM – 8:15 PM Mountain; 8:00 PM – 9:15 PM Central; 9:00 PM – 10:15 PM pm Eastern; 10:00 PM – 11:15 PM Atlantic.)
URL:https://thewayoftheheart.com/event/the-new-life-mission-operating-system-2018-3-2/
LOCATION:Telebridge
CATEGORIES:Telebridge
END:VEVENT
BEGIN:VEVENT
DTSTART;TZID=America/Los_Angeles:20180801T180000
DTEND;TZID=America/Los_Angeles:20180801T191500
DTSTAMP:20260423T184941
CREATED:20180128T075628Z
LAST-MODIFIED:20180811T203402Z
UID:680-1533146400-1533150900@thewayoftheheart.com
SUMMARY:The New Life Mission Operating System (Call #2)
DESCRIPTION:6:00 PM to 7:15 PM Pacific Time(7:00 PM – 8:15 PM Mountain; 8:00 PM – 9:15 PM Central; 9:00 PM – 10:15 PM pm Eastern; 10:00 PM – 11:15 PM Atlantic.)
URL:https://thewayoftheheart.com/event/the-new-life-mission-operating-system-2018-2-2/
LOCATION:Telebridge
CATEGORIES:Telebridge
END:VEVENT
BEGIN:VEVENT
DTSTART;TZID=America/Los_Angeles:20180725T180000
DTEND;TZID=America/Los_Angeles:20180725T191500
DTSTAMP:20260423T184941
CREATED:20180128T075628Z
LAST-MODIFIED:20180811T202420Z
UID:679-1532541600-1532546100@thewayoftheheart.com
SUMMARY:The New Life Mission Operating System (Call #1)
DESCRIPTION:6:00 PM to 7:15 PM Pacific Time(7:00 PM – 8:15 PM Mountain; 8:00 PM – 9:15 PM Central; 9:00 PM – 10:15 PM pm Eastern; 10:00 PM – 11:15 PM Atlantic.)
URL:https://thewayoftheheart.com/event/the-new-life-mission-operating-system-2018-1-2/
LOCATION:Telebridge
CATEGORIES:Telebridge
END:VEVENT
BEGIN:VEVENT
DTSTART;VALUE=DATE:20180720
DTEND;VALUE=DATE:20180723
DTSTAMP:20260423T184941
CREATED:20180128T041915Z
LAST-MODIFIED:20180128T041915Z
UID:502-1532044800-1532303999@thewayoftheheart.com
SUMMARY:Level II - Winnipeg\, MB
DESCRIPTION:
URL:https://thewayoftheheart.com/event/level-ii-winnipeg-mb-2018/
CATEGORIES:In Person class
END:VEVENT
BEGIN:VEVENT
DTSTART;VALUE=DATE:20180713
DTEND;VALUE=DATE:20180716
DTSTAMP:20260423T184941
CREATED:20180128T041837Z
LAST-MODIFIED:20180128T041837Z
UID:500-1531440000-1531699199@thewayoftheheart.com
SUMMARY:Level I - Winnipeg\, MB
DESCRIPTION:
URL:https://thewayoftheheart.com/event/level-i-winnipeg-mb-2018/
CATEGORIES:In Person class
END:VEVENT
BEGIN:VEVENT
DTSTART;VALUE=DATE:20180622
DTEND;VALUE=DATE:20180625
DTSTAMP:20260423T184941
CREATED:20180128T054411Z
LAST-MODIFIED:20180128T054527Z
UID:549-1529625600-1529884799@thewayoftheheart.com
SUMMARY:Practical Spirituality - Chicago\, IL
DESCRIPTION:
URL:https://thewayoftheheart.com/event/practical-spirituality-2018/
CATEGORIES:Advanced class
END:VEVENT
BEGIN:VEVENT
DTSTART;TZID=America/Los_Angeles:20180619T180000
DTEND;TZID=America/Los_Angeles:20180619T190000
DTSTAMP:20260423T184941
CREATED:20180128T062354Z
LAST-MODIFIED:20180128T062354Z
UID:574-1529431200-1529434800@thewayoftheheart.com
SUMMARY:Creating the Person - telebridge (Call #8)
DESCRIPTION:
URL:https://thewayoftheheart.com/event/creating-the-person-telebridge-2018-8/
LOCATION:Telebridge
CATEGORIES:Telebridge
END:VEVENT
BEGIN:VEVENT
DTSTART;VALUE=DATE:20180615
DTEND;VALUE=DATE:20180618
DTSTAMP:20260423T184941
CREATED:20180128T041631Z
LAST-MODIFIED:20180128T043527Z
UID:498-1529020800-1529279999@thewayoftheheart.com
SUMMARY:Level II - Truro\, NS
DESCRIPTION:
URL:https://thewayoftheheart.com/event/level-ii-truro-ns-2018/
CATEGORIES:In Person class
END:VEVENT
BEGIN:VEVENT
DTSTART;TZID=America/Los_Angeles:20180612T180000
DTEND;TZID=America/Los_Angeles:20180612T190000
DTSTAMP:20260423T184941
CREATED:20180128T062321Z
LAST-MODIFIED:20180128T062321Z
UID:572-1528826400-1528830000@thewayoftheheart.com
SUMMARY:Creating the Person - telebridge (Call #7)
DESCRIPTION:
URL:https://thewayoftheheart.com/event/creating-the-person-telebridge-2018-7/
LOCATION:Telebridge
CATEGORIES:Telebridge
END:VEVENT
BEGIN:VEVENT
DTSTART;VALUE=DATE:20180608
DTEND;VALUE=DATE:20180611
DTSTAMP:20260423T184941
CREATED:20180128T041550Z
LAST-MODIFIED:20180128T041550Z
UID:496-1528416000-1528675199@thewayoftheheart.com
SUMMARY:Level I - Truro\, NS
DESCRIPTION:
URL:https://thewayoftheheart.com/event/level-i-truro-2018/
CATEGORIES:In Person class
END:VEVENT
BEGIN:VEVENT
DTSTART;VALUE=DATE:20180608
DTEND;VALUE=DATE:20180611
DTSTAMP:20260423T184941
CREATED:20180128T040822Z
LAST-MODIFIED:20180128T050739Z
UID:492-1528416000-1528675199@thewayoftheheart.com
SUMMARY:Level II - New Orleans\, LA
DESCRIPTION:
URL:https://thewayoftheheart.com/event/level-ii-new-orleans-la-2018/
CATEGORIES:In Person class
END:VEVENT
BEGIN:VEVENT
DTSTART;TZID=America/Los_Angeles:20180605T180000
DTEND;TZID=America/Los_Angeles:20180605T190000
DTSTAMP:20260423T184941
CREATED:20180128T062243Z
LAST-MODIFIED:20180128T062243Z
UID:570-1528221600-1528225200@thewayoftheheart.com
SUMMARY:Creating the Person - telebridge (Call #6)
DESCRIPTION:
URL:https://thewayoftheheart.com/event/creating-the-person-telebridge-2018-6/
LOCATION:Telebridge
CATEGORIES:Telebridge
END:VEVENT
BEGIN:VEVENT
DTSTART;VALUE=DATE:20180601
DTEND;VALUE=DATE:20180604
DTSTAMP:20260423T184941
CREATED:20180128T040616Z
LAST-MODIFIED:20180128T050748Z
UID:489-1527811200-1528070399@thewayoftheheart.com
SUMMARY:Level I - New Orleans\, LA
DESCRIPTION:
URL:https://thewayoftheheart.com/event/level-i-new-orleans-la-2018/
CATEGORIES:In Person class
END:VEVENT
BEGIN:VEVENT
DTSTART;TZID=America/Los_Angeles:20180529T180000
DTEND;TZID=America/Los_Angeles:20180529T190000
DTSTAMP:20260423T184941
CREATED:20180128T062204Z
LAST-MODIFIED:20180128T062204Z
UID:568-1527616800-1527620400@thewayoftheheart.com
SUMMARY:Creating the Person - telebridge (Call #5)
DESCRIPTION:
URL:https://thewayoftheheart.com/event/creating-the-person-telebridge-2018-5/
LOCATION:Telebridge
CATEGORIES:Telebridge
END:VEVENT
BEGIN:VEVENT
DTSTART;TZID=America/Los_Angeles:20180522T180000
DTEND;TZID=America/Los_Angeles:20180522T190000
DTSTAMP:20260423T184941
CREATED:20180128T062134Z
LAST-MODIFIED:20180128T062134Z
UID:566-1527012000-1527015600@thewayoftheheart.com
SUMMARY:Creating the Person - telebridge (Call #4)
DESCRIPTION:
URL:https://thewayoftheheart.com/event/creating-the-person-telebridge-2018-4/
LOCATION:Telebridge
CATEGORIES:Telebridge
END:VEVENT
BEGIN:VEVENT
DTSTART;TZID=America/Los_Angeles:20180515T180000
DTEND;TZID=America/Los_Angeles:20180515T190000
DTSTAMP:20260423T184941
CREATED:20180128T062052Z
LAST-MODIFIED:20180128T062052Z
UID:564-1526407200-1526410800@thewayoftheheart.com
SUMMARY:Creating the Person - telebridge (Call #3)
DESCRIPTION:
URL:https://thewayoftheheart.com/event/creating-the-person-telebridge-2018-3/
LOCATION:Telebridge
CATEGORIES:Telebridge
END:VEVENT
BEGIN:VEVENT
DTSTART;TZID=America/Los_Angeles:20180508T180000
DTEND;TZID=America/Los_Angeles:20180508T190000
DTSTAMP:20260423T184941
CREATED:20180128T062015Z
LAST-MODIFIED:20180128T062015Z
UID:562-1525802400-1525806000@thewayoftheheart.com
SUMMARY:Creating the Person - telebridge (Call #2)
DESCRIPTION:
URL:https://thewayoftheheart.com/event/creating-the-person-telebridge-2018-2/
LOCATION:Telebridge
CATEGORIES:Telebridge
END:VEVENT
BEGIN:VEVENT
DTSTART;TZID=America/Los_Angeles:20180501T180000
DTEND;TZID=America/Los_Angeles:20180501T190000
DTSTAMP:20260423T184941
CREATED:20180128T061932Z
LAST-MODIFIED:20180128T061932Z
UID:560-1525197600-1525201200@thewayoftheheart.com
SUMMARY:Creating the Person - telebridge (Call #1)
DESCRIPTION:
URL:https://thewayoftheheart.com/event/creating-the-person-2018-1/
LOCATION:Telebridge
CATEGORIES:Telebridge
END:VEVENT
BEGIN:VEVENT
DTSTART;VALUE=DATE:20180406
DTEND;VALUE=DATE:20180409
DTSTAMP:20260423T184941
CREATED:20180128T053238Z
LAST-MODIFIED:20180128T053238Z
UID:547-1522972800-1523231999@thewayoftheheart.com
SUMMARY:NEW Universal Self Healing- Vancouver\, BC
DESCRIPTION:
URL:https://thewayoftheheart.com/event/new-universal-self-healing-2018/
LOCATION:Charis Camp\, 51935 Hack Brown Rd.\, Chilliwack\, BC\, V4Z 1L1\, Canada
CATEGORIES:Advanced class
END:VEVENT
BEGIN:VEVENT
DTSTART;VALUE=DATE:20180406
DTEND;VALUE=DATE:20180407
DTSTAMP:20260423T184941
CREATED:20180128T052720Z
LAST-MODIFIED:20180128T052949Z
UID:541-1522972800-1523059199@thewayoftheheart.com
SUMMARY:Planetary Self Healing - Vancouver\, BC
DESCRIPTION:
URL:https://thewayoftheheart.com/event/planetary-self-healing-2018/
LOCATION:Charis Camp\, 51935 Hack Brown Rd.\, Chilliwack\, BC\, V4Z 1L1\, Canada
CATEGORIES:Advanced class
END:VEVENT
BEGIN:VEVENT
DTSTART;TZID=America/Los_Angeles:20180403T180000
DTEND;TZID=America/Los_Angeles:20180403T190000
DTSTAMP:20260423T184941
CREATED:20180128T050318Z
LAST-MODIFIED:20180128T050318Z
UID:523-1522778400-1522782000@thewayoftheheart.com
SUMMARY:Reality of Dreams - telebridge (Call #6)
DESCRIPTION:
URL:https://thewayoftheheart.com/event/reality-of-dreams-telebridge-2018-6/
LOCATION:Telebridge
CATEGORIES:Telebridge
END:VEVENT
BEGIN:VEVENT
DTSTART;TZID=America/Los_Angeles:20180327T180000
DTEND;TZID=America/Los_Angeles:20180327T190000
DTSTAMP:20260423T184941
CREATED:20180128T050227Z
LAST-MODIFIED:20180128T050344Z
UID:521-1522173600-1522177200@thewayoftheheart.com
SUMMARY:Reality of Dreams - telebridge (Call #5)
DESCRIPTION:
URL:https://thewayoftheheart.com/event/reality-of-dreams-telebridge-2018-5/
LOCATION:Telebridge
CATEGORIES:Telebridge
END:VEVENT
END:VCALENDAR