BEGIN:VCALENDAR
VERSION:2.0
PRODID:-//The Way of the Heart - ECPv6.15.20//NONSGML v1.0//EN
CALSCALE:GREGORIAN
METHOD:PUBLISH
X-WR-CALNAME:The Way of the Heart
X-ORIGINAL-URL:https://thewayoftheheart.com
X-WR-CALDESC:Events for The Way of the Heart
REFRESH-INTERVAL;VALUE=DURATION:PT1H
X-Robots-Tag:noindex
X-PUBLISHED-TTL:PT1H
BEGIN:VTIMEZONE
TZID:America/Los_Angeles
BEGIN:DAYLIGHT
TZOFFSETFROM:-0800
TZOFFSETTO:-0700
TZNAME:PDT
DTSTART:20160313T100000
END:DAYLIGHT
BEGIN:STANDARD
TZOFFSETFROM:-0700
TZOFFSETTO:-0800
TZNAME:PST
DTSTART:20161106T090000
END:STANDARD
BEGIN:DAYLIGHT
TZOFFSETFROM:-0800
TZOFFSETTO:-0700
TZNAME:PDT
DTSTART:20170312T100000
END:DAYLIGHT
BEGIN:STANDARD
TZOFFSETFROM:-0700
TZOFFSETTO:-0800
TZNAME:PST
DTSTART:20171105T090000
END:STANDARD
BEGIN:DAYLIGHT
TZOFFSETFROM:-0800
TZOFFSETTO:-0700
TZNAME:PDT
DTSTART:20180311T100000
END:DAYLIGHT
BEGIN:STANDARD
TZOFFSETFROM:-0700
TZOFFSETTO:-0800
TZNAME:PST
DTSTART:20181104T090000
END:STANDARD
END:VTIMEZONE
BEGIN:VTIMEZONE
TZID:UTC
BEGIN:STANDARD
TZOFFSETFROM:+0000
TZOFFSETTO:+0000
TZNAME:UTC
DTSTART:19690101T000000
END:STANDARD
END:VTIMEZONE
BEGIN:VEVENT
DTSTART;VALUE=DATE:20171013
DTEND;VALUE=DATE:20171016
DTSTAMP:20260424T102444
CREATED:20170922T220128Z
LAST-MODIFIED:20170922T220128Z
UID:410-1507852800-1508111999@thewayoftheheart.com
SUMMARY:Myth & Archetype of Self
DESCRIPTION:New retreat course coming to Portland in autumn 2017. \nNext Myth & Archetype of Self event: autumn 2017\nPre-requisite: Level I & II Foundation\nWhen: October 13 to 15\, 2017\nLocation: Portland\, OR\nContact: Mary McGill
URL:https://thewayoftheheart.com/event/myth-archetype-self/
LOCATION:Marylhurst University\, Oregon\, 17600 Pacific Highway\, Marylhurst\, OR\, 97036\, United States
CATEGORIES:Advanced class,In Person class
END:VEVENT
BEGIN:VEVENT
DTSTART;TZID=America/Los_Angeles:20171011T180000
DTEND;TZID=America/Los_Angeles:20171011T193000
DTSTAMP:20260424T102444
CREATED:20170922T214106Z
LAST-MODIFIED:20170922T214106Z
UID:388-1507744800-1507750200@thewayoftheheart.com
SUMMARY:Life Mission Forum
DESCRIPTION:8 week telebridge course \n  \n6:00 to 7:00 pm Pacific Time; 7 – 8 pm Mountain; 8 – 9 pm Central; 9 – 10 pm Eastern; 10 – 11 pm Atlantic. \n  \nSeptember 20\, 27\,\nOctober 4\, 11\, 18\, 25\,\nNovember 1\, 8 \n 
URL:https://thewayoftheheart.com/event/life-mission-forum-2-2-2/
LOCATION:Telebridge
CATEGORIES:Telebridge
END:VEVENT
BEGIN:VEVENT
DTSTART;TZID=America/Los_Angeles:20171010T180000
DTEND;TZID=America/Los_Angeles:20171010T190000
DTSTAMP:20260424T102444
CREATED:20170922T215043Z
LAST-MODIFIED:20170922T215043Z
UID:398-1507658400-1507662000@thewayoftheheart.com
SUMMARY:Feminine Healing in Relationship telebridge
DESCRIPTION:6 week telebridge \n| \nOctober 10\, 17\, 24\, 31\nNovember 7\, 14 \n|\n6:00 to 7:00 pm Pacific Time; 7 – 8 pm Mountain; 8 – 9 pm Central; 9 – 10 pm Eastern; 10 – 11 pm Atlantic.
URL:https://thewayoftheheart.com/event/feminine-healing-relationship-telebridge/
LOCATION:Telebridge
CATEGORIES:Telebridge
END:VEVENT
BEGIN:VEVENT
DTSTART;TZID=America/Los_Angeles:20171004T180000
DTEND;TZID=America/Los_Angeles:20171004T193000
DTSTAMP:20260424T102444
CREATED:20170922T214031Z
LAST-MODIFIED:20170922T214031Z
UID:386-1507140000-1507145400@thewayoftheheart.com
SUMMARY:Life Mission Forum
DESCRIPTION:8 week telebridge course \n  \n6:00 to 7:00 pm Pacific Time; 7 – 8 pm Mountain; 8 – 9 pm Central; 9 – 10 pm Eastern; 10 – 11 pm Atlantic. \n  \nSeptember 20\, 27\,\nOctober 4\, 11\, 18\, 25\,\nNovember 1\, 8 \n 
URL:https://thewayoftheheart.com/event/life-mission-forum-2-2/
LOCATION:Telebridge
CATEGORIES:Telebridge
END:VEVENT
BEGIN:VEVENT
DTSTART;TZID=America/Los_Angeles:20170927T180000
DTEND;TZID=America/Los_Angeles:20170927T193000
DTSTAMP:20260424T102444
CREATED:20170922T213953Z
LAST-MODIFIED:20170922T213953Z
UID:384-1506535200-1506540600@thewayoftheheart.com
SUMMARY:Life Mission Forum
DESCRIPTION:8 week telebridge course \n  \n6:00 to 7:00 pm Pacific Time; 7 – 8 pm Mountain; 8 – 9 pm Central; 9 – 10 pm Eastern; 10 – 11 pm Atlantic. \n  \nSeptember 20\, 27\,\nOctober 4\, 11\, 18\, 25\,\nNovember 1\, 8 \n 
URL:https://thewayoftheheart.com/event/life-mission-forum-2/
LOCATION:Telebridge
CATEGORIES:Telebridge
END:VEVENT
BEGIN:VEVENT
DTSTART;TZID=America/Los_Angeles:20170920T180000
DTEND;TZID=America/Los_Angeles:20170920T193000
DTSTAMP:20260424T102444
CREATED:20170922T213658Z
LAST-MODIFIED:20170922T213911Z
UID:381-1505930400-1505935800@thewayoftheheart.com
SUMMARY:Life Mission Forum
DESCRIPTION:8 week telebridge course \n  \n6:00 to 7:00 pm Pacific Time; 7 – 8 pm Mountain; 8 – 9 pm Central; 9 – 10 pm Eastern; 10 – 11 pm Atlantic. \n  \nSeptember 20\, 27\,\nOctober 4\, 11\, 18\, 25\,\nNovember 1\, 8 \n 
URL:https://thewayoftheheart.com/event/life-mission-forum/
LOCATION:Telebridge
CATEGORIES:Telebridge
END:VEVENT
BEGIN:VEVENT
DTSTART;TZID=UTC:20260424T102444
DTEND;TZID=UTC:20260424T102444
DTSTAMP:20260424T102444
CREATED:20201126T223521Z
LAST-MODIFIED:20201126T223521Z
UID:1099-0-0@thewayoftheheart.com
SUMMARY:Inner Life Mission Immersion (Call #26)
DESCRIPTION:5:00 PM to 6:15 PM Pacific Time(6:00 PM – 7:15 PM Mountain; 7:00 PM – 8:15 PM Central; 8:00 PM – 9:15 PM pm Eastern; 9:00 PM – 10:15 PM Atlantic.)
URL:https://thewayoftheheart.com/event/inner-life-mission-immersion-call-26/
CATEGORIES:Telebridge
END:VEVENT
END:VCALENDAR