BEGIN:VCALENDAR
VERSION:2.0
PRODID:-//The Way of the Heart - ECPv6.15.20//NONSGML v1.0//EN
CALSCALE:GREGORIAN
METHOD:PUBLISH
X-WR-CALNAME:The Way of the Heart
X-ORIGINAL-URL:https://thewayoftheheart.com
X-WR-CALDESC:Events for The Way of the Heart
REFRESH-INTERVAL;VALUE=DURATION:PT1H
X-Robots-Tag:noindex
X-PUBLISHED-TTL:PT1H
BEGIN:VTIMEZONE
TZID:America/Los_Angeles
BEGIN:DAYLIGHT
TZOFFSETFROM:-0800
TZOFFSETTO:-0700
TZNAME:PDT
DTSTART:20220313T100000
END:DAYLIGHT
BEGIN:STANDARD
TZOFFSETFROM:-0700
TZOFFSETTO:-0800
TZNAME:PST
DTSTART:20221106T090000
END:STANDARD
BEGIN:DAYLIGHT
TZOFFSETFROM:-0800
TZOFFSETTO:-0700
TZNAME:PDT
DTSTART:20230312T100000
END:DAYLIGHT
BEGIN:STANDARD
TZOFFSETFROM:-0700
TZOFFSETTO:-0800
TZNAME:PST
DTSTART:20231105T090000
END:STANDARD
BEGIN:DAYLIGHT
TZOFFSETFROM:-0800
TZOFFSETTO:-0700
TZNAME:PDT
DTSTART:20240310T100000
END:DAYLIGHT
BEGIN:STANDARD
TZOFFSETFROM:-0700
TZOFFSETTO:-0800
TZNAME:PST
DTSTART:20241103T090000
END:STANDARD
END:VTIMEZONE
BEGIN:VEVENT
DTSTART;TZID=America/Los_Angeles:20230521T170000
DTEND;TZID=America/Los_Angeles:20230521T181500
DTSTAMP:20260419T230532
CREATED:20230114T211553Z
LAST-MODIFIED:20230114T211553Z
UID:1576-1684688400-1684692900@thewayoftheheart.com
SUMMARY:Inner Life Mission Immersion (Call #13)
DESCRIPTION:5:00 PM to 6:15 PM Pacific Time(6:00 PM – 7:15 PM Mountain; 7:00 PM – 8:15 PM Central; 8:00 PM – 9:15 PM pm Eastern; 9:00 PM – 10:15 PM Atlantic.)
URL:https://thewayoftheheart.com/event/inner-life-mission-immersion-call-13-3/
LOCATION:Telebridge
CATEGORIES:Telebridge
END:VEVENT
BEGIN:VEVENT
DTSTART;TZID=America/Los_Angeles:20230518T180000
DTEND;TZID=America/Los_Angeles:20230518T193000
DTSTAMP:20260419T230532
CREATED:20230114T211826Z
LAST-MODIFIED:20230114T211826Z
UID:1623-1684432800-1684438200@thewayoftheheart.com
SUMMARY:Life Mission: Masterclass to Mastermind (Call #10)
DESCRIPTION:6:00 PM to 7:30 PM Pacific Time(7:00 PM – 8:30 PM Mountain; 8:00 PM – 9:30 PM Central; 9:00 PM – 10:30 PM pm Eastern; 10:00 PM – 11:30 PM Atlantic.)
URL:https://thewayoftheheart.com/event/life-mission-masterclass-to-mastermind-call-10/
LOCATION:Zoom
CATEGORIES:Telebridge
END:VEVENT
BEGIN:VEVENT
DTSTART;TZID=America/Los_Angeles:20230516T170000
DTEND;TZID=America/Los_Angeles:20230516T181500
DTSTAMP:20260419T230532
CREATED:20230114T211926Z
LAST-MODIFIED:20230114T211926Z
UID:1641-1684256400-1684260900@thewayoftheheart.com
SUMMARY:Making God a Reality & Friend (Call #2)
DESCRIPTION:5:00 PM to 6:15 PM Pacific Time(6:00 PM – 7:15 PM Mountain; 7:00 PM – 8:15 PM Central; 8:00 PM – 9:15 PM pm Eastern; 9:00 PM – 10:15 PM Atlantic.)
URL:https://thewayoftheheart.com/event/making-god-a-reality-friend-call-2/
LOCATION:Telebridge
CATEGORIES:Telebridge
END:VEVENT
BEGIN:VEVENT
DTSTART;TZID=America/Los_Angeles:20230514T170000
DTEND;TZID=America/Los_Angeles:20230514T181500
DTSTAMP:20260419T230532
CREATED:20230114T211553Z
LAST-MODIFIED:20230114T211553Z
UID:1575-1684083600-1684088100@thewayoftheheart.com
SUMMARY:Inner Life Mission Immersion (Call #12)
DESCRIPTION:5:00 PM to 6:15 PM Pacific Time(6:00 PM – 7:15 PM Mountain; 7:00 PM – 8:15 PM Central; 8:00 PM – 9:15 PM pm Eastern; 9:00 PM – 10:15 PM Atlantic.)
URL:https://thewayoftheheart.com/event/inner-life-mission-immersion-call-12-3/
LOCATION:Telebridge
CATEGORIES:Telebridge
END:VEVENT
BEGIN:VEVENT
DTSTART;TZID=America/Los_Angeles:20230509T170000
DTEND;TZID=America/Los_Angeles:20230509T181500
DTSTAMP:20260419T230532
CREATED:20230114T211926Z
LAST-MODIFIED:20230114T211926Z
UID:1640-1683651600-1683656100@thewayoftheheart.com
SUMMARY:Making God a Reality & Friend (Call #1)
DESCRIPTION:5:00 PM to 6:15 PM Pacific Time(6:00 PM – 7:15 PM Mountain; 7:00 PM – 8:15 PM Central; 8:00 PM – 9:15 PM pm Eastern; 9:00 PM – 10:15 PM Atlantic.)
URL:https://thewayoftheheart.com/event/making-god-a-reality-friend-call-1/
LOCATION:Telebridge
CATEGORIES:Telebridge
END:VEVENT
BEGIN:VEVENT
DTSTART;TZID=America/Los_Angeles:20230507T170000
DTEND;TZID=America/Los_Angeles:20230507T181500
DTSTAMP:20260419T230532
CREATED:20230114T211553Z
LAST-MODIFIED:20230114T211553Z
UID:1574-1683478800-1683483300@thewayoftheheart.com
SUMMARY:Inner Life Mission Immersion (Call #11)
DESCRIPTION:5:00 PM to 6:15 PM Pacific Time(6:00 PM – 7:15 PM Mountain; 7:00 PM – 8:15 PM Central; 8:00 PM – 9:15 PM pm Eastern; 9:00 PM – 10:15 PM Atlantic.)
URL:https://thewayoftheheart.com/event/inner-life-mission-immersion-call-11-3/
LOCATION:Telebridge
CATEGORIES:Telebridge
END:VEVENT
BEGIN:VEVENT
DTSTART;TZID=America/Los_Angeles:20230504T180000
DTEND;TZID=America/Los_Angeles:20230504T193000
DTSTAMP:20260419T230532
CREATED:20230114T211826Z
LAST-MODIFIED:20230114T211826Z
UID:1622-1683223200-1683228600@thewayoftheheart.com
SUMMARY:Life Mission: Masterclass to Mastermind (Call #9)
DESCRIPTION:6:00 PM to 7:30 PM Pacific Time(7:00 PM – 8:30 PM Mountain; 8:00 PM – 9:30 PM Central; 9:00 PM – 10:30 PM pm Eastern; 10:00 PM – 11:30 PM Atlantic.)
URL:https://thewayoftheheart.com/event/life-mission-masterclass-to-mastermind-call-9/
LOCATION:Zoom
CATEGORIES:Telebridge
END:VEVENT
BEGIN:VEVENT
DTSTART;TZID=America/Los_Angeles:20230503T180000
DTEND;TZID=America/Los_Angeles:20230503T191500
DTSTAMP:20260419T230532
CREATED:20230114T211510Z
LAST-MODIFIED:20230114T211510Z
UID:1561-1683136800-1683141300@thewayoftheheart.com
SUMMARY:Dreaming While Awake (Call #6)
DESCRIPTION:6:00 PM to 7:15 PM Pacific Time(7:00 PM – 8:15 PM Mountain; 8:00 PM – 9:15 PM Central; 9:00 PM – 10:15 PM pm Eastern; 10:00 PM – 11:15 PM Atlantic.)
URL:https://thewayoftheheart.com/event/dreaming-while-awake-call-6/
LOCATION:Telebridge
CATEGORIES:Telebridge
END:VEVENT
BEGIN:VEVENT
DTSTART;TZID=America/Los_Angeles:20230502T180000
DTEND;TZID=America/Los_Angeles:20230502T191500
DTSTAMP:20260419T230532
CREATED:20230114T212722Z
LAST-MODIFIED:20230114T212722Z
UID:1665-1683050400-1683054900@thewayoftheheart.com
SUMMARY:Cultivating Resilience & Peace Gateway to The Way of the Heart (Call #5)
DESCRIPTION:6:00 PM to 7:15 PM Pacific Time(7:00 PM – 8:15 PM Mountain; 8:00 PM – 9:15 PM Central; 9:00 PM – 10:15 PM pm Eastern; 10:00 PM – 11:15 PM Atlantic.)
URL:https://thewayoftheheart.com/event/cultivating-resilience-peace-gateway-to-the-way-of-the-heart-call-5-2/
LOCATION:Telebridge
CATEGORIES:Foundation Telebridge
END:VEVENT
BEGIN:VEVENT
DTSTART;TZID=America/Los_Angeles:20230430T170000
DTEND;TZID=America/Los_Angeles:20230430T181500
DTSTAMP:20260419T230532
CREATED:20230114T211552Z
LAST-MODIFIED:20230114T211552Z
UID:1573-1682874000-1682878500@thewayoftheheart.com
SUMMARY:Inner Life Mission Immersion (Call #10)
DESCRIPTION:5:00 PM to 6:15 PM Pacific Time(6:00 PM – 7:15 PM Mountain; 7:00 PM – 8:15 PM Central; 8:00 PM – 9:15 PM pm Eastern; 9:00 PM – 10:15 PM Atlantic.)
URL:https://thewayoftheheart.com/event/inner-life-mission-immersion-call-10-3/
LOCATION:Telebridge
CATEGORIES:Telebridge
END:VEVENT
BEGIN:VEVENT
DTSTART;TZID=America/Los_Angeles:20230426T180000
DTEND;TZID=America/Los_Angeles:20230426T191500
DTSTAMP:20260419T230532
CREATED:20230114T211509Z
LAST-MODIFIED:20230114T211509Z
UID:1560-1682532000-1682536500@thewayoftheheart.com
SUMMARY:Dreaming While Awake (Call #5)
DESCRIPTION:6:00 PM to 7:15 PM Pacific Time(7:00 PM – 8:15 PM Mountain; 8:00 PM – 9:15 PM Central; 9:00 PM – 10:15 PM pm Eastern; 10:00 PM – 11:15 PM Atlantic.)
URL:https://thewayoftheheart.com/event/dreaming-while-awake-call-5/
LOCATION:Telebridge
CATEGORIES:Telebridge
END:VEVENT
BEGIN:VEVENT
DTSTART;TZID=America/Los_Angeles:20230425T180000
DTEND;TZID=America/Los_Angeles:20230425T191500
DTSTAMP:20260419T230532
CREATED:20230114T212722Z
LAST-MODIFIED:20230114T212722Z
UID:1664-1682445600-1682450100@thewayoftheheart.com
SUMMARY:Cultivating Resilience & Peace Gateway to The Way of the Heart (Call #4)
DESCRIPTION:6:00 PM to 7:15 PM Pacific Time(7:00 PM – 8:15 PM Mountain; 8:00 PM – 9:15 PM Central; 9:00 PM – 10:15 PM pm Eastern; 10:00 PM – 11:15 PM Atlantic.)
URL:https://thewayoftheheart.com/event/cultivating-resilience-peace-gateway-to-the-way-of-the-heart-call-4-2/
LOCATION:Telebridge
CATEGORIES:Foundation Telebridge
END:VEVENT
BEGIN:VEVENT
DTSTART;TZID=America/Los_Angeles:20230423T170000
DTEND;TZID=America/Los_Angeles:20230423T181500
DTSTAMP:20260419T230532
CREATED:20230114T211552Z
LAST-MODIFIED:20230114T211552Z
UID:1572-1682269200-1682273700@thewayoftheheart.com
SUMMARY:Inner Life Mission Immersion (Call #9)
DESCRIPTION:5:00 PM to 6:15 PM Pacific Time(6:00 PM – 7:15 PM Mountain; 7:00 PM – 8:15 PM Central; 8:00 PM – 9:15 PM pm Eastern; 9:00 PM – 10:15 PM Atlantic.)
URL:https://thewayoftheheart.com/event/inner-life-mission-immersion-call-9-3/
LOCATION:Telebridge
CATEGORIES:Telebridge
END:VEVENT
BEGIN:VEVENT
DTSTART;TZID=America/Los_Angeles:20230420T180000
DTEND;TZID=America/Los_Angeles:20230420T193000
DTSTAMP:20260419T230532
CREATED:20230114T211826Z
LAST-MODIFIED:20230114T211826Z
UID:1621-1682013600-1682019000@thewayoftheheart.com
SUMMARY:Life Mission: Masterclass to Mastermind (Call #8)
DESCRIPTION:6:00 PM to 7:30 PM Pacific Time(7:00 PM – 8:30 PM Mountain; 8:00 PM – 9:30 PM Central; 9:00 PM – 10:30 PM pm Eastern; 10:00 PM – 11:30 PM Atlantic.)
URL:https://thewayoftheheart.com/event/life-mission-masterclass-to-mastermind-call-8/
LOCATION:Zoom
CATEGORIES:Telebridge
END:VEVENT
BEGIN:VEVENT
DTSTART;TZID=America/Los_Angeles:20230419T180000
DTEND;TZID=America/Los_Angeles:20230419T191500
DTSTAMP:20260419T230532
CREATED:20230114T211509Z
LAST-MODIFIED:20230114T211509Z
UID:1559-1681927200-1681931700@thewayoftheheart.com
SUMMARY:Dreaming While Awake (Call #4)
DESCRIPTION:6:00 PM to 7:15 PM Pacific Time(7:00 PM – 8:15 PM Mountain; 8:00 PM – 9:15 PM Central; 9:00 PM – 10:15 PM pm Eastern; 10:00 PM – 11:15 PM Atlantic.)
URL:https://thewayoftheheart.com/event/dreaming-while-awake-call-4/
LOCATION:Telebridge
CATEGORIES:Telebridge
END:VEVENT
BEGIN:VEVENT
DTSTART;TZID=America/Los_Angeles:20230418T180000
DTEND;TZID=America/Los_Angeles:20230418T191500
DTSTAMP:20260419T230532
CREATED:20230114T212722Z
LAST-MODIFIED:20230114T212722Z
UID:1663-1681840800-1681845300@thewayoftheheart.com
SUMMARY:Cultivating Resilience & Peace Gateway to The Way of the Heart (Call #3)
DESCRIPTION:6:00 PM to 7:15 PM Pacific Time(7:00 PM – 8:15 PM Mountain; 8:00 PM – 9:15 PM Central; 9:00 PM – 10:15 PM pm Eastern; 10:00 PM – 11:15 PM Atlantic.)
URL:https://thewayoftheheart.com/event/cultivating-resilience-peace-gateway-to-the-way-of-the-heart-call-3-2/
LOCATION:Telebridge
CATEGORIES:Foundation Telebridge
END:VEVENT
BEGIN:VEVENT
DTSTART;TZID=America/Los_Angeles:20230416T170000
DTEND;TZID=America/Los_Angeles:20230416T181500
DTSTAMP:20260419T230532
CREATED:20230114T211551Z
LAST-MODIFIED:20230114T211551Z
UID:1571-1681664400-1681668900@thewayoftheheart.com
SUMMARY:Inner Life Mission Immersion (Call #8)
DESCRIPTION:5:00 PM to 6:15 PM Pacific Time(6:00 PM – 7:15 PM Mountain; 7:00 PM – 8:15 PM Central; 8:00 PM – 9:15 PM pm Eastern; 9:00 PM – 10:15 PM Atlantic.)
URL:https://thewayoftheheart.com/event/inner-life-mission-immersion-call-8-3/
LOCATION:Telebridge
CATEGORIES:Telebridge
END:VEVENT
BEGIN:VEVENT
DTSTART;TZID=America/Los_Angeles:20230412T180000
DTEND;TZID=America/Los_Angeles:20230412T191500
DTSTAMP:20260419T230532
CREATED:20230114T211509Z
LAST-MODIFIED:20230114T211509Z
UID:1558-1681322400-1681326900@thewayoftheheart.com
SUMMARY:Dreaming While Awake (Call #3)
DESCRIPTION:6:00 PM to 7:15 PM Pacific Time(7:00 PM – 8:15 PM Mountain; 8:00 PM – 9:15 PM Central; 9:00 PM – 10:15 PM pm Eastern; 10:00 PM – 11:15 PM Atlantic.)
URL:https://thewayoftheheart.com/event/dreaming-while-awake-call-3/
LOCATION:Telebridge
CATEGORIES:Telebridge
END:VEVENT
BEGIN:VEVENT
DTSTART;TZID=America/Los_Angeles:20230411T180000
DTEND;TZID=America/Los_Angeles:20230411T191500
DTSTAMP:20260419T230532
CREATED:20230114T212722Z
LAST-MODIFIED:20230114T212722Z
UID:1662-1681236000-1681240500@thewayoftheheart.com
SUMMARY:Cultivating Resilience & Peace Gateway to The Way of the Heart (Call #2)
DESCRIPTION:6:00 PM to 7:15 PM Pacific Time(7:00 PM – 8:15 PM Mountain; 8:00 PM – 9:15 PM Central; 9:00 PM – 10:15 PM pm Eastern; 10:00 PM – 11:15 PM Atlantic.)
URL:https://thewayoftheheart.com/event/cultivating-resilience-peace-gateway-to-the-way-of-the-heart-call-2-2/
LOCATION:Telebridge
CATEGORIES:Foundation Telebridge
END:VEVENT
BEGIN:VEVENT
DTSTART;TZID=America/Los_Angeles:20230409T170000
DTEND;TZID=America/Los_Angeles:20230409T181500
DTSTAMP:20260419T230532
CREATED:20230114T211551Z
LAST-MODIFIED:20230114T211551Z
UID:1570-1681059600-1681064100@thewayoftheheart.com
SUMMARY:Inner Life Mission Immersion (Call #7)
DESCRIPTION:5:00 PM to 6:15 PM Pacific Time(6:00 PM – 7:15 PM Mountain; 7:00 PM – 8:15 PM Central; 8:00 PM – 9:15 PM pm Eastern; 9:00 PM – 10:15 PM Atlantic.)
URL:https://thewayoftheheart.com/event/inner-life-mission-immersion-call-7-3/
LOCATION:Telebridge
CATEGORIES:Telebridge
END:VEVENT
BEGIN:VEVENT
DTSTART;TZID=America/Los_Angeles:20230406T180000
DTEND;TZID=America/Los_Angeles:20230406T193000
DTSTAMP:20260419T230532
CREATED:20230114T211825Z
LAST-MODIFIED:20230114T211825Z
UID:1620-1680804000-1680809400@thewayoftheheart.com
SUMMARY:Life Mission: Masterclass to Mastermind (Call #7)
DESCRIPTION:6:00 PM to 7:30 PM Pacific Time(7:00 PM – 8:30 PM Mountain; 8:00 PM – 9:30 PM Central; 9:00 PM – 10:30 PM pm Eastern; 10:00 PM – 11:30 PM Atlantic.)
URL:https://thewayoftheheart.com/event/life-mission-masterclass-to-mastermind-call-7/
LOCATION:Zoom
CATEGORIES:Telebridge
END:VEVENT
BEGIN:VEVENT
DTSTART;TZID=America/Los_Angeles:20230405T180000
DTEND;TZID=America/Los_Angeles:20230405T191500
DTSTAMP:20260419T230532
CREATED:20230114T211509Z
LAST-MODIFIED:20230114T211509Z
UID:1557-1680717600-1680722100@thewayoftheheart.com
SUMMARY:Dreaming While Awake (Call #2)
DESCRIPTION:6:00 PM to 7:15 PM Pacific Time(7:00 PM – 8:15 PM Mountain; 8:00 PM – 9:15 PM Central; 9:00 PM – 10:15 PM pm Eastern; 10:00 PM – 11:15 PM Atlantic.)
URL:https://thewayoftheheart.com/event/dreaming-while-awake-call-2/
LOCATION:Telebridge
CATEGORIES:Telebridge
END:VEVENT
BEGIN:VEVENT
DTSTART;TZID=America/Los_Angeles:20230404T180000
DTEND;TZID=America/Los_Angeles:20230404T191500
DTSTAMP:20260419T230532
CREATED:20230114T212721Z
LAST-MODIFIED:20230114T212721Z
UID:1661-1680631200-1680635700@thewayoftheheart.com
SUMMARY:Cultivating Resilience & Peace Gateway to The Way of the Heart (Call #1)
DESCRIPTION:6:00 PM to 7:15 PM Pacific Time(7:00 PM – 8:15 PM Mountain; 8:00 PM – 9:15 PM Central; 9:00 PM – 10:15 PM pm Eastern; 10:00 PM – 11:15 PM Atlantic.)
URL:https://thewayoftheheart.com/event/cultivating-resilience-peace-gateway-to-the-way-of-the-heart-call-1-2/
LOCATION:Telebridge
CATEGORIES:Foundation Telebridge
END:VEVENT
BEGIN:VEVENT
DTSTART;TZID=America/Los_Angeles:20230402T170000
DTEND;TZID=America/Los_Angeles:20230402T181500
DTSTAMP:20260419T230532
CREATED:20230114T211551Z
LAST-MODIFIED:20230114T211551Z
UID:1569-1680454800-1680459300@thewayoftheheart.com
SUMMARY:Inner Life Mission Immersion (Call #6)
DESCRIPTION:5:00 PM to 6:15 PM Pacific Time(6:00 PM – 7:15 PM Mountain; 7:00 PM – 8:15 PM Central; 8:00 PM – 9:15 PM pm Eastern; 9:00 PM – 10:15 PM Atlantic.)
URL:https://thewayoftheheart.com/event/inner-life-mission-immersion-call-6-3/
LOCATION:Telebridge
CATEGORIES:Telebridge
END:VEVENT
BEGIN:VEVENT
DTSTART;TZID=America/Los_Angeles:20230330T180000
DTEND;TZID=America/Los_Angeles:20230330T193000
DTSTAMP:20260419T230532
CREATED:20230114T211825Z
LAST-MODIFIED:20230114T211825Z
UID:1619-1680199200-1680204600@thewayoftheheart.com
SUMMARY:Life Mission: Masterclass to Mastermind (Call #6)
DESCRIPTION:6:00 PM to 7:30 PM Pacific Time(7:00 PM – 8:30 PM Mountain; 8:00 PM – 9:30 PM Central; 9:00 PM – 10:30 PM pm Eastern; 10:00 PM – 11:30 PM Atlantic.)
URL:https://thewayoftheheart.com/event/life-mission-masterclass-to-mastermind-call-6/
LOCATION:Zoom
CATEGORIES:Telebridge
END:VEVENT
BEGIN:VEVENT
DTSTART;TZID=America/Los_Angeles:20230329T180000
DTEND;TZID=America/Los_Angeles:20230329T191500
DTSTAMP:20260419T230532
CREATED:20230114T211509Z
LAST-MODIFIED:20230114T211509Z
UID:1556-1680112800-1680117300@thewayoftheheart.com
SUMMARY:Dreaming While Awake (Call #1)
DESCRIPTION:6:00 PM to 7:15 PM Pacific Time(7:00 PM – 8:15 PM Mountain; 8:00 PM – 9:15 PM Central; 9:00 PM – 10:15 PM pm Eastern; 10:00 PM – 11:15 PM Atlantic.)
URL:https://thewayoftheheart.com/event/dreaming-while-awake-call-1/
LOCATION:Telebridge
CATEGORIES:Telebridge
END:VEVENT
BEGIN:VEVENT
DTSTART;TZID=America/Los_Angeles:20230326T170000
DTEND;TZID=America/Los_Angeles:20230326T181500
DTSTAMP:20260419T230532
CREATED:20230114T211550Z
LAST-MODIFIED:20230114T211550Z
UID:1568-1679850000-1679854500@thewayoftheheart.com
SUMMARY:Inner Life Mission Immersion (Call #5)
DESCRIPTION:5:00 PM to 6:15 PM Pacific Time(6:00 PM – 7:15 PM Mountain; 7:00 PM – 8:15 PM Central; 8:00 PM – 9:15 PM pm Eastern; 9:00 PM – 10:15 PM Atlantic.)
URL:https://thewayoftheheart.com/event/inner-life-mission-immersion-call-5-3/
LOCATION:Telebridge
CATEGORIES:Telebridge
END:VEVENT
BEGIN:VEVENT
DTSTART;VALUE=DATE:20230324
DTEND;VALUE=DATE:20230327
DTSTAMP:20260419T230532
CREATED:20230210T183305Z
LAST-MODIFIED:20230210T183305Z
UID:1670-1679616000-1679875199@thewayoftheheart.com
SUMMARY:Level II Field Training
DESCRIPTION:
URL:https://thewayoftheheart.com/event/level-ii-field-training-5/
LOCATION:Vancouver\, British Columbia\, CA & by Zoom
CATEGORIES:Foundation class
END:VEVENT
BEGIN:VEVENT
DTSTART;TZID=America/Los_Angeles:20230319T170000
DTEND;TZID=America/Los_Angeles:20230319T181500
DTSTAMP:20260419T230532
CREATED:20230114T211550Z
LAST-MODIFIED:20230114T211550Z
UID:1567-1679245200-1679249700@thewayoftheheart.com
SUMMARY:Inner Life Mission Immersion (Call #4)
DESCRIPTION:5:00 PM to 6:15 PM Pacific Time(6:00 PM – 7:15 PM Mountain; 7:00 PM – 8:15 PM Central; 8:00 PM – 9:15 PM pm Eastern; 9:00 PM – 10:15 PM Atlantic.)
URL:https://thewayoftheheart.com/event/inner-life-mission-immersion-call-4-3/
LOCATION:Telebridge
CATEGORIES:Telebridge
END:VEVENT
BEGIN:VEVENT
DTSTART;VALUE=DATE:20230317
DTEND;VALUE=DATE:20230320
DTSTAMP:20260419T230532
CREATED:20230210T182535Z
LAST-MODIFIED:20230210T182535Z
UID:1668-1679011200-1679270399@thewayoftheheart.com
SUMMARY:Level I Field Training
DESCRIPTION:
URL:https://thewayoftheheart.com/event/level-i-field-training-5/
LOCATION:Vancouver\, British Columbia\, CA & by Zoom
CATEGORIES:Foundation class
END:VEVENT
END:VCALENDAR