BEGIN:VCALENDAR
VERSION:2.0
PRODID:-//The Way of the Heart - ECPv6.15.20//NONSGML v1.0//EN
CALSCALE:GREGORIAN
METHOD:PUBLISH
X-WR-CALNAME:The Way of the Heart
X-ORIGINAL-URL:https://thewayoftheheart.com
X-WR-CALDESC:Events for The Way of the Heart
REFRESH-INTERVAL;VALUE=DURATION:PT1H
X-Robots-Tag:noindex
X-PUBLISHED-TTL:PT1H
BEGIN:VTIMEZONE
TZID:UTC
BEGIN:STANDARD
TZOFFSETFROM:+0000
TZOFFSETTO:+0000
TZNAME:UTC
DTSTART:20250101T000000
END:STANDARD
END:VTIMEZONE
BEGIN:VTIMEZONE
TZID:America/Los_Angeles
BEGIN:DAYLIGHT
TZOFFSETFROM:-0800
TZOFFSETTO:-0700
TZNAME:PDT
DTSTART:20250309T100000
END:DAYLIGHT
BEGIN:STANDARD
TZOFFSETFROM:-0700
TZOFFSETTO:-0800
TZNAME:PST
DTSTART:20251102T090000
END:STANDARD
BEGIN:DAYLIGHT
TZOFFSETFROM:-0800
TZOFFSETTO:-0700
TZNAME:PDT
DTSTART:20260308T100000
END:DAYLIGHT
BEGIN:STANDARD
TZOFFSETFROM:-0700
TZOFFSETTO:-0800
TZNAME:PST
DTSTART:20261101T090000
END:STANDARD
BEGIN:DAYLIGHT
TZOFFSETFROM:-0800
TZOFFSETTO:-0700
TZNAME:PDT
DTSTART:20270314T100000
END:DAYLIGHT
BEGIN:STANDARD
TZOFFSETFROM:-0700
TZOFFSETTO:-0800
TZNAME:PST
DTSTART:20271107T090000
END:STANDARD
END:VTIMEZONE
BEGIN:VEVENT
DTSTART;TZID=UTC:20260802T170000
DTEND;TZID=UTC:20260802T181500
DTSTAMP:20260420T073728
CREATED:20251125T160637Z
LAST-MODIFIED:20251202T185231Z
UID:2022-1785690000-1785694500@thewayoftheheart.com
SUMMARY:Call to Love - Inner Life Mission Immersion (Call #24)
DESCRIPTION:5:00 PM to 6:15 PM Pacific Time(6:00 PM – 7:15 PM Mountain; 7:00 PM – 8:15 PM Central; 8:00 PM – 9:15 PM pm Eastern; 9:00 PM – 10:15 PM Atlantic.)
URL:https://thewayoftheheart.com/event/call-to-love-inner-life-mission-immersion-call-24-3/
LOCATION:Telebridge
CATEGORIES:Telebridge
END:VEVENT
BEGIN:VEVENT
DTSTART;TZID=America/Los_Angeles:20260805T090000
DTEND;TZID=America/Los_Angeles:20260805T094000
DTSTAMP:20260420T073728
CREATED:20251125T191346Z
LAST-MODIFIED:20251125T191347Z
UID:2176-1785920400-1785922800@thewayoftheheart.com
SUMMARY:The Art of Being and Becoming 2026 (Call #24)
DESCRIPTION:9:00 AM to 9:40 AM Pacific Time(10:00 AM – 10:40 AM Mountain; 11:00 AM – 11:40 AM Central; 12:00 PM – 12:40 PM pm Eastern; 1:00 PM – 1:40 PM Atlantic.)
URL:https://thewayoftheheart.com/event/the-art-of-being-and-becoming-2026-call-24/
LOCATION:Telebridge
CATEGORIES:Telebridge
END:VEVENT
BEGIN:VEVENT
DTSTART;TZID=America/Los_Angeles:20260805T180000
DTEND;TZID=America/Los_Angeles:20260805T191500
DTSTAMP:20260420T073728
CREATED:20251125T185808Z
LAST-MODIFIED:20251125T185808Z
UID:2121-1785952800-1785957300@thewayoftheheart.com
SUMMARY:Dreaming & the Imaginal (Call #4)
DESCRIPTION:6:00 PM to 7:15 PM Pacific Time\n(7:00 PM – 8:15 PM Mountain; 8:00 PM – 9:15 PM Central; 9:00 PM – 10:15 PM pm Eastern; 10:00 PM – 11:15 PM Atlantic.)
URL:https://thewayoftheheart.com/event/dreaming-the-imaginal-call-4/
LOCATION:Telebridge
CATEGORIES:Telebridge
END:VEVENT
BEGIN:VEVENT
DTSTART;TZID=UTC:20260809T170000
DTEND;TZID=UTC:20260809T181500
DTSTAMP:20260420T073728
CREATED:20251125T160637Z
LAST-MODIFIED:20251202T185238Z
UID:2023-1786294800-1786299300@thewayoftheheart.com
SUMMARY:Call to Love - Inner Life Mission Immersion (Call #25)
DESCRIPTION:5:00 PM to 6:15 PM Pacific Time(6:00 PM – 7:15 PM Mountain; 7:00 PM – 8:15 PM Central; 8:00 PM – 9:15 PM pm Eastern; 9:00 PM – 10:15 PM Atlantic.)
URL:https://thewayoftheheart.com/event/call-to-love-inner-life-mission-immersion-call-25-3/
LOCATION:Telebridge
CATEGORIES:Telebridge
END:VEVENT
BEGIN:VEVENT
DTSTART;TZID=America/Los_Angeles:20260812T090000
DTEND;TZID=America/Los_Angeles:20260812T094000
DTSTAMP:20260420T073728
CREATED:20251125T191347Z
LAST-MODIFIED:20251125T191347Z
UID:2177-1786525200-1786527600@thewayoftheheart.com
SUMMARY:The Art of Being and Becoming 2026 (Call #25)
DESCRIPTION:9:00 AM to 9:40 AM Pacific Time(10:00 AM – 10:40 AM Mountain; 11:00 AM – 11:40 AM Central; 12:00 PM – 12:40 PM pm Eastern; 1:00 PM – 1:40 PM Atlantic.)
URL:https://thewayoftheheart.com/event/the-art-of-being-and-becoming-2026-call-25/
LOCATION:Telebridge
CATEGORIES:Telebridge
END:VEVENT
BEGIN:VEVENT
DTSTART;TZID=America/Los_Angeles:20260812T180000
DTEND;TZID=America/Los_Angeles:20260812T191500
DTSTAMP:20260420T073728
CREATED:20251125T185808Z
LAST-MODIFIED:20251125T185808Z
UID:2122-1786557600-1786562100@thewayoftheheart.com
SUMMARY:Dreaming & the Imaginal (Call #5)
DESCRIPTION:6:00 PM to 7:15 PM Pacific Time\n(7:00 PM – 8:15 PM Mountain; 8:00 PM – 9:15 PM Central; 9:00 PM – 10:15 PM pm Eastern; 10:00 PM – 11:15 PM Atlantic.)
URL:https://thewayoftheheart.com/event/dreaming-the-imaginal-call-5/
LOCATION:Telebridge
CATEGORIES:Telebridge
END:VEVENT
BEGIN:VEVENT
DTSTART;TZID=America/Los_Angeles:20260813T180000
DTEND;TZID=America/Los_Angeles:20260813T193000
DTSTAMP:20260420T073728
CREATED:20251125T190948Z
LAST-MODIFIED:20251125T190948Z
UID:2142-1786644000-1786649400@thewayoftheheart.com
SUMMARY:Life Mission: Masterclass to Mastermind (Call #16)
DESCRIPTION:6:00 PM to 7:30 PM Pacific Time(7:00 PM – 8:30 PM Mountain; 8:00 PM – 9:30 PM Central; 9:00 PM – 10:30 PM pm Eastern; 10:00 PM – 11:30 PM Atlantic.)
URL:https://thewayoftheheart.com/event/life-mission-masterclass-to-mastermind-call-16-4/
LOCATION:Zoom
CATEGORIES:Telebridge
END:VEVENT
BEGIN:VEVENT
DTSTART;TZID=UTC:20260816T170000
DTEND;TZID=UTC:20260816T181500
DTSTAMP:20260420T073728
CREATED:20251125T160736Z
LAST-MODIFIED:20251202T185223Z
UID:2025-1786899600-1786904100@thewayoftheheart.com
SUMMARY:Call to Love - Inner Life Mission Immersion (Call #26)
DESCRIPTION:5:00 PM to 6:15 PM Pacific Time(6:00 PM – 7:15 PM Mountain; 7:00 PM – 8:15 PM Central; 8:00 PM – 9:15 PM pm Eastern; 9:00 PM – 10:15 PM Atlantic.)
URL:https://thewayoftheheart.com/event/call-to-love-inner-life-mission-immersion-call-26-2/
LOCATION:Telebridge
CATEGORIES:Telebridge
END:VEVENT
BEGIN:VEVENT
DTSTART;TZID=America/Los_Angeles:20260819T090000
DTEND;TZID=America/Los_Angeles:20260819T094000
DTSTAMP:20260420T073728
CREATED:20251125T191402Z
LAST-MODIFIED:20251125T191402Z
UID:2183-1787130000-1787132400@thewayoftheheart.com
SUMMARY:The Art of Being and Becoming 2026 (Call #26)
DESCRIPTION:9:00 AM to 9:40 AM Pacific Time(10:00 AM – 10:40 AM Mountain; 11:00 AM – 11:40 AM Central; 12:00 PM – 12:40 PM pm Eastern; 1:00 PM – 1:40 PM Atlantic.)
URL:https://thewayoftheheart.com/event/the-art-of-being-and-becoming-2026-call-26/
LOCATION:Telebridge
CATEGORIES:Telebridge
END:VEVENT
BEGIN:VEVENT
DTSTART;TZID=America/Los_Angeles:20260819T180000
DTEND;TZID=America/Los_Angeles:20260819T191500
DTSTAMP:20260420T073728
CREATED:20251125T185810Z
LAST-MODIFIED:20251125T185810Z
UID:2123-1787162400-1787166900@thewayoftheheart.com
SUMMARY:Dreaming & the Imaginal (Call #6)
DESCRIPTION:6:00 PM to 7:15 PM Pacific Time\n(7:00 PM – 8:15 PM Mountain; 8:00 PM – 9:15 PM Central; 9:00 PM – 10:15 PM pm Eastern; 10:00 PM – 11:15 PM Atlantic.)
URL:https://thewayoftheheart.com/event/dreaming-the-imaginal-call-6/
LOCATION:Telebridge
CATEGORIES:Telebridge
END:VEVENT
BEGIN:VEVENT
DTSTART;VALUE=DATE:20260822
DTEND;VALUE=DATE:20260825
DTSTAMP:20260420T073728
CREATED:20251125T154930Z
LAST-MODIFIED:20251125T155615Z
UID:1986-1787356800-1787615999@thewayoftheheart.com
SUMMARY:Awakening the Soul Inner Life Alchemical Retreat
DESCRIPTION:
URL:https://thewayoftheheart.com/event/awakening-the-soul-inner-life-alchemical-retreat/
LOCATION:Prescott\, AZ & via Zoom
CATEGORIES:Advanced class
END:VEVENT
BEGIN:VEVENT
DTSTART;TZID=UTC:20260823T170000
DTEND;TZID=UTC:20260823T181500
DTSTAMP:20260420T073728
CREATED:20251125T160736Z
LAST-MODIFIED:20251202T185210Z
UID:2026-1787504400-1787508900@thewayoftheheart.com
SUMMARY:Call to Love - Inner Life Mission Immersion (Call #27)
DESCRIPTION:5:00 PM to 6:15 PM Pacific Time(6:00 PM – 7:15 PM Mountain; 7:00 PM – 8:15 PM Central; 8:00 PM – 9:15 PM pm Eastern; 9:00 PM – 10:15 PM Atlantic.)
URL:https://thewayoftheheart.com/event/call-to-love-inner-life-mission-immersion-call-27-2/
LOCATION:Telebridge
CATEGORIES:Telebridge
END:VEVENT
BEGIN:VEVENT
DTSTART;VALUE=DATE:20260824
DTEND;VALUE=DATE:20260828
DTSTAMP:20260420T073728
CREATED:20251125T154930Z
LAST-MODIFIED:20251125T155735Z
UID:1987-1787529600-1787875199@thewayoftheheart.com
SUMMARY:Women's Alchemical Healing Retreat
DESCRIPTION:
URL:https://thewayoftheheart.com/event/womens-alchemical-healing-retreat-4/
LOCATION:Prescott\, AZ
CATEGORIES:Advanced class
END:VEVENT
BEGIN:VEVENT
DTSTART;TZID=America/Los_Angeles:20260826T090000
DTEND;TZID=America/Los_Angeles:20260826T094000
DTSTAMP:20260420T073728
CREATED:20251125T191403Z
LAST-MODIFIED:20251125T191403Z
UID:2184-1787734800-1787737200@thewayoftheheart.com
SUMMARY:The Art of Being and Becoming 2026 (Call #27)
DESCRIPTION:9:00 AM to 9:40 AM Pacific Time(10:00 AM – 10:40 AM Mountain; 11:00 AM – 11:40 AM Central; 12:00 PM – 12:40 PM pm Eastern; 1:00 PM – 1:40 PM Atlantic.)
URL:https://thewayoftheheart.com/event/the-art-of-being-and-becoming-2026-call-27/
LOCATION:Telebridge
CATEGORIES:Telebridge
END:VEVENT
BEGIN:VEVENT
DTSTART;TZID=America/Los_Angeles:20260827T180000
DTEND;TZID=America/Los_Angeles:20260827T193000
DTSTAMP:20260420T073728
CREATED:20251125T190948Z
LAST-MODIFIED:20251125T190948Z
UID:2143-1787853600-1787859000@thewayoftheheart.com
SUMMARY:Life Mission: Masterclass to Mastermind (Call #17)
DESCRIPTION:6:00 PM to 7:30 PM Pacific Time(7:00 PM – 8:30 PM Mountain; 8:00 PM – 9:30 PM Central; 9:00 PM – 10:30 PM pm Eastern; 10:00 PM – 11:30 PM Atlantic.)
URL:https://thewayoftheheart.com/event/life-mission-masterclass-to-mastermind-call-17-4/
LOCATION:Zoom
CATEGORIES:Telebridge
END:VEVENT
BEGIN:VEVENT
DTSTART;TZID=UTC:20260830T170000
DTEND;TZID=UTC:20260830T181500
DTSTAMP:20260420T073728
CREATED:20251125T160736Z
LAST-MODIFIED:20251202T185215Z
UID:2027-1788109200-1788113700@thewayoftheheart.com
SUMMARY:Call to Love - Inner Life Mission Immersion (Call #28)
DESCRIPTION:5:00 PM to 6:15 PM Pacific Time(6:00 PM – 7:15 PM Mountain; 7:00 PM – 8:15 PM Central; 8:00 PM – 9:15 PM pm Eastern; 9:00 PM – 10:15 PM Atlantic.)
URL:https://thewayoftheheart.com/event/call-to-love-inner-life-mission-immersion-call-28-2/
LOCATION:Telebridge
CATEGORIES:Telebridge
END:VEVENT
BEGIN:VEVENT
DTSTART;TZID=America/Los_Angeles:20260902T090000
DTEND;TZID=America/Los_Angeles:20260902T094000
DTSTAMP:20260420T073728
CREATED:20251125T191403Z
LAST-MODIFIED:20251125T191403Z
UID:2185-1788339600-1788342000@thewayoftheheart.com
SUMMARY:The Art of Being and Becoming 2026 (Call #28)
DESCRIPTION:9:00 AM to 9:40 AM Pacific Time(10:00 AM – 10:40 AM Mountain; 11:00 AM – 11:40 AM Central; 12:00 PM – 12:40 PM pm Eastern; 1:00 PM – 1:40 PM Atlantic.)
URL:https://thewayoftheheart.com/event/the-art-of-being-and-becoming-2026-call-28/
LOCATION:Telebridge
CATEGORIES:Telebridge
END:VEVENT
BEGIN:VEVENT
DTSTART;TZID=UTC:20260906T170000
DTEND;TZID=UTC:20260906T181500
DTSTAMP:20260420T073728
CREATED:20251125T160736Z
LAST-MODIFIED:20251202T185206Z
UID:2028-1788714000-1788718500@thewayoftheheart.com
SUMMARY:Call to Love - Inner Life Mission Immersion (Call #29)
DESCRIPTION:5:00 PM to 6:15 PM Pacific Time(6:00 PM – 7:15 PM Mountain; 7:00 PM – 8:15 PM Central; 8:00 PM – 9:15 PM pm Eastern; 9:00 PM – 10:15 PM Atlantic.)
URL:https://thewayoftheheart.com/event/call-to-love-inner-life-mission-immersion-call-29-2/
LOCATION:Telebridge
CATEGORIES:Telebridge
END:VEVENT
BEGIN:VEVENT
DTSTART;TZID=America/Los_Angeles:20260909T090000
DTEND;TZID=America/Los_Angeles:20260909T094000
DTSTAMP:20260420T073728
CREATED:20251125T191403Z
LAST-MODIFIED:20251125T191403Z
UID:2186-1788944400-1788946800@thewayoftheheart.com
SUMMARY:The Art of Being and Becoming 2026 (Call #29)
DESCRIPTION:9:00 AM to 9:40 AM Pacific Time(10:00 AM – 10:40 AM Mountain; 11:00 AM – 11:40 AM Central; 12:00 PM – 12:40 PM pm Eastern; 1:00 PM – 1:40 PM Atlantic.)
URL:https://thewayoftheheart.com/event/the-art-of-being-and-becoming-2026-call-29/
LOCATION:Telebridge
CATEGORIES:Telebridge
END:VEVENT
BEGIN:VEVENT
DTSTART;TZID=America/Los_Angeles:20260910T180000
DTEND;TZID=America/Los_Angeles:20260910T193000
DTSTAMP:20260420T073728
CREATED:20251125T190949Z
LAST-MODIFIED:20251125T190949Z
UID:2144-1789063200-1789068600@thewayoftheheart.com
SUMMARY:Life Mission: Masterclass to Mastermind (Call #18)
DESCRIPTION:6:00 PM to 7:30 PM Pacific Time(7:00 PM – 8:30 PM Mountain; 8:00 PM – 9:30 PM Central; 9:00 PM – 10:30 PM pm Eastern; 10:00 PM – 11:30 PM Atlantic.)
URL:https://thewayoftheheart.com/event/life-mission-masterclass-to-mastermind-call-18-4/
LOCATION:Zoom
CATEGORIES:Telebridge
END:VEVENT
BEGIN:VEVENT
DTSTART;TZID=UTC:20260913T170000
DTEND;TZID=UTC:20260913T181500
DTSTAMP:20260420T073728
CREATED:20251125T160736Z
LAST-MODIFIED:20251202T185057Z
UID:2029-1789318800-1789323300@thewayoftheheart.com
SUMMARY:Call to Love - Inner Life Mission Immersion (Call #30)
DESCRIPTION:5:00 PM to 6:15 PM Pacific Time(6:00 PM – 7:15 PM Mountain; 7:00 PM – 8:15 PM Central; 8:00 PM – 9:15 PM pm Eastern; 9:00 PM – 10:15 PM Atlantic.)
URL:https://thewayoftheheart.com/event/call-to-love-inner-life-mission-immersion-call-30-2/
LOCATION:Telebridge
CATEGORIES:Telebridge
END:VEVENT
BEGIN:VEVENT
DTSTART;TZID=America/Los_Angeles:20260916T090000
DTEND;TZID=America/Los_Angeles:20260916T094000
DTSTAMP:20260420T073728
CREATED:20251125T191403Z
LAST-MODIFIED:20251125T191403Z
UID:2187-1789549200-1789551600@thewayoftheheart.com
SUMMARY:The Art of Being and Becoming 2026 (Call #30)
DESCRIPTION:9:00 AM to 9:40 AM Pacific Time(10:00 AM – 10:40 AM Mountain; 11:00 AM – 11:40 AM Central; 12:00 PM – 12:40 PM pm Eastern; 1:00 PM – 1:40 PM Atlantic.)
URL:https://thewayoftheheart.com/event/the-art-of-being-and-becoming-2026-call-30/
LOCATION:Telebridge
CATEGORIES:Telebridge
END:VEVENT
BEGIN:VEVENT
DTSTART;TZID=UTC:20260920T170000
DTEND;TZID=UTC:20260920T181500
DTSTAMP:20260420T073728
CREATED:20251125T160746Z
LAST-MODIFIED:20251202T185102Z
UID:2030-1789923600-1789928100@thewayoftheheart.com
SUMMARY:Call to Love - Inner Life Mission Immersion (Call #31)
DESCRIPTION:5:00 PM to 6:15 PM Pacific Time(6:00 PM – 7:15 PM Mountain; 7:00 PM – 8:15 PM Central; 8:00 PM – 9:15 PM pm Eastern; 9:00 PM – 10:15 PM Atlantic.)
URL:https://thewayoftheheart.com/event/call-to-love-inner-life-mission-immersion-call-31-2/
LOCATION:Telebridge
CATEGORIES:Telebridge
END:VEVENT
BEGIN:VEVENT
DTSTART;TZID=America/Los_Angeles:20260923T090000
DTEND;TZID=America/Los_Angeles:20260923T094000
DTSTAMP:20260420T073728
CREATED:20251125T191417Z
LAST-MODIFIED:20251125T191417Z
UID:2188-1790154000-1790156400@thewayoftheheart.com
SUMMARY:The Art of Being and Becoming 2026 (Call #31)
DESCRIPTION:9:00 AM to 9:40 AM Pacific Time(10:00 AM – 10:40 AM Mountain; 11:00 AM – 11:40 AM Central; 12:00 PM – 12:40 PM pm Eastern; 1:00 PM – 1:40 PM Atlantic.)
URL:https://thewayoftheheart.com/event/the-art-of-being-and-becoming-2026-call-31/
LOCATION:Telebridge
CATEGORIES:Telebridge
END:VEVENT
BEGIN:VEVENT
DTSTART;TZID=America/Los_Angeles:20260924T180000
DTEND;TZID=America/Los_Angeles:20260924T193000
DTSTAMP:20260420T073728
CREATED:20251125T190949Z
LAST-MODIFIED:20251125T190949Z
UID:2145-1790272800-1790278200@thewayoftheheart.com
SUMMARY:Life Mission: Masterclass to Mastermind (Call #19)
DESCRIPTION:6:00 PM to 7:30 PM Pacific Time(7:00 PM – 8:30 PM Mountain; 8:00 PM – 9:30 PM Central; 9:00 PM – 10:30 PM pm Eastern; 10:00 PM – 11:30 PM Atlantic.)
URL:https://thewayoftheheart.com/event/life-mission-masterclass-to-mastermind-call-19-4/
LOCATION:Zoom
CATEGORIES:Telebridge
END:VEVENT
BEGIN:VEVENT
DTSTART;VALUE=DATE:20260925
DTEND;VALUE=DATE:20260928
DTSTAMP:20260420T073728
CREATED:20251125T153722Z
LAST-MODIFIED:20251125T154652Z
UID:1974-1790294400-1790553599@thewayoftheheart.com
SUMMARY:Level I Field Training
DESCRIPTION:
URL:https://thewayoftheheart.com/event/level-i-field-training-12/
LOCATION:Vancouver\, British Columbia & via Zoom\, Canada
CATEGORIES:Foundation class
END:VEVENT
BEGIN:VEVENT
DTSTART;TZID=UTC:20260927T170000
DTEND;TZID=UTC:20260927T181500
DTSTAMP:20260420T073728
CREATED:20251125T160746Z
LAST-MODIFIED:20251202T185106Z
UID:2031-1790528400-1790532900@thewayoftheheart.com
SUMMARY:Call to Love - Inner Life Mission Immersion (Call #32)
DESCRIPTION:5:00 PM to 6:15 PM Pacific Time(6:00 PM – 7:15 PM Mountain; 7:00 PM – 8:15 PM Central; 8:00 PM – 9:15 PM pm Eastern; 9:00 PM – 10:15 PM Atlantic.)
URL:https://thewayoftheheart.com/event/call-to-love-inner-life-mission-immersion-call-32-2/
LOCATION:Telebridge
CATEGORIES:Telebridge
END:VEVENT
BEGIN:VEVENT
DTSTART;TZID=America/Los_Angeles:20260930T090000
DTEND;TZID=America/Los_Angeles:20260930T094000
DTSTAMP:20260420T073728
CREATED:20251125T191418Z
LAST-MODIFIED:20251125T191418Z
UID:2189-1790758800-1790761200@thewayoftheheart.com
SUMMARY:The Art of Being and Becoming 2026 (Call #32)
DESCRIPTION:9:00 AM to 9:40 AM Pacific Time(10:00 AM – 10:40 AM Mountain; 11:00 AM – 11:40 AM Central; 12:00 PM – 12:40 PM pm Eastern; 1:00 PM – 1:40 PM Atlantic.)
URL:https://thewayoftheheart.com/event/the-art-of-being-and-becoming-2026-call-32/
LOCATION:Telebridge
CATEGORIES:Telebridge
END:VEVENT
BEGIN:VEVENT
DTSTART;VALUE=DATE:20261002
DTEND;VALUE=DATE:20261005
DTSTAMP:20260420T073728
CREATED:20251125T153724Z
LAST-MODIFIED:20251125T154228Z
UID:1975-1790899200-1791158399@thewayoftheheart.com
SUMMARY:Level II Field Training
DESCRIPTION:
URL:https://thewayoftheheart.com/event/level-ii-field-training-12/
LOCATION:Vancouver\, British Columbia & via Zoom\, Canada
CATEGORIES:Foundation class
END:VEVENT
BEGIN:VEVENT
DTSTART;TZID=UTC:20261004T170000
DTEND;TZID=UTC:20261004T181500
DTSTAMP:20260420T073728
CREATED:20251202T190509Z
LAST-MODIFIED:20251202T190509Z
UID:2370-1791133200-1791137700@thewayoftheheart.com
SUMMARY:Call to Love - Inner Life Mission Immersion (Call #33)
DESCRIPTION:5:00 PM to 6:15 PM Pacific Time\n(6:00 PM – 7:15 PM Mountain; 7:00 PM – 8:15 PM Central; 8:00 PM – 9:15 PM pm Eastern; 9:00 PM – 10:15 PM Atlantic.)
URL:https://thewayoftheheart.com/event/call-to-love-inner-life-mission-immersion-call-33-2/
LOCATION:Telebridge
CATEGORIES:Telebridge
END:VEVENT
END:VCALENDAR